Back to Multiple platform build/check report for BioC 3.16
ABCDEF[G]HIJKLMNOPQRSTUVWXYZ

This page was generated on 2022-06-29 11:04:23 -0400 (Wed, 29 Jun 2022).

HostnameOSArch (*)R versionInstalled pkgs
nebbiolo2Linux (Ubuntu 20.04.4 LTS)x86_644.2.0 Patched (2022-06-02 r82447) -- "Vigorous Calisthenics" 4343
lconwaymacOS 12.2.1 Montereyx86_644.2.0 Patched (2022-05-29 r82424) -- "Vigorous Calisthenics" 4159
Click on any hostname to see more info about the system (e.g. compilers)      (*) as reported by 'uname -p', except on Windows and Mac OS X

BUILD results for GraphAT on nebbiolo2


To the developers/maintainers of the GraphAT package:
- Please allow up to 24 hours (and sometimes 48 hours) for your latest push to git@git.bioconductor.org:packages/GraphAT.git to
reflect on this report. See How and When does the builder pull? When will my changes propagate? for more information.
- Make sure to use the following settings in order to reproduce any error or warning you see on this page.

raw results

Package 834/2124HostnameOS / ArchINSTALLBUILDCHECKBUILD BIN
GraphAT 1.69.0  (landing page)
Thomas LaFramboise
Snapshot Date: 2022-06-28 14:00:02 -0400 (Tue, 28 Jun 2022)
git_url: https://git.bioconductor.org/packages/GraphAT
git_branch: master
git_last_commit: b987522
git_last_commit_date: 2022-04-26 10:56:05 -0400 (Tue, 26 Apr 2022)
nebbiolo2Linux (Ubuntu 20.04.4 LTS) / x86_64  OK    OK    OK  UNNEEDED, same version is already published
lconwaymacOS 12.2.1 Monterey / x86_64  OK    OK    OK    OK  UNNEEDED, same version is already published

Summary

Package: GraphAT
Version: 1.69.0
Command: /home/biocbuild/bbs-3.16-bioc/R/bin/R CMD build --keep-empty-dirs --no-resave-data GraphAT
StartedAt: 2022-06-28 16:38:29 -0400 (Tue, 28 Jun 2022)
EndedAt: 2022-06-28 16:38:31 -0400 (Tue, 28 Jun 2022)
EllapsedTime: 2.6 seconds
RetCode: 0
Status:   OK  
PackageFile: GraphAT_1.69.0.tar.gz
PackageFileSize: 1.884 MiB

Command output

##############################################################################
##############################################################################
###
### Running command:
###
###   /home/biocbuild/bbs-3.16-bioc/R/bin/R CMD build --keep-empty-dirs --no-resave-data GraphAT
###
##############################################################################
##############################################################################


* checking for file ‘GraphAT/DESCRIPTION’ ... OK
* preparing ‘GraphAT’:
* checking DESCRIPTION meta-information ... OK
* checking for LF line-endings in source and make files and shell scripts
* checking for empty or unneeded directories
* looking to see if a ‘data/datalist’ file should be added
* building ‘GraphAT_1.69.0.tar.gz’