Back to Multiple platform build/check report for BioC 3.14
ABCD[E]FGHIJKLMNOPQRSTUVWXYZ

This page was generated on 2021-10-22 12:03:59 -0400 (Fri, 22 Oct 2021).

INSTALL results for EnrichmentBrowser on nebbiolo2

To the developers/maintainers of the EnrichmentBrowser package:
- Please allow up to 24 hours (and sometimes 48 hours) for your latest push to git@git.bioconductor.org:packages/EnrichmentBrowser.git to
reflect on this report. See How and When does the builder pull? When will my changes propagate? here for more information.
- Make sure to use the following settings in order to reproduce any error or warning you see on this page.

raw results

Package 577/2075HostnameOS / ArchINSTALLBUILDCHECKBUILD BIN
EnrichmentBrowser 2.23.4  (landing page)
Ludwig Geistlinger
Snapshot Date: 2021-10-21 14:50:08 -0400 (Thu, 21 Oct 2021)
git_url: https://git.bioconductor.org/packages/EnrichmentBrowser
git_branch: master
git_last_commit: b60c892
git_last_commit_date: 2021-07-21 08:55:09 -0400 (Wed, 21 Jul 2021)
nebbiolo2Linux (Ubuntu 20.04.2 LTS) / x86_64  OK    OK    OK  UNNEEDED, same version is already published
riesling1Windows Server 2019 Standard / x64  OK    OK    OK    OK  UNNEEDED, same version is already published
merida1macOS 10.14.6 Mojave / x86_64  OK    OK    OK    NA  

Summary

Package: EnrichmentBrowser
Version: 2.23.4
Command: /home/biocbuild/bbs-3.14-bioc/R/bin/R CMD INSTALL EnrichmentBrowser
StartedAt: 2021-10-21 16:19:50 -0400 (Thu, 21 Oct 2021)
EndedAt: 2021-10-21 16:20:20 -0400 (Thu, 21 Oct 2021)
EllapsedTime: 29.6 seconds
RetCode: 0
Status:   OK  

Command output

##############################################################################
##############################################################################
###
### Running command:
###
###   /home/biocbuild/bbs-3.14-bioc/R/bin/R CMD INSTALL EnrichmentBrowser
###
##############################################################################
##############################################################################


* installing to library ‘/home/biocbuild/bbs-3.14-bioc/R/library’
* installing *source* package ‘EnrichmentBrowser’ ...
** using staged installation
** R
** inst
** byte-compile and prepare package for lazy loading
** help
*** installing help indices
** building package indices
** installing vignettes
** testing if installed package can be loaded from temporary location
** testing if installed package can be loaded from final location
** testing if installed package keeps a record of temporary installation path
* DONE (EnrichmentBrowser)