Back to Multiple platform build/check report for BioC 3.15
ABCDEFGHIJKLMNOPQRSTU[V]WXYZ

This page was generated on 2021-11-27 14:04:26 -0500 (Sat, 27 Nov 2021).

All results for package viper

To the developers/maintainers of the viper package:
- Please allow up to 24 hours (and sometimes 48 hours) for your latest push to git@git.bioconductor.org:packages/viper.git to
reflect on this report. See How and When does the builder pull? When will my changes propagate? here for more information.
- Make sure to use the following settings in order to reproduce any error or warning you see on this page.

raw results

Package 2036/2068HostnameOS / ArchINSTALLBUILDCHECKBUILD BIN
viper 1.29.0  (landing page)
Mariano J Alvarez
Snapshot Date: 2021-11-26 14:50:14 -0500 (Fri, 26 Nov 2021)
git_url: https://git.bioconductor.org/packages/viper
git_branch: master
git_last_commit: 138410a
git_last_commit_date: 2021-10-26 12:12:35 -0500 (Tue, 26 Oct 2021)
nebbiolo1Linux (Ubuntu 20.04.3 LTS) / x86_64  OK    OK    WARNINGS  UNNEEDED, same version is already published
riesling1Windows Server 2019 Standard / x64  OK    OK    WARNINGS    OK  
merida1macOS 10.14.6 Mojave / x86_64  OK    OK    WARNINGS    OK  UNNEEDED, same version is already published

Results for Bioconductor software packages that depend directly on package viper

QUICK STATSOS / ArchINSTALLBUILDCHECKBUILD BIN
nebbiolo1Linux (Ubuntu 20.04.3 LTS) / x86_64
004
004
0013
riesling1Windows Server 2019 Standard / x64
004
004
0013
004
merida1macOS 10.14.6 Mojave / x86_64
004
004
0013
004
Package 1/4HostnameOS / ArchINSTALLBUILDCHECKBUILD BIN
decoupleR 2.1.0  (landing page)
Jesús Vélez
git_last_commit: ad9416b
git_last_commit_date: 2021-10-26 13:10:14 -0500
nebbiolo1Linux (Ubuntu 20.04.3 LTS) / x86_64  OK    OK    OK  UNNEEDED, same version is already published
riesling1Windows Server 2019 Standard / x64  OK    OK    OK    OK  
merida1macOS 10.14.6 Mojave / x86_64  OK    OK    OK    OK  NO, package depends on 'fgsea' which is not available
Package 2/4HostnameOS / ArchINSTALLBUILDCHECKBUILD BIN
diggit 1.27.0  (landing page)
Mariano J Alvarez
git_last_commit: a76959f
git_last_commit_date: 2021-10-26 12:19:08 -0500
nebbiolo1Linux (Ubuntu 20.04.3 LTS) / x86_64  OK    OK    WARNINGS  UNNEEDED, same version is already published
riesling1Windows Server 2019 Standard / x64  OK    OK    WARNINGS    OK  
merida1macOS 10.14.6 Mojave / x86_64  OK    OK    WARNINGS    OK  UNNEEDED, same version is already published
Package 3/4HostnameOS / ArchINSTALLBUILDCHECKBUILD BIN
RTN 2.19.0  (landing page)
Mauro Castro
git_last_commit: 98b3ed5
git_last_commit_date: 2021-10-26 12:09:15 -0500
nebbiolo1Linux (Ubuntu 20.04.3 LTS) / x86_64  OK    OK    OK  UNNEEDED, same version is already published
riesling1Windows Server 2019 Standard / x64  OK    OK    OK    OK  
merida1macOS 10.14.6 Mojave / x86_64  OK    OK    OK    OK  UNNEEDED, same version is already published
Package 4/4HostnameOS / ArchINSTALLBUILDCHECKBUILD BIN
vulcan 1.17.0  (landing page)
Federico M. Giorgi
git_last_commit: c227d1b
git_last_commit_date: 2021-10-26 12:38:33 -0500
nebbiolo1Linux (Ubuntu 20.04.3 LTS) / x86_64  OK    OK    OK  UNNEEDED, same version is already published
riesling1Windows Server 2019 Standard / x64  OK    OK    OK    OK  
merida1macOS 10.14.6 Mojave / x86_64  OK    OK    OK    OK  NO, package depends on 'ChIPpeakAnno' which is not available