Back to Multiple platform build/check report for BioC 3.16
ABCDEF[G]HIJKLMNOPQRSTUVWXYZ

This page was generated on 2022-08-17 11:04:30 -0400 (Wed, 17 Aug 2022).

HostnameOSArch (*)R versionInstalled pkgs
nebbiolo2Linux (Ubuntu 20.04.4 LTS)x86_644.2.1 (2022-06-23) -- "Funny-Looking Kid" 4379
palomino4Windows Server 2022 Datacenterx644.2.1 (2022-06-23 ucrt) -- "Funny-Looking Kid" 4161
lconwaymacOS 12.2.1 Montereyx86_644.2.1 Patched (2022-07-09 r82577) -- "Funny-Looking Kid" 4169
Click on any hostname to see more info about the system (e.g. compilers)      (*) as reported by 'uname -p', except on Windows and Mac OS X

All results for package Gviz


To the developers/maintainers of the Gviz package:
- Please allow up to 24 hours (and sometimes 48 hours) for your latest push to git@git.bioconductor.org:packages/Gviz.git to
reflect on this report. See How and When does the builder pull? When will my changes propagate? for more information.
- Make sure to use the following settings in order to reproduce any error or warning you see on this page.

raw results

Package 865/2140HostnameOS / ArchINSTALLBUILDCHECKBUILD BIN
Gviz 1.41.1  (landing page)
Robert Ivanek
Snapshot Date: 2022-08-16 14:00:04 -0400 (Tue, 16 Aug 2022)
git_url: https://git.bioconductor.org/packages/Gviz
git_branch: master
git_last_commit: 46c2a92
git_last_commit_date: 2022-05-03 13:45:09 -0400 (Tue, 03 May 2022)
nebbiolo2Linux (Ubuntu 20.04.4 LTS) / x86_64  OK    OK    OK  UNNEEDED, same version is already published
palomino4Windows Server 2022 Datacenter / x64  OK    OK    OK    OK  UNNEEDED, same version is already published
lconwaymacOS 12.2.1 Monterey / x86_64  OK    OK    OK    OK  UNNEEDED, same version is already published

Results for Bioconductor software packages that depend directly on package Gviz

QUICK STATSOS / ArchINSTALLBUILDCHECKBUILD BIN
nebbiolo2Linux (Ubuntu 20.04.4 LTS) / x86_64
0234
0333
00825
palomino4Windows Server 2022 Datacenter / x64
0233
0431
00922
0031
lconwaymacOS 12.2.1 Monterey / x86_64
0234
0531
00922
0031
Package 1/36HostnameOS / ArchINSTALLBUILDCHECKBUILD BIN
AllelicImbalance 1.35.0  (landing page)
Jesper R Gadin
git_last_commit: 54aaaa9
git_last_commit_date: 2022-04-26 11:16:30 -0400
nebbiolo2Linux (Ubuntu 20.04.4 LTS) / x86_64  OK    OK    OK  UNNEEDED, same version is already published
palomino4Windows Server 2022 Datacenter / x64  OK    OK    OK    OK  UNNEEDED, same version is already published
lconwaymacOS 12.2.1 Monterey / x86_64  OK    OK    OK    OK  UNNEEDED, same version is already published
Package 2/36HostnameOS / ArchINSTALLBUILDCHECKBUILD BIN
ASpediaFI 1.11.0  (landing page)
Doyeong Yu
git_last_commit: 808c177
git_last_commit_date: 2022-04-26 12:00:28 -0400
nebbiolo2Linux (Ubuntu 20.04.4 LTS) / x86_64  ERROR    ERROR  skipped
palomino4Windows Server 2022 Datacenter / x64  ERROR    ERROR  skippedskipped
lconwaymacOS 12.2.1 Monterey / x86_64  ERROR    ERROR  skippedskipped
Package 3/36HostnameOS / ArchINSTALLBUILDCHECKBUILD BIN
ASpli 2.7.0  (landing page)
Estefania Mancini
git_last_commit: a8319d7
git_last_commit_date: 2022-04-26 11:34:17 -0400
nebbiolo2Linux (Ubuntu 20.04.4 LTS) / x86_64  OK    OK    OK  UNNEEDED, same version is already published
palomino4Windows Server 2022 Datacenter / x64  OK    OK    OK    OK  UNNEEDED, same version is already published
lconwaymacOS 12.2.1 Monterey / x86_64  OK    OK    OK    OK  UNNEEDED, same version is already published
Package 4/36HostnameOS / ArchINSTALLBUILDCHECKBUILD BIN
biomvRCNS 1.37.0  (landing page)
Yang Du
git_last_commit: 5bf3fad
git_last_commit_date: 2022-04-26 11:13:39 -0400
nebbiolo2Linux (Ubuntu 20.04.4 LTS) / x86_64  OK    OK    OK  UNNEEDED, same version is already published
palomino4Windows Server 2022 Datacenter / x64  OK    OK    OK    OK  UNNEEDED, same version is already published
lconwaymacOS 12.2.1 Monterey / x86_64  OK    OK    OK    OK  UNNEEDED, same version is already published
Package 5/36HostnameOS / ArchINSTALLBUILDCHECKBUILD BIN
CAGEfightR 1.17.0  (landing page)
Malte Thodberg
git_last_commit: d7cc6aa
git_last_commit_date: 2022-04-26 11:49:10 -0400
nebbiolo2Linux (Ubuntu 20.04.4 LTS) / x86_64  OK    OK    OK  UNNEEDED, same version is already published
palomino4Windows Server 2022 Datacenter / x64  OK    OK    OK    OK  UNNEEDED, same version is already published
lconwaymacOS 12.2.1 Monterey / x86_64  OK    OK    OK    OK  UNNEEDED, same version is already published
Package 6/36HostnameOS / ArchINSTALLBUILDCHECKBUILD BIN
chimeraviz 1.23.0  (landing page)
Stian Lågstad
git_last_commit: 43ccf13
git_last_commit_date: 2022-06-16 08:24:37 -0400
nebbiolo2Linux (Ubuntu 20.04.4 LTS) / x86_64  OK    OK    OK  UNNEEDED, same version is already published
palomino4Windows Server 2022 Datacenter / x64  OK    OK    OK    OK  UNNEEDED, same version is already published
lconwaymacOS 12.2.1 Monterey / x86_64  OK    OK    OK    OK  UNNEEDED, same version is already published
Package 7/36HostnameOS / ArchINSTALLBUILDCHECKBUILD BIN
cicero 1.15.0  (landing page)
Hannah Pliner
git_last_commit: 535215c
git_last_commit_date: 2022-04-26 11:51:19 -0400
nebbiolo2Linux (Ubuntu 20.04.4 LTS) / x86_64  OK    OK    OK  UNNEEDED, same version is already published
palomino4Windows Server 2022 Datacenter / x64  OK    OK    OK    OK  UNNEEDED, same version is already published
lconwaymacOS 12.2.1 Monterey / x86_64  OK    OK    OK    OK  UNNEEDED, same version is already published
Package 8/36HostnameOS / ArchINSTALLBUILDCHECKBUILD BIN
comapr 1.1.0  (landing page)
Ruqian Lyu
git_last_commit: ac230ba
git_last_commit_date: 2022-04-26 12:20:40 -0400
nebbiolo2Linux (Ubuntu 20.04.4 LTS) / x86_64  OK    OK    OK  UNNEEDED, same version is already published
palomino4Windows Server 2022 Datacenter / x64  OK    OK    OK    OK  UNNEEDED, same version is already published
lconwaymacOS 12.2.1 Monterey / x86_64  OK    OK    OK    OK  UNNEEDED, same version is already published
Package 9/36HostnameOS / ArchINSTALLBUILDCHECKBUILD BIN
coMET 1.29.0  (landing page)
Tiphaine Martin
git_last_commit: e671910
git_last_commit_date: 2022-04-26 11:23:19 -0400
nebbiolo2Linux (Ubuntu 20.04.4 LTS) / x86_64  ERROR    ERROR  skipped
palomino4Windows Server 2022 Datacenter / x64  ERROR    ERROR  skippedskipped
lconwaymacOS 12.2.1 Monterey / x86_64  ERROR    ERROR  skippedskipped
Package 10/36HostnameOS / ArchINSTALLBUILDCHECKBUILD BIN
cummeRbund 2.39.0  (landing page)
Loyal A. Goff
git_last_commit: a9475ff
git_last_commit_date: 2022-04-26 11:09:10 -0400
nebbiolo2Linux (Ubuntu 20.04.4 LTS) / x86_64  OK    OK    WARNINGS  UNNEEDED, same version is already published
palomino4Windows Server 2022 Datacenter / x64  OK    OK    WARNINGS    OK  UNNEEDED, same version is already published
lconwaymacOS 12.2.1 Monterey / x86_64  OK    OK    WARNINGS    OK  UNNEEDED, same version is already published
Package 11/36HostnameOS / ArchINSTALLBUILDCHECKBUILD BIN
DMRcate 2.11.0  (landing page)
Tim Peters
git_last_commit: 95d94dc
git_last_commit_date: 2022-04-26 11:18:02 -0400
nebbiolo2Linux (Ubuntu 20.04.4 LTS) / x86_64  OK    OK    OK  UNNEEDED, same version is already published
palomino4Windows Server 2022 Datacenter / x64  OK    OK    OK    OK  UNNEEDED, same version is already published
lconwaymacOS 12.2.1 Monterey / x86_64  OK    OK    OK    OK  UNNEEDED, same version is already published
Package 12/36HostnameOS / ArchINSTALLBUILDCHECKBUILD BIN
DMRforPairs 1.33.0  (landing page)
Martin Rijlaarsdam
git_last_commit: dbca699
git_last_commit_date: 2022-04-26 11:19:22 -0400
nebbiolo2Linux (Ubuntu 20.04.4 LTS) / x86_64  OK    OK    OK  UNNEEDED, same version is already published
palomino4Windows Server 2022 Datacenter / x64  OK    OK    OK    OK  UNNEEDED, same version is already published
lconwaymacOS 12.2.1 Monterey / x86_64  OK    OK    OK    OK  UNNEEDED, same version is already published
Package 13/36HostnameOS / ArchINSTALLBUILDCHECKBUILD BIN
ELMER 2.21.0  (landing page)
Tiago Chedraoui Silva
git_last_commit: d81f82f
git_last_commit_date: 2022-04-26 11:25:45 -0400
nebbiolo2Linux (Ubuntu 20.04.4 LTS) / x86_64  OK    OK    WARNINGS  UNNEEDED, same version is already published
palomino4Windows Server 2022 Datacenter / x64  OK    OK    WARNINGS    OK  UNNEEDED, same version is already published
lconwaymacOS 12.2.1 Monterey / x86_64  OK    OK    WARNINGS    OK  UNNEEDED, same version is already published
Package 14/36HostnameOS / ArchINSTALLBUILDCHECKBUILD BIN
extraChIPs 1.1.3  (landing page)
Stephen Pederson
git_last_commit: e39edd6
git_last_commit_date: 2022-08-01 09:22:21 -0400
nebbiolo2Linux (Ubuntu 20.04.4 LTS) / x86_64  OK    OK    OK  UNNEEDED, same version is already published
palomino4Windows Server 2022 Datacenter / x64  OK    OK    OK    OK  UNNEEDED, same version is already published
lconwaymacOS 12.2.1 Monterey / x86_64  OK    OK    OK    OK  UNNEEDED, same version is already published
Package 15/36HostnameOS / ArchINSTALLBUILDCHECKBUILD BIN
GeneStructureTools 1.17.0  (landing page)
Beth Signal
git_last_commit: d9ce481
git_last_commit_date: 2022-04-26 11:47:45 -0400
nebbiolo2Linux (Ubuntu 20.04.4 LTS) / x86_64  OK    OK    OK  UNNEEDED, same version is already published
palomino4Windows Server 2022 Datacenter / x64  OK    OK    OK    OK  UNNEEDED, same version is already published
lconwaymacOS 12.2.1 Monterey / x86_64  OK    OK    OK    OK  UNNEEDED, same version is already published
Package 16/36HostnameOS / ArchINSTALLBUILDCHECKBUILD BIN
GenomicInteractions 1.31.0  (landing page)
Liz Ing-Simmons
git_last_commit: 39f28aa
git_last_commit_date: 2022-04-26 11:21:41 -0400
nebbiolo2Linux (Ubuntu 20.04.4 LTS) / x86_64  OK    OK    OK  UNNEEDED, same version is already published
palomino4Windows Server 2022 Datacenter / x64  OK    OK    OK    OK  UNNEEDED, same version is already published
lconwaymacOS 12.2.1 Monterey / x86_64  OK    OK    OK    OK  UNNEEDED, same version is already published
Package 17/36HostnameOS / ArchINSTALLBUILDCHECKBUILD BIN
maser 1.15.0  (landing page)
Diogo F.T. Veiga
git_last_commit: 33d7224
git_last_commit_date: 2022-04-26 11:49:25 -0400
nebbiolo2Linux (Ubuntu 20.04.4 LTS) / x86_64  OK    ERROR  skipped
palomino4Windows Server 2022 Datacenter / x64  OK    ERROR  skippedskipped
lconwaymacOS 12.2.1 Monterey / x86_64  OK    ERROR  skippedskipped
Package 18/36HostnameOS / ArchINSTALLBUILDCHECKBUILD BIN
mCSEA 1.17.0  (landing page)
Jordi Martorell-Marugán
git_last_commit: b0be5bf
git_last_commit_date: 2022-04-26 11:46:27 -0400
nebbiolo2Linux (Ubuntu 20.04.4 LTS) / x86_64  OK    OK    OK  UNNEEDED, same version is already published
palomino4Windows Server 2022 Datacenter / x64  OK    OK    OK    OK  UNNEEDED, same version is already published
lconwaymacOS 12.2.1 Monterey / x86_64  OK    OK    OK    OK  UNNEEDED, same version is already published
Package 19/36HostnameOS / ArchINSTALLBUILDCHECKBUILD BIN
MEAL 1.27.0  (landing page)
Xavier Escribà Montagut
git_last_commit: 2f7254b
git_last_commit_date: 2022-04-26 11:27:39 -0400
nebbiolo2Linux (Ubuntu 20.04.4 LTS) / x86_64  OK    OK    WARNINGS  UNNEEDED, same version is already published
palomino4Windows Server 2022 Datacenter / x64  OK    ERROR  skippedskipped
lconwaymacOS 12.2.1 Monterey / x86_64  OK    OK    WARNINGS    OK  UNNEEDED, same version is already published
Package 20/36HostnameOS / ArchINSTALLBUILDCHECKBUILD BIN
methylPipe 1.31.0  (landing page)
Kamal Kishore
git_last_commit: 4cb69fb
git_last_commit_date: 2022-04-26 11:21:13 -0400
nebbiolo2Linux (Ubuntu 20.04.4 LTS) / x86_64  OK    OK    WARNINGS  UNNEEDED, same version is already published
palomino4Windows Server 2022 Datacenter / x64  OK    OK    WARNINGS    OK  UNNEEDED, same version is already published
lconwaymacOS 12.2.1 Monterey / x86_64  OK    OK    WARNINGS    OK  UNNEEDED, same version is already published
Package 21/36HostnameOS / ArchINSTALLBUILDCHECKBUILD BIN
motifbreakR 2.11.0  (landing page)
Simon Gert Coetzee
git_last_commit: b7e932f
git_last_commit_date: 2022-04-26 11:27:11 -0400
nebbiolo2Linux (Ubuntu 20.04.4 LTS) / x86_64  OK    OK    OK  UNNEEDED, same version is already published
palomino4Windows Server 2022 Datacenter / x64  OK    OK    WARNINGS    OK  UNNEEDED, same version is already published
lconwaymacOS 12.2.1 Monterey / x86_64  OK    ERROR  skippedskipped
Package 22/36HostnameOS / ArchINSTALLBUILDCHECKBUILD BIN
OGRE 1.1.0  (landing page)
Sven Berres
git_last_commit: f9ec12d
git_last_commit_date: 2022-04-26 12:20:43 -0400
nebbiolo2Linux (Ubuntu 20.04.4 LTS) / x86_64  OK    OK    OK  UNNEEDED, same version is already published
palomino4Windows Server 2022 Datacenter / x64  OK    OK    OK    OK  UNNEEDED, same version is already published
lconwaymacOS 12.2.1 Monterey / x86_64  OK    OK    OK    OK  UNNEEDED, same version is already published
Package 23/36HostnameOS / ArchINSTALLBUILDCHECKBUILD BIN
PING 2.41.0  (landing page)
Renan Sauteraud
git_last_commit: a4868e0
git_last_commit_date: 2022-04-26 11:10:24 -0400
nebbiolo2Linux (Ubuntu 20.04.4 LTS) / x86_64  OK    OK    WARNINGS  UNNEEDED, same version is already published
palomino4Windows Server 2022 Datacenter / x64  OK    OK    WARNINGS    OK  UNNEEDED, same version is already published
lconwaymacOS 12.2.1 Monterey / x86_64  OK    OK    WARNINGS    OK  UNNEEDED, same version is already published
Package 24/36HostnameOS / ArchINSTALLBUILDCHECKBUILD BIN
primirTSS 1.15.0  (landing page)
Pumin Li
git_last_commit: c4f9ad5
git_last_commit_date: 2022-04-26 11:50:49 -0400
nebbiolo2Linux (Ubuntu 20.04.4 LTS) / x86_64  OK    OK    WARNINGS  UNNEEDED, same version is already published
palomino4Windows Server 2022 Datacenter / x64  OK    OK    WARNINGS    OK  UNNEEDED, same version is already published
lconwaymacOS 12.2.1 Monterey / x86_64  OK    OK    WARNINGS    OK  UNNEEDED, same version is already published
Package 25/36HostnameOS / ArchINSTALLBUILDCHECKBUILD BIN
Pviz 1.31.0  (landing page)
Renan Sauteraud
git_last_commit: 6ebfa6a
git_last_commit_date: 2022-04-26 11:20:26 -0400
nebbiolo2Linux (Ubuntu 20.04.4 LTS) / x86_64  OK    OK    WARNINGS  UNNEEDED, same version is already published
palomino4Windows Server 2022 Datacenter / x64  OK    OK    WARNINGS    OK  UNNEEDED, same version is already published
lconwaymacOS 12.2.1 Monterey / x86_64  OK    OK    WARNINGS    OK  UNNEEDED, same version is already published
Package 26/36HostnameOS / ArchINSTALLBUILDCHECKBUILD BIN
regutools 1.9.0  (landing page)
Joselyn Chavez
git_last_commit: 01322b5
git_last_commit_date: 2022-04-26 12:05:06 -0400
nebbiolo2Linux (Ubuntu 20.04.4 LTS) / x86_64  OK    OK    OK  UNNEEDED, same version is already published
palomino4Windows Server 2022 Datacenter / x64  OK    OK    OK    OK  UNNEEDED, same version is already published
lconwaymacOS 12.2.1 Monterey / x86_64  OK    OK    OK    OK  UNNEEDED, same version is already published
Package 27/36HostnameOS / ArchINSTALLBUILDCHECKBUILD BIN
RNAmodR 1.11.0  (landing page)
Felix G.M. Ernst
git_last_commit: 44f8760
git_last_commit_date: 2022-04-26 11:56:38 -0400
nebbiolo2Linux (Ubuntu 20.04.4 LTS) / x86_64  OK    OK    OK  UNNEEDED, same version is already published
palomino4Windows Server 2022 Datacenter / x64  OK    OK    OK    OK  UNNEEDED, same version is already published
lconwaymacOS 12.2.1 Monterey / x86_64  OK    OK    OK    OK  UNNEEDED, same version is already published
Package 28/36HostnameOS / ArchINSTALLBUILDCHECKBUILD BIN
RNAmodR.AlkAnilineSeq 1.11.0  (landing page)
Felix G.M. Ernst
git_last_commit: 96bf133
git_last_commit_date: 2022-04-26 11:56:47 -0400
nebbiolo2Linux (Ubuntu 20.04.4 LTS) / x86_64  OK    OK    OK  UNNEEDED, same version is already published
palomino4Windows Server 2022 Datacenter / x64  OK    OK    OK    OK  UNNEEDED, same version is already published
lconwaymacOS 12.2.1 Monterey / x86_64  OK    OK    OK    OK  UNNEEDED, same version is already published
Package 29/36HostnameOS / ArchINSTALLBUILDCHECKBUILD BIN
RNAmodR.RiboMethSeq 1.11.0  (landing page)
Felix G.M. Ernst
git_last_commit: a533dcd
git_last_commit_date: 2022-04-26 11:56:43 -0400
nebbiolo2Linux (Ubuntu 20.04.4 LTS) / x86_64  OK    OK    OK  UNNEEDED, same version is already published
palomino4Windows Server 2022 Datacenter / x64  OK    OK    OK    OK  UNNEEDED, same version is already published
lconwaymacOS 12.2.1 Monterey / x86_64  OK    OK    OK    OK  UNNEEDED, same version is already published
Package 30/36HostnameOS / ArchINSTALLBUILDCHECKBUILD BIN
SPLINTER 1.23.0  (landing page)
Diana Low
git_last_commit: dc4c7c5
git_last_commit_date: 2022-04-26 11:35:57 -0400
nebbiolo2Linux (Ubuntu 20.04.4 LTS) / x86_64  OK    OK    OK  UNNEEDED, same version is already published
palomino4Windows Server 2022 Datacenter / x64  OK    OK    WARNINGS    OK  UNNEEDED, same version is already published
lconwaymacOS 12.2.1 Monterey / x86_64  OK    ERROR  skippedskipped
Package 31/36HostnameOS / ArchINSTALLBUILDCHECKBUILD BIN
srnadiff 1.17.0  (landing page)
Zytnicki Matthias
git_last_commit: ae605e1
git_last_commit_date: 2022-04-26 11:46:44 -0400
nebbiolo2Linux (Ubuntu 20.04.4 LTS) / x86_64  OK    OK    WARNINGS  UNNEEDED, same version is already published
palomino4Windows Server 2022 Datacenter / x64  OK    OK    WARNINGS    OK  UNNEEDED, same version is already published
lconwaymacOS 12.2.1 Monterey / x86_64  OK    OK    WARNINGS    OK  UNNEEDED, same version is already published
Package 32/36HostnameOS / ArchINSTALLBUILDCHECKBUILD BIN
STAN 2.25.0  (landing page)
Rafael Campos-Martin
git_last_commit: 4d644f5
git_last_commit_date: 2022-04-26 11:20:44 -0400
nebbiolo2Linux (Ubuntu 20.04.4 LTS) / x86_64  OK    OK    OK  UNNEEDED, same version is already published
palomino4Windows Server 2022 Datacenter / x64  OK    OK    OK    OK  UNNEEDED, same version is already published
lconwaymacOS 12.2.1 Monterey / x86_64  OK    OK    WARNINGS    OK  UNNEEDED, same version is already published
Package 33/36HostnameOS / ArchINSTALLBUILDCHECKBUILD BIN
trackViewer 1.33.5  (landing page)
Jianhong Ou
git_last_commit: c2f190b
git_last_commit_date: 2022-07-18 21:21:05 -0400
nebbiolo2Linux (Ubuntu 20.04.4 LTS) / x86_64  OK    OK    OK  UNNEEDED, same version is already published
palomino4Windows Server 2022 Datacenter / x64  OK    OK    OK    OK  UNNEEDED, same version is already published
lconwaymacOS 12.2.1 Monterey / x86_64  OK    OK    OK    OK  UNNEEDED, same version is already published
Package 34/36HostnameOS / ArchINSTALLBUILDCHECKBUILD BIN
TVTB 1.23.0  (landing page)
Kevin Rue-Albrecht
git_last_commit: cfea192
git_last_commit_date: 2022-04-26 11:37:05 -0400
nebbiolo2Linux (Ubuntu 20.04.4 LTS) / x86_64  OK    OK    OK  NO, package depends on 'ensemblVEP' which is not available
palomino4Windows Server 2022 Datacenter / x64... NOT SUPPORTED ...
lconwaymacOS 12.2.1 Monterey / x86_64  OK    OK    OK    OK  NO, package depends on 'ensemblVEP' which is not available
Package 35/36HostnameOS / ArchINSTALLBUILDCHECKBUILD BIN
uncoverappLib 1.7.0  (landing page)
Emanuela Iovino
git_last_commit: 423c8c5
git_last_commit_date: 2022-04-26 12:07:14 -0400
nebbiolo2Linux (Ubuntu 20.04.4 LTS) / x86_64  OK    OK    OK  UNNEEDED, same version is already published
palomino4Windows Server 2022 Datacenter / x64  OK    OK    OK    OK  UNNEEDED, same version is already published
lconwaymacOS 12.2.1 Monterey / x86_64  OK    OK    OK    OK  UNNEEDED, same version is already published
Package 36/36HostnameOS / ArchINSTALLBUILDCHECKBUILD BIN
VariantFiltering 1.33.0  (landing page)
Robert Castelo
git_last_commit: d9fa4db
git_last_commit_date: 2022-04-26 11:19:20 -0400
nebbiolo2Linux (Ubuntu 20.04.4 LTS) / x86_64  OK    OK    OK  UNNEEDED, same version is already published
palomino4Windows Server 2022 Datacenter / x64  OK    OK    OK    OK  UNNEEDED, same version is already published
lconwaymacOS 12.2.1 Monterey / x86_64  OK    OK    OK    OK  UNNEEDED, same version is already published