Back to Build/check report for BioC 3.16
ABCDEFGHIJKL[M]NOPQRSTUVWXYZ

This page was generated on 2022-06-27 11:05:24 -0400 (Mon, 27 Jun 2022).

HostnameOSArch (*)R versionInstalled pkgs
nebbiolo2Linux (Ubuntu 20.04.4 LTS)x86_644.2.0 Patched (2022-06-02 r82447) -- "Vigorous Calisthenics" 4331
Click on any hostname to see more info about the system (e.g. compilers)      (*) as reported by 'uname -p', except on Windows and Mac OS X

BUILD results for mirIntegrator on nebbiolo2


To the developers/maintainers of the mirIntegrator package:
- Please allow up to 24 hours (and sometimes 48 hours) for your latest push to git@git.bioconductor.org:packages/mirIntegrator.git to
reflect on this report. See How and When does the builder pull? When will my changes propagate? for more information.
- Make sure to use the following settings in order to reproduce any error or warning you see on this page.

raw results

Package 1182/2118HostnameOS / ArchINSTALLBUILDCHECKBUILD BIN
mirIntegrator 1.27.0  (landing page)
Diana Diaz
Snapshot Date: 2022-06-26 14:00:03 -0400 (Sun, 26 Jun 2022)
git_url: https://git.bioconductor.org/packages/mirIntegrator
git_branch: master
git_last_commit: 8c8e0d8
git_last_commit_date: 2022-04-26 11:25:53 -0400 (Tue, 26 Apr 2022)
nebbiolo2Linux (Ubuntu 20.04.4 LTS) / x86_64  OK    OK    OK  UNNEEDED, same version is already published

Summary

Package: mirIntegrator
Version: 1.27.0
Command: /home/biocbuild/bbs-3.16-bioc/R/bin/R CMD build --keep-empty-dirs --no-resave-data mirIntegrator
StartedAt: 2022-06-26 16:54:55 -0400 (Sun, 26 Jun 2022)
EndedAt: 2022-06-26 16:55:41 -0400 (Sun, 26 Jun 2022)
EllapsedTime: 45.9 seconds
RetCode: 0
Status:   OK  
PackageFile: mirIntegrator_1.27.0.tar.gz
PackageFileSize: 1.671 MiB

Command output

##############################################################################
##############################################################################
###
### Running command:
###
###   /home/biocbuild/bbs-3.16-bioc/R/bin/R CMD build --keep-empty-dirs --no-resave-data mirIntegrator
###
##############################################################################
##############################################################################


* checking for file ‘mirIntegrator/DESCRIPTION’ ... OK
* preparing ‘mirIntegrator’:
* checking DESCRIPTION meta-information ... OK
* installing the package to build vignettes
* creating vignettes ... OK
* checking for LF line-endings in source and make files and shell scripts
* checking for empty or unneeded directories
* looking to see if a ‘data/datalist’ file should be added
* building ‘mirIntegrator_1.27.0.tar.gz’