Back to Multiple platform build/check report for BioC 3.15
ABCDEFGHIJKLMNOPQ[R]STUVWXYZ

This page was generated on 2021-11-27 14:04:18 -0500 (Sat, 27 Nov 2021).

All results for package RGMQL

To the developers/maintainers of the RGMQL package:
- Please allow up to 24 hours (and sometimes 48 hours) for your latest push to git@git.bioconductor.org:packages/RGMQL.git to
reflect on this report. See How and When does the builder pull? When will my changes propagate? here for more information.
- Make sure to use the following settings in order to reproduce any error or warning you see on this page.

raw results

Package 1579/2068HostnameOS / ArchINSTALLBUILDCHECKBUILD BIN
RGMQL 1.15.1  (landing page)
Simone Pallotta
Snapshot Date: 2021-11-26 14:50:14 -0500 (Fri, 26 Nov 2021)
git_url: https://git.bioconductor.org/packages/RGMQL
git_branch: master
git_last_commit: 9b0cb5a
git_last_commit_date: 2021-11-18 03:32:22 -0500 (Thu, 18 Nov 2021)
nebbiolo1Linux (Ubuntu 20.04.3 LTS) / x86_64  OK    OK    WARNINGS  UNNEEDED, same version is already published
riesling1Windows Server 2019 Standard / x64  OK    OK    WARNINGS    OK  
merida1macOS 10.14.6 Mojave / x86_64... NOT SUPPORTED ...