Back to Multiple platform build/check report for BioC 3.17
ABCD[E]FGHIJKLMNOPQRSTUVWXYZ

This page was generated on 2022-12-05 11:04:31 -0500 (Mon, 05 Dec 2022).

HostnameOSArch (*)R versionInstalled pkgs
nebbiolo1Linux (Ubuntu 22.04.1 LTS)x86_64R Under development (unstable) (2022-11-30 r83393) -- "Unsuffered Consequences" 4277
palomino3Windows Server 2022 Datacenterx64R Under development (unstable) (2022-11-30 r83393 ucrt) -- "Unsuffered Consequences" 4193
merida1macOS 10.14.6 Mojavex86_64R Under development (unstable) (2022-11-30 r83393) -- "Unsuffered Consequences" 4236
Click on any hostname to see more info about the system (e.g. compilers)      (*) as reported by 'uname -p', except on Windows and Mac OS X

All results for package epivizrData


To the developers/maintainers of the epivizrData package:
- Please allow up to 24 hours (and sometimes 48 hours) for your latest push to git@git.bioconductor.org:packages/epivizrData.git to
reflect on this report. See How and When does the builder pull? When will my changes propagate? for more information.
- Make sure to use the following settings in order to reproduce any error or warning you see on this page.

raw results

Package 620/2155HostnameOS / ArchINSTALLBUILDCHECKBUILD BIN
epivizrData 1.27.0  (landing page)
Hector Corrada Bravo
Snapshot Date: 2022-12-04 14:00:12 -0500 (Sun, 04 Dec 2022)
git_url: https://git.bioconductor.org/packages/epivizrData
git_branch: master
git_last_commit: 4065423
git_last_commit_date: 2022-11-01 11:13:39 -0500 (Tue, 01 Nov 2022)
nebbiolo1Linux (Ubuntu 22.04.1 LTS) / x86_64  OK    OK    OK  UNNEEDED, same version is already published
palomino3Windows Server 2022 Datacenter / x64  OK    OK    OK    OK  NO, package depends on 'GenomicRanges' which is not available
merida1macOS 10.14.6 Mojave / x86_64  OK    OK    OK    OK  NO, package depends on 'OrganismDbi' which is not available

Results for Bioconductor software packages that depend directly on package epivizrData

QUICK STATSOS / ArchINSTALLBUILDCHECKBUILD BIN
nebbiolo1Linux (Ubuntu 22.04.1 LTS) / x86_64
004
013
0003
palomino3Windows Server 2022 Datacenter / x64
004
013
0003
003
merida1macOS 10.14.6 Mojave / x86_64
004
013
0003
003
Package 1/4HostnameOS / ArchINSTALLBUILDCHECKBUILD BIN
epivizr 2.29.0  (landing page)
Hector Corrada Bravo
git_last_commit: a0e3a4b
git_last_commit_date: 2022-11-01 11:08:48 -0500
nebbiolo1Linux (Ubuntu 22.04.1 LTS) / x86_64  OK    OK    OK  UNNEEDED, same version is already published
palomino3Windows Server 2022 Datacenter / x64  OK    OK    OK    OK  NO, package depends on 'epivizrData' which is not available
merida1macOS 10.14.6 Mojave / x86_64  OK    OK    OK    OK  NO, package depends on 'epivizrData' which is not available
Package 2/4HostnameOS / ArchINSTALLBUILDCHECKBUILD BIN
epivizrChart 1.21.0  (landing page)
Hector Corrada Bravo
git_last_commit: f5a862c
git_last_commit_date: 2022-11-01 11:16:00 -0500
nebbiolo1Linux (Ubuntu 22.04.1 LTS) / x86_64  OK    OK    OK  UNNEEDED, same version is already published
palomino3Windows Server 2022 Datacenter / x64  OK    OK    OK    OK  NO, package depends on 'epivizrData' which is not available
merida1macOS 10.14.6 Mojave / x86_64  OK    OK    OK    OK  NO, package depends on 'epivizrData' which is not available
Package 3/4HostnameOS / ArchINSTALLBUILDCHECKBUILD BIN
metavizr 1.23.0  (landing page)
Hector Corrada Bravo
git_last_commit: 335f07f
git_last_commit_date: 2022-11-01 11:15:37 -0500
nebbiolo1Linux (Ubuntu 22.04.1 LTS) / x86_64  OK    ERROR  skipped
palomino3Windows Server 2022 Datacenter / x64  OK    ERROR  skippedskipped
merida1macOS 10.14.6 Mojave / x86_64  OK    ERROR  skippedskipped
Package 4/4HostnameOS / ArchINSTALLBUILDCHECKBUILD BIN
scTreeViz 1.5.0  (landing page)
Jayaram Kancherla
git_last_commit: 502260a
git_last_commit_date: 2022-11-01 11:25:46 -0500
nebbiolo1Linux (Ubuntu 22.04.1 LTS) / x86_64  OK    OK    OK  UNNEEDED, same version is already published
palomino3Windows Server 2022 Datacenter / x64  OK    OK    OK    OK  NO, package depends on 'epivizr' which is not available
merida1macOS 10.14.6 Mojave / x86_64  OK    OK    OK    OK  NO, package depends on 'epivizr' which is not available