Back to Multiple platform build/check report for BioC 3.19:   simplified   long
AB[C]DEFGHIJKLMNOPQRSTUVWXYZ

This page was generated on 2024-02-22 12:47:38 -0500 (Thu, 22 Feb 2024).

HostnameOSArch (*)R versionInstalled pkgs
nebbiolo1Linux (Ubuntu 22.04.3 LTS)x86_64R Under development (unstable) (2024-01-16 r85808) -- "Unsuffered Consequences" 4657
palomino3Windows Server 2022 Datacenterx64R Under development (unstable) (2024-01-14 r85805 ucrt) -- "Unsuffered Consequences" 4397
Click on any hostname to see more info about the system (e.g. compilers)      (*) as reported by 'uname -p', except on Windows and Mac OS X

All results for package crisprBase


To the developers/maintainers of the crisprBase package:
- Allow up to 24 hours (and sometimes 48 hours) for your latest push to git@git.bioconductor.org:packages/crisprBase.git to reflect on this report. See Troubleshooting Build Report for more information.
- Use the following Renviron settings to reproduce errors and warnings.
- If 'R CMD check' started to fail recently on the Linux builder(s) over a missing dependency, add the missing dependency to 'Suggests:' in your DESCRIPTION file. See Renviron.bioc for more information.

raw results

Package 454/2244HostnameOS / ArchINSTALLBUILDCHECKBUILD BIN
crisprBase 1.7.1  (landing page)
Jean-Philippe Fortin
Snapshot Date: 2024-02-21 14:10:10 -0500 (Wed, 21 Feb 2024)
git_url: https://git.bioconductor.org/packages/crisprBase
git_branch: devel
git_last_commit: 7f5207a
git_last_commit_date: 2024-02-02 13:41:25 -0500 (Fri, 02 Feb 2024)
nebbiolo1Linux (Ubuntu 22.04.3 LTS) / x86_64  OK    OK    OK  UNNEEDED, same version is already published
palomino3Windows Server 2022 Datacenter / x64  OK    OK    OK    OK  UNNEEDED, same version is already published

Results for Bioconductor software packages that depend directly on package crisprBase

QUICK STATSOS / ArchINSTALLBUILDCHECKBUILD BIN
nebbiolo1Linux (Ubuntu 22.04.3 LTS) / x86_64
005
005
0005
palomino3Windows Server 2022 Datacenter / x64
004
004
0004
004
Package 1/5HostnameOS / ArchINSTALLBUILDCHECKBUILD BIN
crisprBowtie 1.7.0  (landing page)
Jean-Philippe Fortin
git_last_commit: 801118b
git_last_commit_date: 2023-10-24 11:39:40 -0500
nebbiolo1Linux (Ubuntu 22.04.3 LTS) / x86_64  OK    OK    OK  UNNEEDED, same version is already published
palomino3Windows Server 2022 Datacenter / x64  OK    OK    OK    OK  UNNEEDED, same version is already published
Package 2/5HostnameOS / ArchINSTALLBUILDCHECKBUILD BIN
crisprBwa 1.7.0  (landing page)
Jean-Philippe Fortin
git_last_commit: 5009408
git_last_commit_date: 2023-10-24 11:41:41 -0500
nebbiolo1Linux (Ubuntu 22.04.3 LTS) / x86_64  OK    OK    OK  UNNEEDED, same version is already published
palomino3Windows Server 2022 Datacenter / x64... NOT SUPPORTED ...
Package 3/5HostnameOS / ArchINSTALLBUILDCHECKBUILD BIN
crisprDesign 1.5.1  (landing page)
Jean-Philippe Fortin
git_last_commit: 4ff15ad
git_last_commit_date: 2024-02-01 14:21:02 -0500
nebbiolo1Linux (Ubuntu 22.04.3 LTS) / x86_64  OK    OK    OK  UNNEEDED, same version is already published
palomino3Windows Server 2022 Datacenter / x64  OK    OK    OK    OK  UNNEEDED, same version is already published
Package 4/5HostnameOS / ArchINSTALLBUILDCHECKBUILD BIN
crisprVerse 1.5.0  (landing page)
Jean-Philippe Fortin
git_last_commit: f7b7732
git_last_commit_date: 2023-10-24 11:43:34 -0500
nebbiolo1Linux (Ubuntu 22.04.3 LTS) / x86_64  OK    OK    OK  UNNEEDED, same version is already published
palomino3Windows Server 2022 Datacenter / x64  OK    OK    OK    OK  UNNEEDED, same version is already published
Package 5/5HostnameOS / ArchINSTALLBUILDCHECKBUILD BIN
crisprViz 1.5.0  (landing page)
Jean-Philippe Fortin
git_last_commit: 3dc6ba4
git_last_commit_date: 2023-10-24 11:44:10 -0500
nebbiolo1Linux (Ubuntu 22.04.3 LTS) / x86_64  OK    OK    OK  UNNEEDED, same version is already published
palomino3Windows Server 2022 Datacenter / x64  OK    OK    OK    OK  UNNEEDED, same version is already published