Back to Build/check report for BioC 3.13
ABC[D]EFGHIJKLMNOPQRSTUVWXYZ

Build/check report for BioC 3.13

Results for diffcoexp

This page was generated on 2020-10-30 10:53:25 -0400 (Fri, 30 Oct 2020).

Package 466/1906HostnameOS / ArchINSTALLBUILDCHECKBUILD BIN
diffcoexp 1.11.0
Wenbin Wei
Snapshot Date: 2020-10-29 14:40:27 -0400 (Thu, 29 Oct 2020)
URL: https://git.bioconductor.org/packages/diffcoexp
Branch: master
Last Commit: a7e4634
Last Changed Date: 2020-10-27 11:32:59 -0400 (Tue, 27 Oct 2020)
malbec2 Linux (Ubuntu 18.04.4 LTS) / x86_64  OK  OK  OK UNNEEDED, same version exists in internal repository