Back to Multiple platform build/check report for BioC 3.18:   simplified   long
AB[C]DEFGHIJKLMNOPQRSTUVWXYZ

This page was generated on 2023-09-29 12:02:20 -0400 (Fri, 29 Sep 2023).

HostnameOSArch (*)R versionInstalled pkgs
nebbiolo2Linux (Ubuntu 22.04.2 LTS)x86_644.3.1 (2023-06-16) -- "Beagle Scouts" 4660
palomino4Windows Server 2022 Datacenterx644.3.1 (2023-06-16 ucrt) -- "Beagle Scouts" 4395
lconwaymacOS 12.6.5 Montereyx86_644.3.1 Patched (2023-06-17 r84564) -- "Beagle Scouts" 4409
kunpeng2Linux (openEuler 22.03 LTS-SP1)aarch644.3.1 (2023-06-16) -- "Beagle Scouts" 4400
Click on any hostname to see more info about the system (e.g. compilers)      (*) as reported by 'uname -p', except on Windows and Mac OS X

Package 392/2233HostnameOS / ArchINSTALLBUILDCHECKBUILD BIN
CoCiteStats 1.73.0  (landing page)
Bioconductor Package Maintainer
Snapshot Date: 2023-09-28 14:05:06 -0400 (Thu, 28 Sep 2023)
git_url: https://git.bioconductor.org/packages/CoCiteStats
git_branch: devel
git_last_commit: 32d38dc
git_last_commit_date: 2023-04-25 09:41:23 -0400 (Tue, 25 Apr 2023)
nebbiolo2Linux (Ubuntu 22.04.2 LTS) / x86_64  OK    OK    OK  UNNEEDED, same version is already published
palomino4Windows Server 2022 Datacenter / x64  OK    OK    OK    OK  UNNEEDED, same version is already published
lconwaymacOS 12.6.5 Monterey / x86_64  OK    OK    OK    OK  UNNEEDED, same version is already published
kunpeng2Linux (openEuler 22.03 LTS-SP1) / aarch64  OK    OK    ERROR  

BUILD results for CoCiteStats on nebbiolo2


To the developers/maintainers of the CoCiteStats package:
- Allow up to 24 hours (and sometimes 48 hours) for your latest push to git@git.bioconductor.org:packages/CoCiteStats.git to reflect on this report. See Troubleshooting Build Report for more information.
- Use the following Renviron settings to reproduce errors and warnings.
- If 'R CMD check' started to fail recently on the Linux builder(s) over a missing dependency, add the missing dependency to 'Suggests:' in your DESCRIPTION file. See Renviron.bioc for more information.

raw results


Summary

Package: CoCiteStats
Version: 1.73.0
Command: /home/biocbuild/bbs-3.18-bioc/R/bin/R CMD build --keep-empty-dirs --no-resave-data CoCiteStats
StartedAt: 2023-09-28 16:20:46 -0400 (Thu, 28 Sep 2023)
EndedAt: 2023-09-28 16:20:47 -0400 (Thu, 28 Sep 2023)
EllapsedTime: 1.0 seconds
RetCode: 0
Status:   OK  
PackageFile: CoCiteStats_1.73.0.tar.gz
PackageFileSize: 5.315 KiB

Command output

##############################################################################
##############################################################################
###
### Running command:
###
###   /home/biocbuild/bbs-3.18-bioc/R/bin/R CMD build --keep-empty-dirs --no-resave-data CoCiteStats
###
##############################################################################
##############################################################################


* checking for file ‘CoCiteStats/DESCRIPTION’ ... OK
* preparing ‘CoCiteStats’:
* checking DESCRIPTION meta-information ... OK
* checking for LF line-endings in source and make files and shell scripts
* checking for empty or unneeded directories
* building ‘CoCiteStats_1.73.0.tar.gz’