Back to Multiple platform build/check report for BioC 3.12
ABCD[E]FGHIJKLMNOPQRSTUVWXYZ

Multiple platform build/check report for BioC 3.12

Results for EnhancedVolcano

This page was generated on 2020-10-27 11:49:30 -0400 (Tue, 27 Oct 2020).

Package 545/1974HostnameOS / ArchINSTALLBUILDCHECKBUILD BIN
EnhancedVolcano 1.7.16
Kevin Blighe
Snapshot Date: 2020-10-26 14:42:55 -0400 (Mon, 26 Oct 2020)
URL: https://git.bioconductor.org/packages/EnhancedVolcano
Branch: master
Last Commit: c886197
Last Changed Date: 2020-08-23 10:10:51 -0400 (Sun, 23 Aug 2020)
malbec1 Linux (Ubuntu 18.04.4 LTS) / x86_64  OK  OK  OK UNNEEDED, same version exists in internal repository
nebbiolo1 Linux (Ubuntu 20.04.1 LTS) / x86_64  OK  OK  OK 
tokay1 Windows Server 2012 R2 Standard / x64  OK  OK  OK  OK UNNEEDED, same version exists in internal repository
riesling1 Windows Server 2019 Standard / x64  OK  OK  OK  OK 
merida1 macOS 10.14.6 Mojave / x86_64  OK  OK  OK  OK UNNEEDED, same version exists in internal repository