Back to Multiple platform build/check report for BioC 3.16 |
|
This page was generated on 2022-06-24 11:08:13 -0400 (Fri, 24 Jun 2022).
Hostname | OS | Arch (*) | R version | Installed pkgs |
---|---|---|---|---|
nebbiolo2 | Linux (Ubuntu 20.04.4 LTS) | x86_64 | 4.2.0 Patched (2022-06-02 r82447) -- "Vigorous Calisthenics" | 4331 |
palomino4 | Windows Server 2022 Datacenter | x64 | 4.2.0 Patched (2022-06-02 r82447 ucrt) -- "Vigorous Calisthenics" | 4136 |
lconway | macOS 12.2.1 Monterey | x86_64 | 4.2.0 Patched (2022-05-29 r82424) -- "Vigorous Calisthenics" | 4147 |
Click on any hostname to see more info about the system (e.g. compilers) (*) as reported by 'uname -p', except on Windows and Mac OS X |
To the developers/maintainers of the MPRAnalyze package: - Please allow up to 24 hours (and sometimes 48 hours) for your latest push to git@git.bioconductor.org:packages/MPRAnalyze.git to reflect on this report. See How and When does the builder pull? When will my changes propagate? for more information. - Make sure to use the following settings in order to reproduce any error or warning you see on this page. |
Package 1228/2118 | Hostname | OS / Arch | INSTALL | BUILD | CHECK | BUILD BIN | ||||||||
MPRAnalyze 1.15.0 (landing page) Tal Ashuach
| nebbiolo2 | Linux (Ubuntu 20.04.4 LTS) / x86_64 | OK | OK | OK | ![]() | ||||||||
palomino4 | Windows Server 2022 Datacenter / x64 | OK | OK | OK | OK | ![]() | ||||||||
lconway | macOS 12.2.1 Monterey / x86_64 | OK | OK | OK | OK | ![]() | ||||||||
Package: MPRAnalyze |
Version: 1.15.0 |
Command: /Library/Frameworks/R.framework/Resources/bin/R CMD check --install=check:MPRAnalyze.install-out.txt --library=/Library/Frameworks/R.framework/Resources/library --no-vignettes --timings MPRAnalyze_1.15.0.tar.gz |
StartedAt: 2022-06-23 21:21:40 -0400 (Thu, 23 Jun 2022) |
EndedAt: 2022-06-23 21:24:20 -0400 (Thu, 23 Jun 2022) |
EllapsedTime: 160.5 seconds |
RetCode: 0 |
Status: OK |
CheckDir: MPRAnalyze.Rcheck |
Warnings: 0 |
############################################################################## ############################################################################## ### ### Running command: ### ### /Library/Frameworks/R.framework/Resources/bin/R CMD check --install=check:MPRAnalyze.install-out.txt --library=/Library/Frameworks/R.framework/Resources/library --no-vignettes --timings MPRAnalyze_1.15.0.tar.gz ### ############################################################################## ############################################################################## * using log directory ‘/Users/biocbuild/bbs-3.16-bioc/meat/MPRAnalyze.Rcheck’ * using R version 4.2.0 Patched (2022-05-29 r82424) * using platform: x86_64-apple-darwin17.0 (64-bit) * using session charset: UTF-8 * using option ‘--no-vignettes’ * checking for file ‘MPRAnalyze/DESCRIPTION’ ... OK * checking extension type ... Package * this is package ‘MPRAnalyze’ version ‘1.15.0’ * package encoding: UTF-8 * checking package namespace information ... OK * checking package dependencies ... OK * checking if this is a source package ... OK * checking if there is a namespace ... OK * checking for hidden files and directories ... OK * checking for portable file names ... OK * checking for sufficient/correct file permissions ... OK * checking whether package ‘MPRAnalyze’ can be installed ... OK * checking installed package size ... OK * checking package directory ... OK * checking ‘build’ directory ... OK * checking DESCRIPTION meta-information ... OK * checking top-level files ... OK * checking for left-over files ... OK * checking index information ... OK * checking package subdirectories ... OK * checking R files for non-ASCII characters ... OK * checking R files for syntax errors ... OK * checking whether the package can be loaded ... OK * checking whether the package can be loaded with stated dependencies ... OK * checking whether the package can be unloaded cleanly ... OK * checking whether the namespace can be loaded with stated dependencies ... OK * checking whether the namespace can be unloaded cleanly ... OK * checking dependencies in R code ... OK * checking S3 generic/method consistency ... OK * checking replacement functions ... OK * checking foreign function calls ... OK * checking R code for possible problems ... OK * checking Rd files ... OK * checking Rd metadata ... OK * checking Rd cross-references ... OK * checking for missing documentation entries ... OK * checking for code/documentation mismatches ... OK * checking Rd \usage sections ... OK * checking Rd contents ... OK * checking for unstated dependencies in examples ... OK * checking contents of ‘data’ directory ... OK * checking data for non-ASCII characters ... OK * checking data for ASCII and uncompressed saves ... OK * checking files in ‘vignettes’ ... OK * checking examples ... OK Examples with CPU (user + system) or elapsed time > 5s user system elapsed analyzeComparative 6.244 0.202 6.491 getAlpha 5.769 0.138 5.922 * checking for unstated dependencies in vignettes ... OK * checking package vignettes in ‘inst/doc’ ... OK * checking running R code from vignettes ... SKIPPED * checking re-building of vignette outputs ... SKIPPED * checking PDF version of manual ... OK * DONE Status: OK
MPRAnalyze.Rcheck/00install.out
############################################################################## ############################################################################## ### ### Running command: ### ### /Library/Frameworks/R.framework/Resources/bin/R CMD INSTALL MPRAnalyze ### ############################################################################## ############################################################################## * installing to library ‘/Library/Frameworks/R.framework/Versions/4.2/Resources/library’ * installing *source* package ‘MPRAnalyze’ ... ** using staged installation ** R ** data ** inst ** byte-compile and prepare package for lazy loading ** help *** installing help indices ** building package indices ** installing vignettes ** testing if installed package can be loaded from temporary location ** testing if installed package can be loaded from final location ** testing if installed package keeps a record of temporary installation path * DONE (MPRAnalyze)
MPRAnalyze.Rcheck/MPRAnalyze-Ex.timings
name | user | system | elapsed | |
MpraObject | 0.030 | 0.001 | 0.031 | |
analyzeComparative | 6.244 | 0.202 | 6.491 | |
analyzeQuantification | 2.422 | 0.043 | 2.478 | |
estimateDepthFactors | 0.016 | 0.000 | 0.016 | |
extractModelParameters | 1.068 | 0.014 | 1.087 | |
getAlpha | 5.769 | 0.138 | 5.922 | |
getDistrParam | 1.004 | 0.015 | 1.021 | |
getFits_DNA | 0.995 | 0.017 | 1.014 | |
getFits_RNA | 0.924 | 0.015 | 0.941 | |
setDepthFactors | 0.005 | 0.000 | 0.006 | |
setModel | 1.707 | 0.032 | 1.743 | |
simulateMPRA | 0.067 | 0.006 | 0.072 | |
testCoefficient | 2.729 | 0.064 | 2.800 | |
testEmpirical | 2.013 | 0.044 | 2.066 | |
testLrt | 2.698 | 0.058 | 2.762 | |