Back to Multiple platform build/check report for BioC 3.19:   simplified   long
ABCDEFGHIJKL[M]NOPQRSTUVWXYZ

This page was generated on 2024-02-18 02:25:04 -0500 (Sun, 18 Feb 2024).

HostnameOSArch (*)R versionInstalled pkgs
nebbiolo1Linux (Ubuntu 22.04.3 LTS)x86_64R Under development (unstable) (2024-01-16 r85808) -- "Unsuffered Consequences" 4657
palomino3Windows Server 2022 Datacenterx64R Under development (unstable) (2024-01-14 r85805 ucrt) -- "Unsuffered Consequences" 4397
merida1macOS 12.7.1 Montereyx86_64R Under development (unstable) (2024-01-16 r85808) -- "Unsuffered Consequences" 4424
kunpeng2Linux (openEuler 22.03 LTS-SP1)aarch64R Under development (unstable) (2024-01-16 r85812) -- "Unsuffered Consequences" 4400
Click on any hostname to see more info about the system (e.g. compilers)      (*) as reported by 'uname -p', except on Windows and Mac OS X

All results for package metagenomeSeq


To the developers/maintainers of the metagenomeSeq package:
- Allow up to 24 hours (and sometimes 48 hours) for your latest push to git@git.bioconductor.org:packages/metagenomeSeq.git to reflect on this report. See Troubleshooting Build Report for more information.
- Use the following Renviron settings to reproduce errors and warnings.
- If 'R CMD check' started to fail recently on the Linux builder(s) over a missing dependency, add the missing dependency to 'Suggests:' in your DESCRIPTION file. See Renviron.bioc for more information.

raw results

Package 1189/2244HostnameOS / ArchINSTALLBUILDCHECKBUILD BIN
metagenomeSeq 1.45.0  (landing page)
Joseph N. Paulson
Snapshot Date: 2024-02-16 14:10:20 -0500 (Fri, 16 Feb 2024)
git_url: https://git.bioconductor.org/packages/metagenomeSeq
git_branch: devel
git_last_commit: 5c716c6
git_last_commit_date: 2023-10-24 09:53:37 -0500 (Tue, 24 Oct 2023)
nebbiolo1Linux (Ubuntu 22.04.3 LTS) / x86_64  OK    OK    ERROR  
palomino3Windows Server 2022 Datacenter / x64  OK    OK    ERROR    OK  
merida1macOS 12.7.1 Monterey / x86_64  OK    OK    ERROR    OK  
kunpeng2Linux (openEuler 22.03 LTS-SP1) / aarch64  OK    OK    ERROR  

Results for Bioconductor software packages that depend directly on package metagenomeSeq

QUICK STATSOS / ArchINSTALLBUILDCHECKBUILD BIN
nebbiolo1Linux (Ubuntu 22.04.3 LTS) / x86_64
006
006
0006
palomino3Windows Server 2022 Datacenter / x64
006
006
0006
006
merida1macOS 12.7.1 Monterey / x86_64
006
006
0006
006
kunpeng2Linux (openEuler 22.03 LTS-SP1) / aarch64
006
006
0006
Package 1/6HostnameOS / ArchINSTALLBUILDCHECKBUILD BIN
benchdamic 1.9.1  (landing page)
Matteo Calgaro
git_last_commit: b8f68dd
git_last_commit_date: 2023-11-04 06:27:31 -0500
nebbiolo1Linux (Ubuntu 22.04.3 LTS) / x86_64  OK    OK    OK  UNNEEDED, same version is already published
palomino3Windows Server 2022 Datacenter / x64  OK    OK    OK    OK  UNNEEDED, same version is already published
merida1macOS 12.7.1 Monterey / x86_64  OK    OK    OK    OK  UNNEEDED, same version is already published
kunpeng2Linux (openEuler 22.03 LTS-SP1) / aarch64  OK    OK    OK  
Package 2/6HostnameOS / ArchINSTALLBUILDCHECKBUILD BIN
Maaslin2 1.17.0  (landing page)
Lauren McIver
git_last_commit: a8d86b0
git_last_commit_date: 2023-10-24 11:15:22 -0500
nebbiolo1Linux (Ubuntu 22.04.3 LTS) / x86_64  OK    OK    OK  UNNEEDED, same version is already published
palomino3Windows Server 2022 Datacenter / x64  OK    OK    OK    OK  UNNEEDED, same version is already published
merida1macOS 12.7.1 Monterey / x86_64  OK    OK    OK    OK  UNNEEDED, same version is already published
kunpeng2Linux (openEuler 22.03 LTS-SP1) / aarch64  OK    OK    OK  
Package 3/6HostnameOS / ArchINSTALLBUILDCHECKBUILD BIN
mbQTL 1.3.0  (landing page)
Mercedeh Movassagh
git_last_commit: 68f420e
git_last_commit_date: 2023-10-24 11:46:40 -0500
nebbiolo1Linux (Ubuntu 22.04.3 LTS) / x86_64  OK    OK    OK  UNNEEDED, same version is already published
palomino3Windows Server 2022 Datacenter / x64  OK    OK    OK    OK  UNNEEDED, same version is already published
merida1macOS 12.7.1 Monterey / x86_64  OK    OK    OK    OK  UNNEEDED, same version is already published
kunpeng2Linux (openEuler 22.03 LTS-SP1) / aarch64  OK    OK    OK  
Package 4/6HostnameOS / ArchINSTALLBUILDCHECKBUILD BIN
microbiomeDASim 1.17.0  (landing page)
Justin Williams
git_last_commit: cdedc22
git_last_commit_date: 2023-10-24 11:16:14 -0500
nebbiolo1Linux (Ubuntu 22.04.3 LTS) / x86_64  OK    OK    OK  UNNEEDED, same version is already published
palomino3Windows Server 2022 Datacenter / x64  OK    OK    OK    OK  UNNEEDED, same version is already published
merida1macOS 12.7.1 Monterey / x86_64  OK    OK    OK    OK  UNNEEDED, same version is already published
kunpeng2Linux (openEuler 22.03 LTS-SP1) / aarch64  OK    OK    OK  
Package 5/6HostnameOS / ArchINSTALLBUILDCHECKBUILD BIN
microbiomeExplorer 1.13.0  (landing page)
Janina Reeder
git_last_commit: 56bf5f0
git_last_commit_date: 2023-10-24 11:26:35 -0500
nebbiolo1Linux (Ubuntu 22.04.3 LTS) / x86_64  OK    OK    OK  UNNEEDED, same version is already published
palomino3Windows Server 2022 Datacenter / x64  OK    OK    OK    OK  UNNEEDED, same version is already published
merida1macOS 12.7.1 Monterey / x86_64  OK    OK    OK    OK  UNNEEDED, same version is already published
kunpeng2Linux (openEuler 22.03 LTS-SP1) / aarch64  OK    OK    OK  
Package 6/6HostnameOS / ArchINSTALLBUILDCHECKBUILD BIN
microbiomeMarker 1.9.0  (landing page)
Yang Cao
git_last_commit: afe4745
git_last_commit_date: 2023-11-04 12:01:59 -0500
nebbiolo1Linux (Ubuntu 22.04.3 LTS) / x86_64  OK    OK    OK  UNNEEDED, same version is already published
palomino3Windows Server 2022 Datacenter / x64  OK    OK    OK    OK  UNNEEDED, same version is already published
merida1macOS 12.7.1 Monterey / x86_64  OK    OK    OK    OK  UNNEEDED, same version is already published
kunpeng2Linux (openEuler 22.03 LTS-SP1) / aarch64  OK    OK    OK