Back to Multiple platform build/check report for BioC 3.16
AB[C]DEFGHIJKLMNOPQRSTUVWXYZ

This page was generated on 2022-06-29 11:04:13 -0400 (Wed, 29 Jun 2022).

HostnameOSArch (*)R versionInstalled pkgs
nebbiolo2Linux (Ubuntu 20.04.4 LTS)x86_644.2.0 Patched (2022-06-02 r82447) -- "Vigorous Calisthenics" 4343
lconwaymacOS 12.2.1 Montereyx86_644.2.0 Patched (2022-05-29 r82424) -- "Vigorous Calisthenics" 4159
Click on any hostname to see more info about the system (e.g. compilers)      (*) as reported by 'uname -p', except on Windows and Mac OS X

BUILD results for CNORfeeder on nebbiolo2


To the developers/maintainers of the CNORfeeder package:
- Please allow up to 24 hours (and sometimes 48 hours) for your latest push to git@git.bioconductor.org:packages/CNORfeeder.git to
reflect on this report. See How and When does the builder pull? When will my changes propagate? for more information.
- Make sure to use the following settings in order to reproduce any error or warning you see on this page.

raw results

Package 355/2124HostnameOS / ArchINSTALLBUILDCHECKBUILD BIN
CNORfeeder 1.37.3  (landing page)
Attila Gabor
Snapshot Date: 2022-06-28 14:00:02 -0400 (Tue, 28 Jun 2022)
git_url: https://git.bioconductor.org/packages/CNORfeeder
git_branch: master
git_last_commit: fa46ebe
git_last_commit_date: 2022-05-13 07:16:53 -0400 (Fri, 13 May 2022)
nebbiolo2Linux (Ubuntu 20.04.4 LTS) / x86_64  OK    OK    OK  UNNEEDED, same version is already published
lconwaymacOS 12.2.1 Monterey / x86_64  OK    OK    OK    OK  UNNEEDED, same version is already published

Summary

Package: CNORfeeder
Version: 1.37.3
Command: /home/biocbuild/bbs-3.16-bioc/R/bin/R CMD build --keep-empty-dirs --no-resave-data CNORfeeder
StartedAt: 2022-06-28 16:09:20 -0400 (Tue, 28 Jun 2022)
EndedAt: 2022-06-28 16:09:33 -0400 (Tue, 28 Jun 2022)
EllapsedTime: 13.6 seconds
RetCode: 0
Status:   OK  
PackageFile: CNORfeeder_1.37.3.tar.gz
PackageFileSize: 3.289 MiB

Command output

##############################################################################
##############################################################################
###
### Running command:
###
###   /home/biocbuild/bbs-3.16-bioc/R/bin/R CMD build --keep-empty-dirs --no-resave-data CNORfeeder
###
##############################################################################
##############################################################################


* checking for file ‘CNORfeeder/DESCRIPTION’ ... OK
* preparing ‘CNORfeeder’:
* checking DESCRIPTION meta-information ... OK
* installing the package to build vignettes
* creating vignettes ... OK
* checking for LF line-endings in source and make files and shell scripts
* checking for empty or unneeded directories
* looking to see if a ‘data/datalist’ file should be added
* building ‘CNORfeeder_1.37.3.tar.gz’