Back to Multiple platform build/check report for BioC 3.11
ABCDEFGHIJKLMNOPQR[S]TUVWXYZ

Multiple platform build/check report for BioC 3.11

Results for sizepower

This page was generated on 2020-04-06 13:19:18 -0400 (Mon, 06 Apr 2020).

Package 1638/1857HostnameOS / ArchINSTALLBUILDCHECKBUILD BIN
sizepower 1.57.0
Weiliang Qiu
Snapshot Date: 2020-04-05 16:45:17 -0400 (Sun, 05 Apr 2020)
URL: https://git.bioconductor.org/packages/sizepower
Branch: master
Last Commit: 1944115
Last Changed Date: 2019-10-29 13:34:41 -0400 (Tue, 29 Oct 2019)
malbec2 Linux (Ubuntu 18.04.4 LTS) / x86_64  OK  OK  OK UNNEEDED, same version exists in internal repository
tokay2 Windows Server 2012 R2 Standard / x64  OK  OK  OK  OK UNNEEDED, same version exists in internal repository