Back to Multiple platform build/check report for BioC 3.18:   simplified   long
ABCDEF[G]HIJKLMNOPQRSTUVWXYZ

This page was generated on 2023-09-27 11:35:27 -0400 (Wed, 27 Sep 2023).

HostnameOSArch (*)R versionInstalled pkgs
nebbiolo2Linux (Ubuntu 22.04.2 LTS)x86_644.3.1 (2023-06-16) -- "Beagle Scouts" 4659
palomino4Windows Server 2022 Datacenterx644.3.1 (2023-06-16 ucrt) -- "Beagle Scouts" 4394
lconwaymacOS 12.6.5 Montereyx86_644.3.1 Patched (2023-06-17 r84564) -- "Beagle Scouts" 4408
kunpeng2Linux (openEuler 22.03 LTS-SP1)aarch644.3.1 (2023-06-16) -- "Beagle Scouts" 4399
Click on any hostname to see more info about the system (e.g. compilers)      (*) as reported by 'uname -p', except on Windows and Mac OS X

All results for package graph


To the developers/maintainers of the graph package:
- Allow up to 24 hours (and sometimes 48 hours) for your latest push to git@git.bioconductor.org:packages/graph.git to reflect on this report. See Troubleshooting Build Report for more information.
- Use the following Renviron settings to reproduce errors and warnings.
- If 'R CMD check' started to fail recently on the Linux builder(s) over a missing dependency, add the missing dependency to 'Suggests:' in your DESCRIPTION file. See Renviron.bioc for more information.

raw results

Package 884/2233HostnameOS / ArchINSTALLBUILDCHECKBUILD BIN
graph 1.79.2  (landing page)
Bioconductor Package Maintainer
Snapshot Date: 2023-09-26 14:05:06 -0400 (Tue, 26 Sep 2023)
git_url: https://git.bioconductor.org/packages/graph
git_branch: devel
git_last_commit: a99b4f6
git_last_commit_date: 2023-09-22 10:40:48 -0400 (Fri, 22 Sep 2023)
nebbiolo2Linux (Ubuntu 22.04.2 LTS) / x86_64  OK    OK    OK  UNNEEDED, same version is already published
palomino4Windows Server 2022 Datacenter / x64  OK    OK    OK    OK  UNNEEDED, same version is already published
lconwaymacOS 12.6.5 Monterey / x86_64  OK    OK    OK    OK  UNNEEDED, same version is already published
kunpeng2Linux (openEuler 22.03 LTS-SP1) / aarch64  OK    OK    OK  

Results for Bioconductor software packages that depend directly on package graph

QUICK STATSOS / ArchINSTALLBUILDCHECKBUILD BIN
nebbiolo2Linux (Ubuntu 22.04.2 LTS) / x86_64
0085
0481
042453
palomino4Windows Server 2022 Datacenter / x64
0083
0677
022253
0077
lconwaymacOS 12.6.5 Monterey / x86_64
0082
0676
022153
0076
kunpeng2Linux (openEuler 22.03 LTS-SP1) / aarch64
0184
0778
072249
Package 1/85HostnameOS / ArchINSTALLBUILDCHECKBUILD BIN
AnnotationHubData 1.31.0  (landing page)
Bioconductor Package Maintainer
git_last_commit: 6bfb5ee
git_last_commit_date: 2023-04-25 10:41:16 -0400
nebbiolo2Linux (Ubuntu 22.04.2 LTS) / x86_64  OK    OK    WARNINGS  UNNEEDED, same version is already published
palomino4Windows Server 2022 Datacenter / x64  OK    OK    WARNINGS    OK  UNNEEDED, same version is already published
lconwaymacOS 12.6.5 Monterey / x86_64  OK    OK    WARNINGS    OK  UNNEEDED, same version is already published
kunpeng2Linux (openEuler 22.03 LTS-SP1) / aarch64  OK    OK    WARNINGS  
Package 2/85HostnameOS / ArchINSTALLBUILDCHECKBUILD BIN
apComplex 2.67.0  (landing page)
Denise Scholtens
git_last_commit: 619210b
git_last_commit_date: 2023-04-25 09:41:27 -0400
nebbiolo2Linux (Ubuntu 22.04.2 LTS) / x86_64  OK    OK    OK  UNNEEDED, same version is already published
palomino4Windows Server 2022 Datacenter / x64  OK    OK    OK    OK  UNNEEDED, same version is already published
lconwaymacOS 12.6.5 Monterey / x86_64  OK    OK    OK    OK  UNNEEDED, same version is already published
kunpeng2Linux (openEuler 22.03 LTS-SP1) / aarch64  OK    OK    OK  
Package 3/85HostnameOS / ArchINSTALLBUILDCHECKBUILD BIN
BgeeDB 2.27.0  (landing page)
Julien Wollbrett , Julien Roux , Andrea Komljenovic , Frederic Bastian
git_last_commit: 65bc915
git_last_commit_date: 2023-04-25 10:46:24 -0400
nebbiolo2Linux (Ubuntu 22.04.2 LTS) / x86_64  OK    OK    OK  UNNEEDED, same version is already published
palomino4Windows Server 2022 Datacenter / x64  OK    OK    OK    OK  UNNEEDED, same version is already published
lconwaymacOS 12.6.5 Monterey / x86_64  OK    OK    OK    OK  UNNEEDED, same version is already published
kunpeng2Linux (openEuler 22.03 LTS-SP1) / aarch64  OK    ERROR  skipped
Package 4/85HostnameOS / ArchINSTALLBUILDCHECKBUILD BIN
BiocCheck 1.37.16  (landing page)
Marcel Ramos
git_last_commit: 7aaaaff
git_last_commit_date: 2023-09-15 11:40:28 -0400
nebbiolo2Linux (Ubuntu 22.04.2 LTS) / x86_64  OK    OK    OK  UNNEEDED, same version is already published
palomino4Windows Server 2022 Datacenter / x64  OK    OK    OK    OK  UNNEEDED, same version is already published
lconwaymacOS 12.6.5 Monterey / x86_64  OK    OK    OK    OK  UNNEEDED, same version is already published
kunpeng2Linux (openEuler 22.03 LTS-SP1) / aarch64  OK    OK    OK  
Package 5/85HostnameOS / ArchINSTALLBUILDCHECKBUILD BIN
BiocFHIR 1.3.0  (landing page)
Vincent Carey
git_last_commit: 2ab0e3a
git_last_commit_date: 2023-04-25 11:41:10 -0400
nebbiolo2Linux (Ubuntu 22.04.2 LTS) / x86_64  OK    OK    OK  UNNEEDED, same version is already published
palomino4Windows Server 2022 Datacenter / x64  OK    OK    OK    OK  UNNEEDED, same version is already published
lconwaymacOS 12.6.5 Monterey / x86_64  OK    OK    OK    OK  UNNEEDED, same version is already published
kunpeng2Linux (openEuler 22.03 LTS-SP1) / aarch64  OK    OK    OK  
Package 6/85HostnameOS / ArchINSTALLBUILDCHECKBUILD BIN
biocGraph 1.63.0  (landing page)
Florian Hahne
git_last_commit: c5b4773
git_last_commit_date: 2023-04-25 09:45:35 -0400
nebbiolo2Linux (Ubuntu 22.04.2 LTS) / x86_64  OK    OK    OK  UNNEEDED, same version is already published
palomino4Windows Server 2022 Datacenter / x64  OK    OK    OK    OK  UNNEEDED, same version is already published
lconwaymacOS 12.6.5 Monterey / x86_64  OK    OK    OK    OK  UNNEEDED, same version is already published
kunpeng2Linux (openEuler 22.03 LTS-SP1) / aarch64  OK    OK    OK  
Package 7/85HostnameOS / ArchINSTALLBUILDCHECKBUILD BIN
BiocOncoTK 1.21.1  (landing page)
VJ Carey
git_last_commit: 43a18f8
git_last_commit_date: 2023-09-02 11:03:48 -0400
nebbiolo2Linux (Ubuntu 22.04.2 LTS) / x86_64  OK    OK    OK  UNNEEDED, same version is already published
palomino4Windows Server 2022 Datacenter / x64  OK    OK    OK    OK  UNNEEDED, same version is already published
lconwaymacOS 12.6.5 Monterey / x86_64  OK    OK    OK    OK  UNNEEDED, same version is already published
kunpeng2Linux (openEuler 22.03 LTS-SP1) / aarch64  OK    OK    OK  
Package 8/85HostnameOS / ArchINSTALLBUILDCHECKBUILD BIN
BiocPkgTools 1.19.9  (landing page)
Sean Davis
git_last_commit: c35adf7
git_last_commit_date: 2023-08-31 16:34:15 -0400
nebbiolo2Linux (Ubuntu 22.04.2 LTS) / x86_64  OK    OK    OK  UNNEEDED, same version is already published
palomino4Windows Server 2022 Datacenter / x64  OK    OK    OK    OK  UNNEEDED, same version is already published
lconwaymacOS 12.6.5 Monterey / x86_64  OK    OK    OK    OK  UNNEEDED, same version is already published
kunpeng2Linux (openEuler 22.03 LTS-SP1) / aarch64  OK    OK    OK  
Package 9/85HostnameOS / ArchINSTALLBUILDCHECKBUILD BIN
biocViews 1.69.2  (landing page)
Bioconductor Package Maintainer
git_last_commit: cbf0ec7
git_last_commit_date: 2023-08-24 15:28:07 -0400
nebbiolo2Linux (Ubuntu 22.04.2 LTS) / x86_64  OK    OK    OK  UNNEEDED, same version is already published
palomino4Windows Server 2022 Datacenter / x64  OK    OK    OK    OK  UNNEEDED, same version is already published
lconwaymacOS 12.6.5 Monterey / x86_64  OK    OK    OK    OK  UNNEEDED, same version is already published
kunpeng2Linux (openEuler 22.03 LTS-SP1) / aarch64  OK    OK    OK  
Package 10/85HostnameOS / ArchINSTALLBUILDCHECKBUILD BIN
BioMVCClass 1.69.0  (landing page)
Elizabeth Whalen
git_last_commit: f5ee7f4
git_last_commit_date: 2023-04-25 09:44:12 -0400
nebbiolo2Linux (Ubuntu 22.04.2 LTS) / x86_64  OK    OK    OK  UNNEEDED, same version is already published
palomino4Windows Server 2022 Datacenter / x64  OK    OK    OK    OK  UNNEEDED, same version is already published
lconwaymacOS 12.6.5 Monterey / x86_64  OK    OK    OK    OK  UNNEEDED, same version is already published
kunpeng2Linux (openEuler 22.03 LTS-SP1) / aarch64  OK    OK    OK  
Package 11/85HostnameOS / ArchINSTALLBUILDCHECKBUILD BIN
BioNet 1.61.0  (landing page)
Marcus Dittrich
git_last_commit: c4acbe6
git_last_commit_date: 2023-04-25 10:17:41 -0400
nebbiolo2Linux (Ubuntu 22.04.2 LTS) / x86_64  OK    OK    OK  UNNEEDED, same version is already published
palomino4Windows Server 2022 Datacenter / x64  OK    ERROR  skippedskipped
lconwaymacOS 12.6.5 Monterey / x86_64  OK    ERROR  skippedskipped
kunpeng2Linux (openEuler 22.03 LTS-SP1) / aarch64  OK    OK    OK  
Package 12/85HostnameOS / ArchINSTALLBUILDCHECKBUILD BIN
BLMA 1.25.0  (landing page)
Hung Nguyen
git_last_commit: b1452c8
git_last_commit_date: 2023-04-25 10:53:56 -0400
nebbiolo2Linux (Ubuntu 22.04.2 LTS) / x86_64  OK    OK    OK  UNNEEDED, same version is already published
palomino4Windows Server 2022 Datacenter / x64  OK    OK    OK    OK  UNNEEDED, same version is already published
lconwaymacOS 12.6.5 Monterey / x86_64  OK    OK    OK    OK  UNNEEDED, same version is already published
kunpeng2Linux (openEuler 22.03 LTS-SP1) / aarch64  OK    OK    OK  
Package 13/85HostnameOS / ArchINSTALLBUILDCHECKBUILD BIN
bnem 1.9.0  (landing page)
Martin Pirkl
git_last_commit: 38ae099
git_last_commit_date: 2023-05-23 04:32:29 -0400
nebbiolo2Linux (Ubuntu 22.04.2 LTS) / x86_64  OK    OK    OK  NO, package depends on 'epiNEM' which is not available
palomino4Windows Server 2022 Datacenter / x64  OK    OK    OK    OK  UNNEEDED, same version is already published
lconwaymacOS 12.6.5 Monterey / x86_64  OK    OK    OK    OK  UNNEEDED, same version is already published
kunpeng2Linux (openEuler 22.03 LTS-SP1) / aarch64  OK    OK    OK  
Package 14/85HostnameOS / ArchINSTALLBUILDCHECKBUILD BIN
CAMERA 1.57.0  (landing page)
Steffen Neumann
git_last_commit: 3f5966d
git_last_commit_date: 2023-04-25 09:48:21 -0400
nebbiolo2Linux (Ubuntu 22.04.2 LTS) / x86_64  OK    OK    OK  UNNEEDED, same version is already published
palomino4Windows Server 2022 Datacenter / x64  OK    OK    OK    OK  UNNEEDED, same version is already published
lconwaymacOS 12.6.5 Monterey / x86_64  OK    OK    OK    OK  UNNEEDED, same version is already published
kunpeng2Linux (openEuler 22.03 LTS-SP1) / aarch64  OK    OK    OK  
Package 15/85HostnameOS / ArchINSTALLBUILDCHECKBUILD BIN
Category 2.67.0  (landing page)
Bioconductor Package Maintainer
git_last_commit: e8e7100
git_last_commit_date: 2023-04-25 09:42:05 -0400
nebbiolo2Linux (Ubuntu 22.04.2 LTS) / x86_64  OK    OK    OK  UNNEEDED, same version is already published
palomino4Windows Server 2022 Datacenter / x64  OK    OK    OK    OK  UNNEEDED, same version is already published
lconwaymacOS 12.6.5 Monterey / x86_64  OK    OK    OK    OK  UNNEEDED, same version is already published
kunpeng2Linux (openEuler 22.03 LTS-SP1) / aarch64  OK    OK    OK  
Package 16/85HostnameOS / ArchINSTALLBUILDCHECKBUILD BIN
categoryCompare 1.45.0  (landing page)
Robert M. Flight
git_last_commit: bb12c51
git_last_commit_date: 2023-04-25 10:22:59 -0400
nebbiolo2Linux (Ubuntu 22.04.2 LTS) / x86_64  OK    OK    OK  UNNEEDED, same version is already published
palomino4Windows Server 2022 Datacenter / x64  OK    ERROR  skippedskipped
lconwaymacOS 12.6.5 Monterey / x86_64  OK    ERROR  skippedskipped
kunpeng2Linux (openEuler 22.03 LTS-SP1) / aarch64  OK    OK    OK  
Package 17/85HostnameOS / ArchINSTALLBUILDCHECKBUILD BIN
CellNOptR 1.47.0  (landing page)
Attila Gabor
git_last_commit: 6b9aa6d
git_last_commit_date: 2023-04-25 10:21:37 -0400
nebbiolo2Linux (Ubuntu 22.04.2 LTS) / x86_64  OK    OK    OK  UNNEEDED, same version is already published
palomino4Windows Server 2022 Datacenter / x64  OK    OK    OK    OK  UNNEEDED, same version is already published
lconwaymacOS 12.6.5 Monterey / x86_64  OK    OK    OK    OK  UNNEEDED, same version is already published
kunpeng2Linux (openEuler 22.03 LTS-SP1) / aarch64  OK    OK    OK  
Package 18/85HostnameOS / ArchINSTALLBUILDCHECKBUILD BIN
chimeraviz 1.27.0  (landing page)
Stian Lågstad
git_last_commit: 2d0306e
git_last_commit_date: 2023-07-31 03:41:51 -0400
nebbiolo2Linux (Ubuntu 22.04.2 LTS) / x86_64  OK    OK    OK  UNNEEDED, same version is already published
palomino4Windows Server 2022 Datacenter / x64  OK    OK    OK    OK  UNNEEDED, same version is already published
lconwaymacOS 12.6.5 Monterey / x86_64  OK    OK    OK    OK  UNNEEDED, same version is already published
kunpeng2Linux (openEuler 22.03 LTS-SP1) / aarch64  OK    OK    OK  
Package 19/85HostnameOS / ArchINSTALLBUILDCHECKBUILD BIN
ChIPpeakAnno 3.35.3  (landing page)
Jianhong Ou
git_last_commit: d213653
git_last_commit_date: 2023-07-25 10:57:28 -0400
nebbiolo2Linux (Ubuntu 22.04.2 LTS) / x86_64  OK    OK    OK  UNNEEDED, same version is already published
palomino4Windows Server 2022 Datacenter / x64  OK    OK    OK    OK  UNNEEDED, same version is already published
lconwaymacOS 12.6.5 Monterey / x86_64  OK    OK    OK    OK  UNNEEDED, same version is already published
kunpeng2Linux (openEuler 22.03 LTS-SP1) / aarch64  OK    OK    OK  
Package 20/85HostnameOS / ArchINSTALLBUILDCHECKBUILD BIN
CHRONOS 1.29.0  (landing page)
Panos Balomenos
git_last_commit: 8155761
git_last_commit_date: 2023-04-25 10:46:50 -0400
nebbiolo2Linux (Ubuntu 22.04.2 LTS) / x86_64  OK    OK    OK  UNNEEDED, same version is already published
palomino4Windows Server 2022 Datacenter / x64  OK    OK    OK    OK  UNNEEDED, same version is already published
lconwaymacOS 12.6.5 Monterey / x86_64  OK    OK    OK    OK  UNNEEDED, same version is already published
kunpeng2Linux (openEuler 22.03 LTS-SP1) / aarch64  OK    ERROR  skipped
Package 21/85HostnameOS / ArchINSTALLBUILDCHECKBUILD BIN
clipper 1.41.0  (landing page)
Paolo Martini
git_last_commit: 06517bb
git_last_commit_date: 2023-04-25 10:25:22 -0400
nebbiolo2Linux (Ubuntu 22.04.2 LTS) / x86_64  OK    ERROR  skipped
palomino4Windows Server 2022 Datacenter / x64  OK    ERROR  skippedskipped
lconwaymacOS 12.6.5 Monterey / x86_64  OK    ERROR  skippedskipped
kunpeng2Linux (openEuler 22.03 LTS-SP1) / aarch64  OK    ERROR  skipped
Package 22/85HostnameOS / ArchINSTALLBUILDCHECKBUILD BIN
CNORfeeder 1.41.0  (landing page)
Attila Gabor
git_last_commit: c1129e6
git_last_commit_date: 2023-04-25 10:26:21 -0400
nebbiolo2Linux (Ubuntu 22.04.2 LTS) / x86_64  OK    OK    WARNINGS  UNNEEDED, same version is already published
palomino4Windows Server 2022 Datacenter / x64  OK    OK    WARNINGS    OK  UNNEEDED, same version is already published
lconwaymacOS 12.6.5 Monterey / x86_64  OK    OK    WARNINGS    OK  UNNEEDED, same version is already published
kunpeng2Linux (openEuler 22.03 LTS-SP1) / aarch64  OK    OK    WARNINGS  
Package 23/85HostnameOS / ArchINSTALLBUILDCHECKBUILD BIN
consICA 1.3.9  (landing page)
Petr V. Nazarov
git_last_commit: 56116e9
git_last_commit_date: 2023-09-18 04:25:18 -0400
nebbiolo2Linux (Ubuntu 22.04.2 LTS) / x86_64  OK    OK    OK  UNNEEDED, same version is already published
palomino4Windows Server 2022 Datacenter / x64  OK    OK    OK    OK  UNNEEDED, same version is already published
lconwaymacOS 12.6.5 Monterey / x86_64  OK    OK    OK    OK  UNNEEDED, same version is already published
kunpeng2Linux (openEuler 22.03 LTS-SP1) / aarch64  OK    OK    OK  
Package 24/85HostnameOS / ArchINSTALLBUILDCHECKBUILD BIN
CytoML 2.13.1  (landing page)
Mike Jiang
git_last_commit: c0cb055
git_last_commit_date: 2023-05-01 00:04:39 -0400
nebbiolo2Linux (Ubuntu 22.04.2 LTS) / x86_64  OK    OK    WARNINGS  UNNEEDED, same version is already published
palomino4Windows Server 2022 Datacenter / x64  OK    OK    WARNINGS    OK  UNNEEDED, same version is already published
lconwaymacOS 12.6.5 Monterey / x86_64  OK    OK    WARNINGS    OK  UNNEEDED, same version is already published
kunpeng2Linux (openEuler 22.03 LTS-SP1) / aarch64  OK    OK    WARNINGS  
Package 25/85HostnameOS / ArchINSTALLBUILDCHECKBUILD BIN
dce 1.9.2  (landing page)
Kim Philipp Jablonski
git_last_commit: b0023ea
git_last_commit_date: 2023-07-08 05:15:45 -0400
nebbiolo2Linux (Ubuntu 22.04.2 LTS) / x86_64  OK    OK    OK  NO, package depends on 'epiNEM' which is not available
palomino4Windows Server 2022 Datacenter / x64  OK    OK    OK    OK  UNNEEDED, same version is already published
lconwaymacOS 12.6.5 Monterey / x86_64  OK    OK    OK    OK  UNNEEDED, same version is already published
kunpeng2Linux (openEuler 22.03 LTS-SP1) / aarch64  OK    OK    OK  
Package 26/85HostnameOS / ArchINSTALLBUILDCHECKBUILD BIN
DEGraph 1.53.0  (landing page)
Laurent Jacob
git_last_commit: 092fb5a
git_last_commit_date: 2023-04-25 10:18:22 -0400
nebbiolo2Linux (Ubuntu 22.04.2 LTS) / x86_64  OK    OK    OK  UNNEEDED, same version is already published
palomino4Windows Server 2022 Datacenter / x64... NOT SUPPORTED ...
lconwaymacOS 12.6.5 Monterey / x86_64... NOT SUPPORTED ...
kunpeng2Linux (openEuler 22.03 LTS-SP1) / aarch64  OK    OK    OK  
Package 27/85HostnameOS / ArchINSTALLBUILDCHECKBUILD BIN
DEsubs 1.27.0  (landing page)
Aristidis G. Vrahatis , Panos Balomenos
git_last_commit: d8b9eb1
git_last_commit_date: 2023-04-25 10:49:58 -0400
nebbiolo2Linux (Ubuntu 22.04.2 LTS) / x86_64  OK    OK    WARNINGS  UNNEEDED, same version is already published
palomino4Windows Server 2022 Datacenter / x64  OK    OK    WARNINGS    OK  UNNEEDED, same version is already published
lconwaymacOS 12.6.5 Monterey / x86_64  OK    OK    WARNINGS    OK  UNNEEDED, same version is already published
kunpeng2Linux (openEuler 22.03 LTS-SP1) / aarch64  OK    OK    WARNINGS  
Package 28/85HostnameOS / ArchINSTALLBUILDCHECKBUILD BIN
EnrichmentBrowser 2.31.5  (landing page)
Ludwig Geistlinger
git_last_commit: 81a7d67
git_last_commit_date: 2023-07-29 23:43:28 -0400
nebbiolo2Linux (Ubuntu 22.04.2 LTS) / x86_64  OK    OK    OK  UNNEEDED, same version is already published
palomino4Windows Server 2022 Datacenter / x64  OK    OK    OK    OK  UNNEEDED, same version is already published
lconwaymacOS 12.6.5 Monterey / x86_64  OK    OK    OK    OK  UNNEEDED, same version is already published
kunpeng2Linux (openEuler 22.03 LTS-SP1) / aarch64  OK    OK    ERROR  
Package 29/85HostnameOS / ArchINSTALLBUILDCHECKBUILD BIN
epiNEM 1.25.0  (landing page)
Martin Pirkl
git_last_commit: 5107d22
git_last_commit_date: 2023-04-28 04:30:33 -0400
nebbiolo2Linux (Ubuntu 22.04.2 LTS) / x86_64  OK    OK    OK  NO, package depends on 'mnem' which is not available
palomino4Windows Server 2022 Datacenter / x64  OK    OK    OK    OK  UNNEEDED, same version is already published
lconwaymacOS 12.6.5 Monterey / x86_64  OK    OK    OK    OK  UNNEEDED, same version is already published
kunpeng2Linux (openEuler 22.03 LTS-SP1) / aarch64  OK    OK    OK  
Package 30/85HostnameOS / ArchINSTALLBUILDCHECKBUILD BIN
EventPointer 3.9.0  (landing page)
Juan A. Ferrer-Bonsoms
git_last_commit: 1c1a467
git_last_commit_date: 2023-04-25 10:52:37 -0400
nebbiolo2Linux (Ubuntu 22.04.2 LTS) / x86_64  OK    OK    OK  UNNEEDED, same version is already published
palomino4Windows Server 2022 Datacenter / x64  OK    OK    OK    OK  UNNEEDED, same version is already published
lconwaymacOS 12.6.5 Monterey / x86_64  OK    OK    OK    OK  UNNEEDED, same version is already published
kunpeng2Linux (openEuler 22.03 LTS-SP1) / aarch64  OK    OK    OK  
Package 31/85HostnameOS / ArchINSTALLBUILDCHECKBUILD BIN
fgga 1.9.0  (landing page)
Flavio Spetale
git_last_commit: b8e5e9a
git_last_commit_date: 2023-04-25 11:29:28 -0400
nebbiolo2Linux (Ubuntu 22.04.2 LTS) / x86_64  OK    ERROR  skipped
palomino4Windows Server 2022 Datacenter / x64  OK    ERROR  skippedskipped
lconwaymacOS 12.6.5 Monterey / x86_64  OK    ERROR  skippedskipped
kunpeng2Linux (openEuler 22.03 LTS-SP1) / aarch64  OK    ERROR  skipped
Package 32/85HostnameOS / ArchINSTALLBUILDCHECKBUILD BIN
flowClust 3.39.0  (landing page)
Greg Finak , Mike Jiang
git_last_commit: ffde91b
git_last_commit_date: 2023-04-25 09:46:33 -0400
nebbiolo2Linux (Ubuntu 22.04.2 LTS) / x86_64  OK    OK    WARNINGS  UNNEEDED, same version is already published
palomino4Windows Server 2022 Datacenter / x64  OK    OK    WARNINGS    OK  UNNEEDED, same version is already published
lconwaymacOS 12.6.5 Monterey / x86_64  OK    OK    WARNINGS    OK  UNNEEDED, same version is already published
kunpeng2Linux (openEuler 22.03 LTS-SP1) / aarch64  OK    OK    ERROR  
Package 33/85HostnameOS / ArchINSTALLBUILDCHECKBUILD BIN
flowMerge 2.49.0  (landing page)
Greg Finak
git_last_commit: 127cfd0
git_last_commit_date: 2023-04-25 09:48:58 -0400
nebbiolo2Linux (Ubuntu 22.04.2 LTS) / x86_64  OK    OK    WARNINGS  UNNEEDED, same version is already published
palomino4Windows Server 2022 Datacenter / x64  OK    OK    WARNINGS    OK  UNNEEDED, same version is already published
lconwaymacOS 12.6.5 Monterey / x86_64  OK    OK    WARNINGS    OK  UNNEEDED, same version is already published
kunpeng2Linux (openEuler 22.03 LTS-SP1) / aarch64  OK    OK    WARNINGS  
Package 34/85HostnameOS / ArchINSTALLBUILDCHECKBUILD BIN
flowWorkspace 4.13.2  (landing page)
Greg Finak , Mike Jiang
git_last_commit: fefee28e
git_last_commit_date: 2023-08-20 00:07:53 -0400
nebbiolo2Linux (Ubuntu 22.04.2 LTS) / x86_64  OK    OK    WARNINGS  UNNEEDED, same version is already published
palomino4Windows Server 2022 Datacenter / x64  OK    OK    WARNINGS    OK  UNNEEDED, same version is already published
lconwaymacOS 12.6.5 Monterey / x86_64  OK    OK    WARNINGS    OK  UNNEEDED, same version is already published
kunpeng2Linux (openEuler 22.03 LTS-SP1) / aarch64  OK    OK    WARNINGS  
Package 35/85HostnameOS / ArchINSTALLBUILDCHECKBUILD BIN
gage 2.51.0  (landing page)
Weijun Luo
git_last_commit: 6f0929f
git_last_commit_date: 2023-04-25 10:18:08 -0400
nebbiolo2Linux (Ubuntu 22.04.2 LTS) / x86_64  OK    OK    WARNINGS  UNNEEDED, same version is already published
palomino4Windows Server 2022 Datacenter / x64  OK    OK    WARNINGS    OK  UNNEEDED, same version is already published
lconwaymacOS 12.6.5 Monterey / x86_64  OK    OK    WARNINGS    OK  UNNEEDED, same version is already published
kunpeng2Linux (openEuler 22.03 LTS-SP1) / aarch64  OK    OK    ERROR  
Package 36/85HostnameOS / ArchINSTALLBUILDCHECKBUILD BIN
gaggle 1.69.1  (landing page)
Christopher Bare
git_last_commit: 41ecd00
git_last_commit_date: 2023-07-14 10:01:07 -0400
nebbiolo2Linux (Ubuntu 22.04.2 LTS) / x86_64  OK    OK    WARNINGS  UNNEEDED, same version is already published
palomino4Windows Server 2022 Datacenter / x64  OK    OK    WARNINGS    OK  UNNEEDED, same version is already published
lconwaymacOS 12.6.5 Monterey / x86_64  OK    OK    WARNINGS    OK  UNNEEDED, same version is already published
kunpeng2Linux (openEuler 22.03 LTS-SP1) / aarch64  OK    OK    WARNINGS  
Package 37/85HostnameOS / ArchINSTALLBUILDCHECKBUILD BIN
GeneNetworkBuilder 1.43.0  (landing page)
Jianhong Ou
git_last_commit: 4a9d8f0
git_last_commit_date: 2023-04-25 10:23:49 -0400
nebbiolo2Linux (Ubuntu 22.04.2 LTS) / x86_64  OK    OK    OK  UNNEEDED, same version is already published
palomino4Windows Server 2022 Datacenter / x64  OK    OK    OK    OK  UNNEEDED, same version is already published
lconwaymacOS 12.6.5 Monterey / x86_64  OK    OK    OK    OK  UNNEEDED, same version is already published
kunpeng2Linux (openEuler 22.03 LTS-SP1) / aarch64  OK    OK    OK  
Package 38/85HostnameOS / ArchINSTALLBUILDCHECKBUILD BIN
GenomicInteractionNodes 1.5.0  (landing page)
Jianhong Ou
git_last_commit: b619f1d
git_last_commit_date: 2023-04-25 11:37:36 -0400
nebbiolo2Linux (Ubuntu 22.04.2 LTS) / x86_64  OK    OK    OK  UNNEEDED, same version is already published
palomino4Windows Server 2022 Datacenter / x64  OK    OK    OK    OK  UNNEEDED, same version is already published
lconwaymacOS 12.6.5 Monterey / x86_64  OK    OK    OK    OK  UNNEEDED, same version is already published
kunpeng2Linux (openEuler 22.03 LTS-SP1) / aarch64  OK    OK    OK  
Package 39/85HostnameOS / ArchINSTALLBUILDCHECKBUILD BIN
GOSim 1.39.0  (landing page)
Holger Froehlich
git_last_commit: 81761eb
git_last_commit_date: 2023-04-25 10:28:44 -0400
nebbiolo2Linux (Ubuntu 22.04.2 LTS) / x86_64  OK    OK    WARNINGS  UNNEEDED, same version is already published
palomino4Windows Server 2022 Datacenter / x64  OK    OK    OK    OK  UNNEEDED, same version is already published
lconwaymacOS 12.6.5 Monterey / x86_64  OK    OK    OK    OK  UNNEEDED, same version is already published
kunpeng2Linux (openEuler 22.03 LTS-SP1) / aarch64  OK    OK    WARNINGS  
Package 40/85HostnameOS / ArchINSTALLBUILDCHECKBUILD BIN
GOstats 2.67.1  (landing page)
Bioconductor Package Maintainer
git_last_commit: 11e11ea
git_last_commit_date: 2023-06-05 14:23:51 -0400
nebbiolo2Linux (Ubuntu 22.04.2 LTS) / x86_64  OK    OK    OK  UNNEEDED, same version is already published
palomino4Windows Server 2022 Datacenter / x64  OK    OK    OK    OK  UNNEEDED, same version is already published
lconwaymacOS 12.6.5 Monterey / x86_64  OK    OK    OK    OK  UNNEEDED, same version is already published
kunpeng2Linux (openEuler 22.03 LTS-SP1) / aarch64  OK    OK    ERROR  
Package 41/85HostnameOS / ArchINSTALLBUILDCHECKBUILD BIN
GraphAT 1.73.0  (landing page)
Thomas LaFramboise
git_last_commit: 0e11437
git_last_commit_date: 2023-04-25 09:40:36 -0400
nebbiolo2Linux (Ubuntu 22.04.2 LTS) / x86_64  OK    OK    OK  UNNEEDED, same version is already published
palomino4Windows Server 2022 Datacenter / x64  OK    OK    OK    OK  UNNEEDED, same version is already published
lconwaymacOS 12.6.5 Monterey / x86_64  OK    OK    OK    OK  UNNEEDED, same version is already published
kunpeng2Linux (openEuler 22.03 LTS-SP1) / aarch64  OK    OK    OK  
Package 42/85HostnameOS / ArchINSTALLBUILDCHECKBUILD BIN
graphite 1.47.0  (landing page)
Gabriele Sales
git_last_commit: 73e0607
git_last_commit_date: 2023-04-25 10:20:44 -0400
nebbiolo2Linux (Ubuntu 22.04.2 LTS) / x86_64  OK    OK    ERROR  
palomino4Windows Server 2022 Datacenter / x64  OK    OK    ERROR    OK  
lconwaymacOS 12.6.5 Monterey / x86_64  OK    OK    ERROR    OK  
kunpeng2Linux (openEuler 22.03 LTS-SP1) / aarch64  OK    OK    ERROR  
Package 43/85HostnameOS / ArchINSTALLBUILDCHECKBUILD BIN
GRridge 1.25.1  (landing page)
Mark A. van de Wiel
git_last_commit: abf3d4d
git_last_commit_date: 2023-07-14 09:36:49 -0400
nebbiolo2Linux (Ubuntu 22.04.2 LTS) / x86_64  OK    OK    ERROR  
palomino4Windows Server 2022 Datacenter / x64  OK    OK    ERROR    OK  
lconwaymacOS 12.6.5 Monterey / x86_64  OK    OK    ERROR    OK  
kunpeng2Linux (openEuler 22.03 LTS-SP1) / aarch64  OK    OK    WARNINGS  
Package 44/85HostnameOS / ArchINSTALLBUILDCHECKBUILD BIN
GSEABase 1.63.0  (landing page)
Bioconductor Package Maintainer
git_last_commit: 95565aa
git_last_commit_date: 2023-04-25 09:45:30 -0400
nebbiolo2Linux (Ubuntu 22.04.2 LTS) / x86_64  OK    OK    OK  UNNEEDED, same version is already published
palomino4Windows Server 2022 Datacenter / x64  OK    OK    OK    OK  UNNEEDED, same version is already published
lconwaymacOS 12.6.5 Monterey / x86_64  OK    OK    OK    OK  UNNEEDED, same version is already published
kunpeng2Linux (openEuler 22.03 LTS-SP1) / aarch64  OK    OK    OK  
Package 45/85HostnameOS / ArchINSTALLBUILDCHECKBUILD BIN
hyperdraw 1.53.0  (landing page)
Paul Murrell
git_last_commit: ae1d07e
git_last_commit_date: 2023-04-25 09:50:06 -0400
nebbiolo2Linux (Ubuntu 22.04.2 LTS) / x86_64  OK    OK    OK  UNNEEDED, same version is already published
palomino4Windows Server 2022 Datacenter / x64  OK    OK    OK    OK  UNNEEDED, same version is already published
lconwaymacOS 12.6.5 Monterey / x86_64  OK    OK    OK    OK  UNNEEDED, same version is already published
kunpeng2Linux (openEuler 22.03 LTS-SP1) / aarch64  OK    OK    OK  
Package 46/85HostnameOS / ArchINSTALLBUILDCHECKBUILD BIN
hypergraph 1.73.0  (landing page)
Bioconductor Package Maintainer
git_last_commit: 1afb6ef
git_last_commit_date: 2023-04-25 09:42:03 -0400
nebbiolo2Linux (Ubuntu 22.04.2 LTS) / x86_64  OK    OK    OK  UNNEEDED, same version is already published
palomino4Windows Server 2022 Datacenter / x64  OK    OK    OK    OK  UNNEEDED, same version is already published
lconwaymacOS 12.6.5 Monterey / x86_64  OK    OK    OK    OK  UNNEEDED, same version is already published
kunpeng2Linux (openEuler 22.03 LTS-SP1) / aarch64  OK    OK    OK  
Package 47/85HostnameOS / ArchINSTALLBUILDCHECKBUILD BIN
KEGGgraph 1.61.0  (landing page)
Jitao David Zhang
git_last_commit: 6d3290b
git_last_commit_date: 2023-04-25 09:48:08 -0400
nebbiolo2Linux (Ubuntu 22.04.2 LTS) / x86_64  OK    OK    WARNINGS  UNNEEDED, same version is already published
palomino4Windows Server 2022 Datacenter / x64  OK    OK    WARNINGS    OK  UNNEEDED, same version is already published
lconwaymacOS 12.6.5 Monterey / x86_64  OK    OK    WARNINGS    OK  UNNEEDED, same version is already published
kunpeng2Linux (openEuler 22.03 LTS-SP1) / aarch64  OK    OK    WARNINGS  
Package 48/85HostnameOS / ArchINSTALLBUILDCHECKBUILD BIN
keggorthology 2.53.0  (landing page)
VJ Carey
git_last_commit: 0a82a83
git_last_commit_date: 2023-04-25 09:45:38 -0400
nebbiolo2Linux (Ubuntu 22.04.2 LTS) / x86_64  OK    OK    OK  UNNEEDED, same version is already published
palomino4Windows Server 2022 Datacenter / x64  OK    OK    OK    OK  UNNEEDED, same version is already published
lconwaymacOS 12.6.5 Monterey / x86_64  OK    OK    OK    OK  UNNEEDED, same version is already published
kunpeng2Linux (openEuler 22.03 LTS-SP1) / aarch64  OK    OK    OK  
Package 49/85HostnameOS / ArchINSTALLBUILDCHECKBUILD BIN
maigesPack 1.65.0  (landing page)
Gustavo H. Esteves
git_last_commit: 829c2b6
git_last_commit_date: 2023-04-25 09:46:01 -0400
nebbiolo2Linux (Ubuntu 22.04.2 LTS) / x86_64  OK    OK    ERROR  
palomino4Windows Server 2022 Datacenter / x64  OK    OK    OK    OK  UNNEEDED, same version is already published
lconwaymacOS 12.6.5 Monterey / x86_64  OK    OK    OK    OK  UNNEEDED, same version is already published
kunpeng2Linux (openEuler 22.03 LTS-SP1) / aarch64  OK    OK    ERROR  
Package 50/85HostnameOS / ArchINSTALLBUILDCHECKBUILD BIN
MineICA 1.41.0  (landing page)
Anne Biton
git_last_commit: 29de5cb
git_last_commit_date: 2023-04-25 10:25:45 -0400
nebbiolo2Linux (Ubuntu 22.04.2 LTS) / x86_64  OK    OK    WARNINGS  UNNEEDED, same version is already published
palomino4Windows Server 2022 Datacenter / x64  OK    OK    WARNINGS    OK  UNNEEDED, same version is already published
lconwaymacOS 12.6.5 Monterey / x86_64  OK    OK    WARNINGS    OK  UNNEEDED, same version is already published
kunpeng2Linux (openEuler 22.03 LTS-SP1) / aarch64  OK    OK    WARNINGS  
Package 51/85HostnameOS / ArchINSTALLBUILDCHECKBUILD BIN
mirIntegrator 1.31.0  (landing page)
Diana Diaz
git_last_commit: 1014152
git_last_commit_date: 2023-04-25 10:40:06 -0400
nebbiolo2Linux (Ubuntu 22.04.2 LTS) / x86_64  OK    OK    OK  UNNEEDED, same version is already published
palomino4Windows Server 2022 Datacenter / x64  OK    OK    OK    OK  UNNEEDED, same version is already published
lconwaymacOS 12.6.5 Monterey / x86_64  OK    OK    OK    OK  UNNEEDED, same version is already published
kunpeng2Linux (openEuler 22.03 LTS-SP1) / aarch64  OK    OK    OK  
Package 52/85HostnameOS / ArchINSTALLBUILDCHECKBUILD BIN
mnem 1.17.0  (landing page)
Martin Pirkl
git_last_commit: 10bc842
git_last_commit_date: 2023-04-25 11:10:40 -0400
nebbiolo2Linux (Ubuntu 22.04.2 LTS) / x86_64  OK    OK    OK  NO, package depends on 'Linnorm' which is not available
palomino4Windows Server 2022 Datacenter / x64  OK    OK    OK    OK  UNNEEDED, same version is already published
lconwaymacOS 12.6.5 Monterey / x86_64  OK    OK    OK    OK  UNNEEDED, same version is already published
kunpeng2Linux (openEuler 22.03 LTS-SP1) / aarch64  OK    OK    OK  
Package 53/85HostnameOS / ArchINSTALLBUILDCHECKBUILD BIN
NCIgraph 1.49.1  (landing page)
Laurent Jacob
git_last_commit: 8b3c9a8
git_last_commit_date: 2023-08-02 08:05:16 -0400
nebbiolo2Linux (Ubuntu 22.04.2 LTS) / x86_64  OK    OK    OK  UNNEEDED, same version is already published
palomino4Windows Server 2022 Datacenter / x64... NOT SUPPORTED ...
lconwaymacOS 12.6.5 Monterey / x86_64... NOT SUPPORTED ...
kunpeng2Linux (openEuler 22.03 LTS-SP1) / aarch64  OK    OK    OK  
Package 54/85HostnameOS / ArchINSTALLBUILDCHECKBUILD BIN
NeighborNet 1.19.0  (landing page)
Sahar Ansari
git_last_commit: ba33187
git_last_commit_date: 2023-04-25 11:05:04 -0400
nebbiolo2Linux (Ubuntu 22.04.2 LTS) / x86_64  OK    OK    ERROR  
palomino4Windows Server 2022 Datacenter / x64  OK    OK    OK    OK  UNNEEDED, same version is already published
lconwaymacOS 12.6.5 Monterey / x86_64  OK    OK    OK    OK  UNNEEDED, same version is already published
kunpeng2Linux (openEuler 22.03 LTS-SP1) / aarch64  OK    OK    ERROR  
Package 55/85HostnameOS / ArchINSTALLBUILDCHECKBUILD BIN
netresponse 1.61.0  (landing page)
Leo Lahti
git_last_commit: e2e548e
git_last_commit_date: 2023-04-25 10:18:03 -0400
nebbiolo2Linux (Ubuntu 22.04.2 LTS) / x86_64  OK    OK    OK  UNNEEDED, same version is already published
palomino4Windows Server 2022 Datacenter / x64  OK    OK    OK    OK  UNNEEDED, same version is already published
lconwaymacOS 12.6.5 Monterey / x86_64  OK    OK    OK    OK  UNNEEDED, same version is already published
kunpeng2Linux (openEuler 22.03 LTS-SP1) / aarch64  OK    OK    OK  
Package 56/85HostnameOS / ArchINSTALLBUILDCHECKBUILD BIN
OncoSimulR 4.3.3  (landing page)
Ramon Diaz-Uriarte
git_last_commit: e54b258
git_last_commit_date: 2023-07-17 07:22:04 -0400
nebbiolo2Linux (Ubuntu 22.04.2 LTS) / x86_64  OK    OK    OK  UNNEEDED, same version is already published
palomino4Windows Server 2022 Datacenter / x64  OK    OK    OK    OK  UNNEEDED, same version is already published
lconwaymacOS 12.6.5 Monterey / x86_64  OK    OK    OK    OK  UNNEEDED, same version is already published
kunpeng2Linux (openEuler 22.03 LTS-SP1) / aarch64  OK    OK    OK  
Package 57/85HostnameOS / ArchINSTALLBUILDCHECKBUILD BIN
ontoProc 1.23.0  (landing page)
Vincent Carey
git_last_commit: 46124ea
git_last_commit_date: 2023-04-25 10:57:39 -0400
nebbiolo2Linux (Ubuntu 22.04.2 LTS) / x86_64  OK    OK    OK  UNNEEDED, same version is already published
palomino4Windows Server 2022 Datacenter / x64  OK    OK    OK    OK  UNNEEDED, same version is already published
lconwaymacOS 12.6.5 Monterey / x86_64  OK    OK    OK    OK  UNNEEDED, same version is already published
kunpeng2Linux (openEuler 22.03 LTS-SP1) / aarch64  OK    OK    OK  
Package 58/85HostnameOS / ArchINSTALLBUILDCHECKBUILD BIN
openCyto 2.13.0  (landing page)
Mike Jiang
git_last_commit: fe3c84c
git_last_commit_date: 2023-04-25 10:29:14 -0400
nebbiolo2Linux (Ubuntu 22.04.2 LTS) / x86_64  OK    OK    WARNINGS  UNNEEDED, same version is already published
palomino4Windows Server 2022 Datacenter / x64  OK    OK    WARNINGS    OK  UNNEEDED, same version is already published
lconwaymacOS 12.6.5 Monterey / x86_64  OK    OK    WARNINGS    OK  UNNEEDED, same version is already published
kunpeng2Linux (openEuler 22.03 LTS-SP1) / aarch64  OK    OK    WARNINGS  
Package 59/85HostnameOS / ArchINSTALLBUILDCHECKBUILD BIN
oposSOM 2.19.0  (landing page)
Henry Loeffler-Wirth
git_last_commit: 1ebf8d2
git_last_commit_date: 2023-04-25 10:32:54 -0400
nebbiolo2Linux (Ubuntu 22.04.2 LTS) / x86_64  OK    OK    WARNINGS  UNNEEDED, same version is already published
palomino4Windows Server 2022 Datacenter / x64  OK    OK    WARNINGS    OK  UNNEEDED, same version is already published
lconwaymacOS 12.6.5 Monterey / x86_64  OK    OK    WARNINGS    OK  UNNEEDED, same version is already published
kunpeng2Linux (openEuler 22.03 LTS-SP1) / aarch64  OK    OK    WARNINGS  
Package 60/85HostnameOS / ArchINSTALLBUILDCHECKBUILD BIN
OrganismDbi 1.43.0  (landing page)
Bioconductor Package Maintainer
git_last_commit: b2c5577
git_last_commit_date: 2023-04-25 10:23:59 -0400
nebbiolo2Linux (Ubuntu 22.04.2 LTS) / x86_64  OK    OK    WARNINGS  UNNEEDED, same version is already published
palomino4Windows Server 2022 Datacenter / x64  OK    OK    WARNINGS    OK  UNNEEDED, same version is already published
lconwaymacOS 12.6.5 Monterey / x86_64  OK    OK    WARNINGS    OK  UNNEEDED, same version is already published
kunpeng2Linux (openEuler 22.03 LTS-SP1) / aarch64  OK    OK    WARNINGS  
Package 61/85HostnameOS / ArchINSTALLBUILDCHECKBUILD BIN
pathRender 1.69.0  (landing page)
Vince Carey
git_last_commit: dc114e8
git_last_commit_date: 2023-04-25 09:42:53 -0400
nebbiolo2Linux (Ubuntu 22.04.2 LTS) / x86_64  OK    OK    OK  UNNEEDED, same version is already published
palomino4Windows Server 2022 Datacenter / x64  OK    OK    OK    OK  UNNEEDED, same version is already published
lconwaymacOS 12.6.5 Monterey / x86_64  OK    OK    OK    OK  UNNEEDED, same version is already published
kunpeng2Linux (openEuler 22.03 LTS-SP1) / aarch64  OK    OK    OK  
Package 62/85HostnameOS / ArchINSTALLBUILDCHECKBUILD BIN
pathview 1.41.0  (landing page)
Weijun Luo
git_last_commit: e77c932
git_last_commit_date: 2023-04-25 10:26:08 -0400
nebbiolo2Linux (Ubuntu 22.04.2 LTS) / x86_64  OK    OK    WARNINGS  UNNEEDED, same version is already published
palomino4Windows Server 2022 Datacenter / x64  OK    OK    WARNINGS    OK  UNNEEDED, same version is already published
lconwaymacOS 12.6.5 Monterey / x86_64  OK    OK    WARNINGS    OK  UNNEEDED, same version is already published
kunpeng2Linux (openEuler 22.03 LTS-SP1) / aarch64  OK    OK    WARNINGS  
Package 63/85HostnameOS / ArchINSTALLBUILDCHECKBUILD BIN
PFP 1.9.1  (landing page)
XC Zhang
git_last_commit: 61ec700
git_last_commit_date: 2023-07-14 09:49:08 -0400
nebbiolo2Linux (Ubuntu 22.04.2 LTS) / x86_64  OK    ERROR  skipped
palomino4Windows Server 2022 Datacenter / x64  OK    ERROR  skippedskipped
lconwaymacOS 12.6.5 Monterey / x86_64  OK    ERROR  skippedskipped
kunpeng2Linux (openEuler 22.03 LTS-SP1) / aarch64  OK    ERROR  skipped
Package 64/85HostnameOS / ArchINSTALLBUILDCHECKBUILD BIN
PhenStat 2.37.0  (landing page)
Hamed Haselimashhadi
git_last_commit: 247b21f
git_last_commit_date: 2023-04-25 10:29:49 -0400
nebbiolo2Linux (Ubuntu 22.04.2 LTS) / x86_64  OK    OK    OK  UNNEEDED, same version is already published
palomino4Windows Server 2022 Datacenter / x64  OK    OK    OK    OK  UNNEEDED, same version is already published
lconwaymacOS 12.6.5 Monterey / x86_64  OK    OK    OK    OK  UNNEEDED, same version is already published
kunpeng2Linux (openEuler 22.03 LTS-SP1) / aarch64  OK    OK    OK  
Package 65/85HostnameOS / ArchINSTALLBUILDCHECKBUILD BIN
Pigengene 1.27.16  (landing page)
Habil Zare
git_last_commit: 2f54b2b
git_last_commit_date: 2023-06-16 13:26:17 -0400
nebbiolo2Linux (Ubuntu 22.04.2 LTS) / x86_64  OK    OK    OK  UNNEEDED, same version is already published
palomino4Windows Server 2022 Datacenter / x64  OK    OK    OK    OK  UNNEEDED, same version is already published
lconwaymacOS 12.6.5 Monterey / x86_64  OK    OK    OK    OK  UNNEEDED, same version is already published
kunpeng2Linux (openEuler 22.03 LTS-SP1) / aarch64  OK    OK    OK  
Package 66/85HostnameOS / ArchINSTALLBUILDCHECKBUILD BIN
pwOmics 1.33.1  (landing page)
Torsten Schoeps
git_last_commit: 53770ae
git_last_commit_date: 2023-08-28 09:52:39 -0400
nebbiolo2Linux (Ubuntu 22.04.2 LTS) / x86_64  OK    OK    WARNINGS  UNNEEDED, same version is already published
palomino4Windows Server 2022 Datacenter / x64  OK    OK    WARNINGS    OK  UNNEEDED, same version is already published
lconwaymacOS 12.6.5 Monterey / x86_64  OK    OK    WARNINGS    OK  UNNEEDED, same version is already published
kunpeng2Linux (openEuler 22.03 LTS-SP1) / aarch64  OK    OK    WARNINGS  
Package 67/85HostnameOS / ArchINSTALLBUILDCHECKBUILD BIN
qpgraph 2.35.0  (landing page)
Robert Castelo
git_last_commit: d3e2dcc
git_last_commit_date: 2023-04-25 09:48:11 -0400
nebbiolo2Linux (Ubuntu 22.04.2 LTS) / x86_64  OK    ERROR  skipped
palomino4Windows Server 2022 Datacenter / x64  OK    ERROR  skippedskipped
lconwaymacOS 12.6.5 Monterey / x86_64  OK    ERROR  skippedskipped
kunpeng2Linux (openEuler 22.03 LTS-SP1) / aarch64  OK    ERROR  skipped
Package 68/85HostnameOS / ArchINSTALLBUILDCHECKBUILD BIN
RbcBook1 1.69.0  (landing page)
Vince Carey
git_last_commit: 6434584
git_last_commit_date: 2023-04-25 09:44:28 -0400
nebbiolo2Linux (Ubuntu 22.04.2 LTS) / x86_64  OK    OK    OK  UNNEEDED, same version is already published
palomino4Windows Server 2022 Datacenter / x64  OK    OK    OK    OK  UNNEEDED, same version is already published
lconwaymacOS 12.6.5 Monterey / x86_64  OK    OK    OK    OK  UNNEEDED, same version is already published
kunpeng2Linux (openEuler 22.03 LTS-SP1) / aarch64  OK    OK    OK  
Package 69/85HostnameOS / ArchINSTALLBUILDCHECKBUILD BIN
RBGL 1.77.1  (landing page)
Bioconductor Package Maintainer
git_last_commit: 9d7bde9
git_last_commit_date: 2023-05-15 11:22:58 -0400
nebbiolo2Linux (Ubuntu 22.04.2 LTS) / x86_64  OK    OK    WARNINGS  UNNEEDED, same version is already published
palomino4Windows Server 2022 Datacenter / x64  OK    OK    WARNINGS    OK  UNNEEDED, same version is already published
lconwaymacOS 12.6.5 Monterey / x86_64  OK    OK    OK    OK  UNNEEDED, same version is already published
kunpeng2Linux (openEuler 22.03 LTS-SP1) / aarch64  OK    OK    WARNINGS  
Package 70/85HostnameOS / ArchINSTALLBUILDCHECKBUILD BIN
RBioinf 1.61.0  (landing page)
Robert Gentleman
git_last_commit: 7eafb8f
git_last_commit_date: 2023-04-25 09:46:38 -0400
nebbiolo2Linux (Ubuntu 22.04.2 LTS) / x86_64  OK    OK    OK  UNNEEDED, same version is already published
palomino4Windows Server 2022 Datacenter / x64  OK    OK    OK    OK  UNNEEDED, same version is already published
lconwaymacOS 12.6.5 Monterey / x86_64  OK    OK    OK    OK  UNNEEDED, same version is already published
kunpeng2Linux (openEuler 22.03 LTS-SP1) / aarch64  OK    OK    OK  
Package 71/85HostnameOS / ArchINSTALLBUILDCHECKBUILD BIN
RCy3 2.21.3  (landing page)
Alex Pico
git_last_commit: 34c8867
git_last_commit_date: 2023-09-20 04:29:06 -0400
nebbiolo2Linux (Ubuntu 22.04.2 LTS) / x86_64  OK    OK    OK  UNNEEDED, same version is already published
palomino4Windows Server 2022 Datacenter / x64  OK    OK    OK    OK  UNNEEDED, same version is already published
lconwaymacOS 12.6.5 Monterey / x86_64  OK    OK    OK    OK  UNNEEDED, same version is already published
kunpeng2Linux (openEuler 22.03 LTS-SP1) / aarch64  OK    OK    OK  
Package 72/85HostnameOS / ArchINSTALLBUILDCHECKBUILD BIN
RCyjs 2.23.0  (landing page)
Paul Shannon
git_last_commit: 2067845
git_last_commit_date: 2023-04-25 10:39:11 -0400
nebbiolo2Linux (Ubuntu 22.04.2 LTS) / x86_64  OK    OK    WARNINGS  UNNEEDED, same version is already published
palomino4Windows Server 2022 Datacenter / x64  OK    OK    WARNINGS    OK  UNNEEDED, same version is already published
lconwaymacOS 12.6.5 Monterey / x86_64  OK    OK    WARNINGS    OK  UNNEEDED, same version is already published
kunpeng2Linux (openEuler 22.03 LTS-SP1) / aarch64  OK    OK    WARNINGS  
Package 73/85HostnameOS / ArchINSTALLBUILDCHECKBUILD BIN
RGraph2js 1.29.0  (landing page)
Stephane Cano
git_last_commit: 263a9b1
git_last_commit_date: 2023-04-25 10:43:56 -0400
nebbiolo2Linux (Ubuntu 22.04.2 LTS) / x86_64  OK    OK    OK  UNNEEDED, same version is already published
palomino4Windows Server 2022 Datacenter / x64  OK    OK    OK    OK  UNNEEDED, same version is already published
lconwaymacOS 12.6.5 Monterey / x86_64  OK    OK    OK    OK  UNNEEDED, same version is already published
kunpeng2Linux (openEuler 22.03 LTS-SP1) / aarch64  OK    OK    OK  
Package 74/85HostnameOS / ArchINSTALLBUILDCHECKBUILD BIN
Rgraphviz 2.45.0  (landing page)
Kasper Daniel Hansen
git_last_commit: b4f5471
git_last_commit_date: 2023-04-25 09:38:56 -0400
nebbiolo2Linux (Ubuntu 22.04.2 LTS) / x86_64  OK    OK    WARNINGS  UNNEEDED, same version is already published
palomino4Windows Server 2022 Datacenter / x64  OK    OK    WARNINGS    OK  UNNEEDED, same version is already published
lconwaymacOS 12.6.5 Monterey / x86_64  OK    OK    WARNINGS    OK  UNNEEDED, same version is already published
kunpeng2Linux (openEuler 22.03 LTS-SP1) / aarch64  OK    OK    WARNINGS  
Package 75/85HostnameOS / ArchINSTALLBUILDCHECKBUILD BIN
ROntoTools 2.29.1  (landing page)
Sorin Draghici
git_last_commit: 6f468ce
git_last_commit_date: 2023-09-18 09:45:52 -0400
nebbiolo2Linux (Ubuntu 22.04.2 LTS) / x86_64  OK    OK    WARNINGS  UNNEEDED, same version is already published
palomino4Windows Server 2022 Datacenter / x64  OK    OK    WARNINGS    OK  UNNEEDED, same version is already published
lconwaymacOS 12.6.5 Monterey / x86_64  OK    OK    WARNINGS    OK  UNNEEDED, same version is already published
kunpeng2Linux (openEuler 22.03 LTS-SP1) / aarch64  OK    OK    WARNINGS  
Package 76/85HostnameOS / ArchINSTALLBUILDCHECKBUILD BIN
rsbml 2.59.0  (landing page)
Michael Lawrence
git_last_commit: 4a311d6
git_last_commit_date: 2023-04-25 09:45:58 -0400
nebbiolo2Linux (Ubuntu 22.04.2 LTS) / x86_64  OK    OK    WARNINGS  UNNEEDED, same version is already published
palomino4Windows Server 2022 Datacenter / x64  OK    OK    WARNINGS    OK  UNNEEDED, same version is already published
lconwaymacOS 12.6.5 Monterey / x86_64... NOT SUPPORTED ...
kunpeng2Linux (openEuler 22.03 LTS-SP1) / aarch64  ERROR    ERROR  skipped
Package 77/85HostnameOS / ArchINSTALLBUILDCHECKBUILD BIN
Rtreemix 1.63.0  (landing page)
Jasmina Bogojeska
git_last_commit: 3f38091
git_last_commit_date: 2023-04-25 09:46:07 -0400
nebbiolo2Linux (Ubuntu 22.04.2 LTS) / x86_64  OK    OK    WARNINGS  UNNEEDED, same version is already published
palomino4Windows Server 2022 Datacenter / x64  OK    OK    OK    OK  UNNEEDED, same version is already published
lconwaymacOS 12.6.5 Monterey / x86_64  OK    OK    WARNINGS    OK  UNNEEDED, same version is already published
kunpeng2Linux (openEuler 22.03 LTS-SP1) / aarch64  OK    OK    WARNINGS  
Package 78/85HostnameOS / ArchINSTALLBUILDCHECKBUILD BIN
SGCP 1.1.0  (landing page)
Niloofar AghaieAbiane
git_last_commit: 7035cd2
git_last_commit_date: 2023-04-25 11:41:55 -0400
nebbiolo2Linux (Ubuntu 22.04.2 LTS) / x86_64  OK    OK    OK  UNNEEDED, same version is already published
palomino4Windows Server 2022 Datacenter / x64  OK    OK    OK    OK  UNNEEDED, same version is already published
lconwaymacOS 12.6.5 Monterey / x86_64  OK    OK    OK    OK  UNNEEDED, same version is already published
kunpeng2Linux (openEuler 22.03 LTS-SP1) / aarch64  OK    OK    OK  
Package 79/85HostnameOS / ArchINSTALLBUILDCHECKBUILD BIN
SplicingGraphs 1.41.0  (landing page)
H. Pagès
git_last_commit: a2a48df
git_last_commit_date: 2023-04-25 10:27:02 -0400
nebbiolo2Linux (Ubuntu 22.04.2 LTS) / x86_64  OK    OK    WARNINGS  UNNEEDED, same version is already published
palomino4Windows Server 2022 Datacenter / x64  OK    OK    WARNINGS    OK  UNNEEDED, same version is already published
lconwaymacOS 12.6.5 Monterey / x86_64  OK    OK    WARNINGS    OK  UNNEEDED, same version is already published
kunpeng2Linux (openEuler 22.03 LTS-SP1) / aarch64  OK    OK    WARNINGS  
Package 80/85HostnameOS / ArchINSTALLBUILDCHECKBUILD BIN
SRAdb 1.63.0  (landing page)
Jack Zhu
git_last_commit: 1f16670
git_last_commit_date: 2023-04-25 09:50:45 -0400
nebbiolo2Linux (Ubuntu 22.04.2 LTS) / x86_64  OK    OK    OK  UNNEEDED, same version is already published
palomino4Windows Server 2022 Datacenter / x64  OK    OK    OK    OK  UNNEEDED, same version is already published
lconwaymacOS 12.6.5 Monterey / x86_64  OK    OK    OK    OK  UNNEEDED, same version is already published
kunpeng2Linux (openEuler 22.03 LTS-SP1) / aarch64  OK    OK    OK  
Package 81/85HostnameOS / ArchINSTALLBUILDCHECKBUILD BIN
Streamer 1.47.0  (landing page)
Martin Morgan
git_last_commit: 5201a0f
git_last_commit_date: 2023-04-25 10:20:27 -0400
nebbiolo2Linux (Ubuntu 22.04.2 LTS) / x86_64  OK    OK    OK  UNNEEDED, same version is already published
palomino4Windows Server 2022 Datacenter / x64  OK    OK    OK    OK  UNNEEDED, same version is already published
lconwaymacOS 12.6.5 Monterey / x86_64  OK    OK    OK    OK  UNNEEDED, same version is already published
kunpeng2Linux (openEuler 22.03 LTS-SP1) / aarch64  OK    OK    OK  
Package 82/85HostnameOS / ArchINSTALLBUILDCHECKBUILD BIN
topGO 2.53.0  (landing page)
Adrian Alexa
git_last_commit: 17571fb
git_last_commit_date: 2023-04-25 09:44:57 -0400
nebbiolo2Linux (Ubuntu 22.04.2 LTS) / x86_64  OK    OK    OK  UNNEEDED, same version is already published
palomino4Windows Server 2022 Datacenter / x64  OK    OK    OK    OK  UNNEEDED, same version is already published
lconwaymacOS 12.6.5 Monterey / x86_64  OK    OK    OK    OK  UNNEEDED, same version is already published
kunpeng2Linux (openEuler 22.03 LTS-SP1) / aarch64  OK    OK    OK  
Package 83/85HostnameOS / ArchINSTALLBUILDCHECKBUILD BIN
trackViewer 1.37.14  (landing page)
Jianhong Ou
git_last_commit: 104ab29
git_last_commit_date: 2023-07-14 09:50:48 -0400
nebbiolo2Linux (Ubuntu 22.04.2 LTS) / x86_64  OK    OK    OK  UNNEEDED, same version is already published
palomino4Windows Server 2022 Datacenter / x64  OK    OK    OK    OK  UNNEEDED, same version is already published
lconwaymacOS 12.6.5 Monterey / x86_64  OK    OK    OK    OK  UNNEEDED, same version is already published
kunpeng2Linux (openEuler 22.03 LTS-SP1) / aarch64  OK    OK    OK  
Package 84/85HostnameOS / ArchINSTALLBUILDCHECKBUILD BIN
VariantFiltering 1.37.1  (landing page)
Robert Castelo
git_last_commit: d717c2d
git_last_commit_date: 2023-06-26 07:54:10 -0400
nebbiolo2Linux (Ubuntu 22.04.2 LTS) / x86_64  OK    OK    OK  UNNEEDED, same version is already published
palomino4Windows Server 2022 Datacenter / x64  OK    OK    OK    OK  UNNEEDED, same version is already published
lconwaymacOS 12.6.5 Monterey / x86_64  OK    OK    OK    OK  UNNEEDED, same version is already published
kunpeng2Linux (openEuler 22.03 LTS-SP1) / aarch64  OK    OK    OK  
Package 85/85HostnameOS / ArchINSTALLBUILDCHECKBUILD BIN
vtpnet 0.41.0  (landing page)
VJ Carey
git_last_commit: 1474884
git_last_commit_date: 2023-04-25 10:27:17 -0400
nebbiolo2Linux (Ubuntu 22.04.2 LTS) / x86_64  OK    OK    OK  UNNEEDED, same version is already published
palomino4Windows Server 2022 Datacenter / x64  OK    OK    OK    OK  UNNEEDED, same version is already published
lconwaymacOS 12.6.5 Monterey / x86_64  OK    OK    OK    OK  UNNEEDED, same version is already published
kunpeng2Linux (openEuler 22.03 LTS-SP1) / aarch64  OK    OK    OK