Back to Multiple platform build/check report for BioC 3.19:   simplified   long
[A]BCDEFGHIJKLMNOPQRSTUVWXYZ

This page was generated on 2024-03-01 11:34:40 -0500 (Fri, 01 Mar 2024).

HostnameOSArch (*)R versionInstalled pkgs
nebbiolo1Linux (Ubuntu 22.04.3 LTS)x86_64R Under development (unstable) (2024-01-16 r85808) -- "Unsuffered Consequences" 4676
palomino3Windows Server 2022 Datacenterx64R Under development (unstable) (2024-01-14 r85805 ucrt) -- "Unsuffered Consequences" 4414
merida1macOS 12.7.1 Montereyx86_64R Under development (unstable) (2024-01-16 r85808) -- "Unsuffered Consequences" 4441
kunpeng2Linux (openEuler 22.03 LTS-SP1)aarch64R Under development (unstable) (2024-01-16 r85812) -- "Unsuffered Consequences" 4417
Click on any hostname to see more info about the system (e.g. compilers)      (*) as reported by 'uname -p', except on Windows and Mac OS X

All results for package AnnotationDbi


To the developers/maintainers of the AnnotationDbi package:
- Allow up to 24 hours (and sometimes 48 hours) for your latest push to git@git.bioconductor.org:packages/AnnotationDbi.git to reflect on this report. See Troubleshooting Build Report for more information.
- Use the following Renviron settings to reproduce errors and warnings.
- If 'R CMD check' started to fail recently on the Linux builder(s) over a missing dependency, add the missing dependency to 'Suggests:' in your DESCRIPTION file. See Renviron.bioc for more information.

raw results

Package 70/2251HostnameOS / ArchINSTALLBUILDCHECKBUILD BIN
AnnotationDbi 1.65.2  (landing page)
Bioconductor Package Maintainer
Snapshot Date: 2024-02-28 14:00:14 -0500 (Wed, 28 Feb 2024)
git_url: https://git.bioconductor.org/packages/AnnotationDbi
git_branch: devel
git_last_commit: 7daf9f4
git_last_commit_date: 2023-11-03 10:00:09 -0500 (Fri, 03 Nov 2023)
nebbiolo1Linux (Ubuntu 22.04.3 LTS) / x86_64  OK    OK    WARNINGS  UNNEEDED, same version is already published
palomino3Windows Server 2022 Datacenter / x64  OK    OK    WARNINGS    OK  UNNEEDED, same version is already published
merida1macOS 12.7.1 Monterey / x86_64  OK    OK    WARNINGS    OK  UNNEEDED, same version is already published
kunpeng2Linux (openEuler 22.03 LTS-SP1) / aarch64  OK    OK    ERROR  

Results for Bioconductor software packages that depend directly on package AnnotationDbi

<
QUICK STATSOS / ArchINSTALLBUILDCHECKBUILD BIN
nebbiolo1Linux (Ubuntu 22.04.3 LTS) / x86_64
02191
08185
01334138
palomino3Windows Server 2022 Datacenter / x64
02191
125167
0830129
00167
merida1macOS 12.7.1 Monterey / x86_64
01192
18184
1736140
00184
kunpeng2Linux (openEuler 22.03 LTS-SP1) / aarch64
03190
920164
02131112
Package 1/193HostnameOS / ArchINSTALLBUILDCHECKBUILD BIN
adSplit 1.73.0  (landing page)
Claudio Lottaz
git_last_commit: 33440e6
git_last_commit_date: 2023-10-24 09:36:20 -0500
nebbiolo1Linux (Ubuntu 22.04.3 LTS) / x86_64  OK    OK    OK  UNNEEDED, same version is already published
palomino3Windows Server 2022 Datacenter / x64  OK    OK    OK    OK  UNNEEDED, same version is already published
merida1macOS 12.7.1 Monterey / x86_64  OK    OK    OK    OK  UNNEEDED, same version is already published
kunpeng2Linux (openEuler 22.03 LTS-SP1) / aarch64  OK    OK    OK  
Package 2/193HostnameOS / ArchINSTALLBUILDCHECKBUILD BIN
affycoretools 1.75.0  (landing page)
James W. MacDonald
git_last_commit: 21500b3
git_last_commit_date: 2023-10-24 09:35:49 -0500
nebbiolo1Linux (Ubuntu 22.04.3 LTS) / x86_64  OK    OK    OK  UNNEEDED, same version is already published
palomino3Windows Server 2022 Datacenter / x64  OK    OK    OK    OK  UNNEEDED, same version is already published
merida1macOS 12.7.1 Monterey / x86_64  OK    OK    OK    OK  UNNEEDED, same version is already published
kunpeng2Linux (openEuler 22.03 LTS-SP1) / aarch64  OK    OK    WARNINGS  
Package 3/193HostnameOS / ArchINSTALLBUILDCHECKBUILD BIN
affylmGUI 1.77.0  (landing page)
Gordon Smyth
git_last_commit: e5e67ff
git_last_commit_date: 2023-10-24 09:33:21 -0500
nebbiolo1Linux (Ubuntu 22.04.3 LTS) / x86_64  OK    OK    OK  UNNEEDED, same version is already published
palomino3Windows Server 2022 Datacenter / x64  OK    OK    OK    OK  UNNEEDED, same version is already published
merida1macOS 12.7.1 Monterey / x86_64  OK    OK    OK    OK  UNNEEDED, same version is already published
kunpeng2Linux (openEuler 22.03 LTS-SP1) / aarch64  OK    OK    OK  
Package 4/193HostnameOS / ArchINSTALLBUILDCHECKBUILD BIN
AllelicImbalance 1.41.0  (landing page)
Jesper R Gadin
git_last_commit: 13b7eae
git_last_commit_date: 2023-10-24 09:56:05 -0500
nebbiolo1Linux (Ubuntu 22.04.3 LTS) / x86_64  OK    OK    OK  UNNEEDED, same version is already published
palomino3Windows Server 2022 Datacenter / x64  OK    OK    OK    OK  UNNEEDED, same version is already published
merida1macOS 12.7.1 Monterey / x86_64  OK    OK    OK    OK  UNNEEDED, same version is already published
kunpeng2Linux (openEuler 22.03 LTS-SP1) / aarch64  OK    OK    ERROR  
Package 5/193HostnameOS / ArchINSTALLBUILDCHECKBUILD BIN
annaffy 1.75.0  (landing page)
Colin A. Smith
git_last_commit: 4351f5f
git_last_commit_date: 2023-10-24 09:32:19 -0500
nebbiolo1Linux (Ubuntu 22.04.3 LTS) / x86_64  OK    OK    WARNINGS  UNNEEDED, same version is already published
palomino3Windows Server 2022 Datacenter / x64  OK    OK    WARNINGS    OK  UNNEEDED, same version is already published
merida1macOS 12.7.1 Monterey / x86_64  OK    OK    WARNINGS    OK  UNNEEDED, same version is already published
kunpeng2Linux (openEuler 22.03 LTS-SP1) / aarch64  OK    OK    WARNINGS  
Package 6/193HostnameOS / ArchINSTALLBUILDCHECKBUILD BIN
annotate 1.81.2  (landing page)
Bioconductor Package Maintainer
git_last_commit: d591601
git_last_commit_date: 2024-01-24 16:05:34 -0500
nebbiolo1Linux (Ubuntu 22.04.3 LTS) / x86_64  OK    OK    OK  UNNEEDED, same version is already published
palomino3Windows Server 2022 Datacenter / x64  OK    OK    OK    OK  UNNEEDED, same version is already published
merida1macOS 12.7.1 Monterey / x86_64  OK    OK    OK    OK  UNNEEDED, same version is already published
kunpeng2Linux (openEuler 22.03 LTS-SP1) / aarch64  OK    OK    ERROR  
Package 7/193HostnameOS / ArchINSTALLBUILDCHECKBUILD BIN
AnnotationForge 1.45.0  (landing page)
Bioconductor Package Maintainer
git_last_commit: 2bba05a
git_last_commit_date: 2023-10-24 09:50:31 -0500
nebbiolo1Linux (Ubuntu 22.04.3 LTS) / x86_64  OK    OK    OK  UNNEEDED, same version is already published
palomino3Windows Server 2022 Datacenter / x64  OK    OK    OK    OK  UNNEEDED, same version is already published
merida1macOS 12.7.1 Monterey / x86_64  OK    OK    OK    OK  UNNEEDED, same version is already published
kunpeng2Linux (openEuler 22.03 LTS-SP1) / aarch64  OK    OK    OK  
Package 8/193HostnameOS / ArchINSTALLBUILDCHECKBUILD BIN
AnnotationHub 3.11.1  (landing page)
Bioconductor Package Maintainer
git_last_commit: cb9fc2f
git_last_commit_date: 2024-02-01 08:31:54 -0500
nebbiolo1Linux (Ubuntu 22.04.3 LTS) / x86_64  OK    OK    WARNINGS  UNNEEDED, same version is already published
palomino3Windows Server 2022 Datacenter / x64  OK    OK    WARNINGS    OK  UNNEEDED, same version is already published
merida1macOS 12.7.1 Monterey / x86_64  OK    OK    WARNINGS    OK  UNNEEDED, same version is already published
kunpeng2Linux (openEuler 22.03 LTS-SP1) / aarch64  OK    OK    ERROR  
Package 9/193HostnameOS / ArchINSTALLBUILDCHECKBUILD BIN
AnnotationHubData 1.33.1  (landing page)
Bioconductor Package Maintainer
git_last_commit: 088c3b2
git_last_commit_date: 2024-02-12 13:04:33 -0500
nebbiolo1Linux (Ubuntu 22.04.3 LTS) / x86_64  OK    OK    WARNINGS  UNNEEDED, same version is already published
palomino3Windows Server 2022 Datacenter / x64  OK    OK    WARNINGS    OK  UNNEEDED, same version is already published
merida1macOS 12.7.1 Monterey / x86_64  OK    OK    WARNINGS    OK  UNNEEDED, same version is already published
kunpeng2Linux (openEuler 22.03 LTS-SP1) / aarch64  OK    OK    ERROR  
Package 10/193HostnameOS / ArchINSTALLBUILDCHECKBUILD BIN
annotatr 1.29.0  (landing page)
Raymond G. Cavalcante
git_last_commit: 7656a7a
git_last_commit_date: 2023-10-24 10:53:43 -0500
nebbiolo1Linux (Ubuntu 22.04.3 LTS) / x86_64  OK    OK    OK  UNNEEDED, same version is already published
palomino3Windows Server 2022 Datacenter / x64  OK    OK    OK    OK  UNNEEDED, same version is already published
merida1macOS 12.7.1 Monterey / x86_64  OK    OK    OK    OK  UNNEEDED, same version is already published
kunpeng2Linux (openEuler 22.03 LTS-SP1) / aarch64  OK    OK    ERROR  
Package 11/193HostnameOS / ArchINSTALLBUILDCHECKBUILD BIN
artMS 1.21.0  (landing page)
David Jimenez-Morales
git_last_commit: 0ddf74b
git_last_commit_date: 2023-10-24 11:09:13 -0500
nebbiolo1Linux (Ubuntu 22.04.3 LTS) / x86_64  OK    OK    OK  UNNEEDED, same version is already published
palomino3Windows Server 2022 Datacenter / x64  OK    OK    OK    OK  UNNEEDED, same version is already published
merida1macOS 12.7.1 Monterey / x86_64  OK    OK    OK    OK  UNNEEDED, same version is already published
kunpeng2Linux (openEuler 22.03 LTS-SP1) / aarch64  OK    OK    OK  
Package 12/193HostnameOS / ArchINSTALLBUILDCHECKBUILD BIN
ASpli 2.13.0  (landing page)
Ariel Chernomoretz
git_last_commit: 7525b85
git_last_commit_date: 2023-10-24 10:51:51 -0500
nebbiolo1Linux (Ubuntu 22.04.3 LTS) / x86_64  OK    OK    WARNINGS  UNNEEDED, same version is already published
palomino3Windows Server 2022 Datacenter / x64  OK    OK    WARNINGS    OK  UNNEEDED, same version is already published
merida1macOS 12.7.1 Monterey / x86_64  OK    OK    WARNINGS    OK  UNNEEDED, same version is already published
kunpeng2Linux (openEuler 22.03 LTS-SP1) / aarch64  OK    OK    ERROR  
Package 13/193HostnameOS / ArchINSTALLBUILDCHECKBUILD BIN
attract 1.55.0  (landing page)
Samuel Zimmerman
git_last_commit: 096a41b
git_last_commit_date: 2023-10-24 09:44:13 -0500
nebbiolo1Linux (Ubuntu 22.04.3 LTS) / x86_64  OK    OK    OK  UNNEEDED, same version is already published
palomino3Windows Server 2022 Datacenter / x64  OK    OK    OK    OK  UNNEEDED, same version is already published
merida1macOS 12.7.1 Monterey / x86_64  OK    OK    OK    OK  UNNEEDED, same version is already published
kunpeng2Linux (openEuler 22.03 LTS-SP1) / aarch64  OK    OK    ERROR  
Package 14/193HostnameOS / ArchINSTALLBUILDCHECKBUILD BIN
beadarray 2.53.0  (landing page)
Mark Dunning
git_last_commit: 45ee237
git_last_commit_date: 2023-10-24 09:36:14 -0500
nebbiolo1Linux (Ubuntu 22.04.3 LTS) / x86_64  OK    OK    OK  UNNEEDED, same version is already published
palomino3Windows Server 2022 Datacenter / x64  OK    OK    OK    OK  UNNEEDED, same version is already published
merida1macOS 12.7.1 Monterey / x86_64  OK    OK    OK    OK  UNNEEDED, same version is already published
kunpeng2Linux (openEuler 22.03 LTS-SP1) / aarch64  OK    OK    ERROR  
Package 15/193HostnameOS / ArchINSTALLBUILDCHECKBUILD BIN
bioCancer 1.31.0  (landing page)
Karim Mezhoud
git_last_commit: de7ed09
git_last_commit_date: 2023-10-24 10:50:30 -0500
nebbiolo1Linux (Ubuntu 22.04.3 LTS) / x86_64  OK    OK    ERROR  
palomino3Windows Server 2022 Datacenter / x64  OK    OK    ERROR    OK  
merida1macOS 12.7.1 Monterey / x86_64  OK    OK    ERROR    OK  
kunpeng2Linux (openEuler 22.03 LTS-SP1) / aarch64  OK    OK    ERROR  
Package 16/193HostnameOS / ArchINSTALLBUILDCHECKBUILD BIN
BiocSet 1.17.1  (landing page)
Kayla Morrell
git_last_commit: 66a9e6f
git_last_commit_date: 2024-02-09 13:06:30 -0500
nebbiolo1Linux (Ubuntu 22.04.3 LTS) / x86_64  OK    OK    OK  UNNEEDED, same version is already published
palomino3Windows Server 2022 Datacenter / x64  OK    OK    OK    OK  UNNEEDED, same version is already published
merida1macOS 12.7.1 Monterey / x86_64  OK    OK    OK    OK  UNNEEDED, same version is already published
kunpeng2Linux (openEuler 22.03 LTS-SP1) / aarch64  OK    OK    ERROR  
Package 17/193HostnameOS / ArchINSTALLBUILDCHECKBUILD BIN
biomaRt 2.59.1  (landing page)
Mike Smith
git_last_commit: 6d3ddc3
git_last_commit_date: 2024-01-24 08:00:06 -0500
nebbiolo1Linux (Ubuntu 22.04.3 LTS) / x86_64  OK    OK    OK  UNNEEDED, same version is already published
palomino3Windows Server 2022 Datacenter / x64  OK    OK    OK    OK  UNNEEDED, same version is already published
merida1macOS 12.7.1 Monterey / x86_64  OK    OK    OK    OK  UNNEEDED, same version is already published
kunpeng2Linux (openEuler 22.03 LTS-SP1) / aarch64  OK    OK    OK  
Package 18/193HostnameOS / ArchINSTALLBUILDCHECKBUILD BIN
BioNAR 1.5.2  (landing page)
Anatoly Sorokin
git_last_commit: 01d2a70
git_last_commit_date: 2024-01-31 04:06:53 -0500
nebbiolo1Linux (Ubuntu 22.04.3 LTS) / x86_64  OK    OK    ERROR  
palomino3Windows Server 2022 Datacenter / x64  OK    OK    ERROR    OK  
merida1macOS 12.7.1 Monterey / x86_64  OK    OK    ERROR    OK  
kunpeng2Linux (openEuler 22.03 LTS-SP1) / aarch64  OK    OK    ERROR  
Package 19/193HostnameOS / ArchINSTALLBUILDCHECKBUILD BIN
BioNet 1.63.0  (landing page)
Marcus Dittrich
git_last_commit: ed40cff
git_last_commit_date: 2023-10-24 09:44:30 -0500
nebbiolo1Linux (Ubuntu 22.04.3 LTS) / x86_64  OK    OK    OK  UNNEEDED, same version is already published
palomino3Windows Server 2022 Datacenter / x64  OK    ERROR  skippedskipped
merida1macOS 12.7.1 Monterey / x86_64  OK    OK    OK    OK  UNNEEDED, same version is already published
kunpeng2Linux (openEuler 22.03 LTS-SP1) / aarch64  OK    OK    OK  
Package 20/193HostnameOS / ArchINSTALLBUILDCHECKBUILD BIN
biovizBase 1.51.0  (landing page)
Michael Lawrence
git_last_commit: 226610a
git_last_commit_date: 2023-10-24 09:48:08 -0500
nebbiolo1Linux (Ubuntu 22.04.3 LTS) / x86_64  OK    OK    WARNINGS  UNNEEDED, same version is already published
palomino3Windows Server 2022 Datacenter / x64  OK    ERROR  skippedskipped
merida1macOS 12.7.1 Monterey / x86_64  OK    OK    WARNINGS    OK  UNNEEDED, same version is already published
kunpeng2Linux (openEuler 22.03 LTS-SP1) / aarch64  OK    OK    WARNINGS  
Package 21/193HostnameOS / ArchINSTALLBUILDCHECKBUILD BIN
bumphunter 1.45.0  (landing page)
Tamilselvi Guharaj
git_last_commit: 7457851
git_last_commit_date: 2023-10-24 09:52:09 -0500
nebbiolo1Linux (Ubuntu 22.04.3 LTS) / x86_64  OK    OK    OK  UNNEEDED, same version is already published
palomino3Windows Server 2022 Datacenter / x64  OK    ERROR  skippedskipped
merida1macOS 12.7.1 Monterey / x86_64  OK    OK    OK    OK  UNNEEDED, same version is already published
kunpeng2Linux (openEuler 22.03 LTS-SP1) / aarch64  OK    OK    OK  
Package 22/193HostnameOS / ArchINSTALLBUILDCHECKBUILD BIN
BUSpaRse 1.17.1  (landing page)
Lambda Moses
git_last_commit: a178828
git_last_commit_date: 2024-02-27 19:43:59 -0500
nebbiolo1Linux (Ubuntu 22.04.3 LTS) / x86_64  OK    OK    OK  YES
palomino3Windows Server 2022 Datacenter / x64  OK    ERROR  skippedskipped
merida1macOS 12.7.1 Monterey / x86_64  OK    OK    OK    OK  YES
kunpeng2Linux (openEuler 22.03 LTS-SP1) / aarch64  OK    TIMEOUT  skipped
Package 23/193HostnameOS / ArchINSTALLBUILDCHECKBUILD BIN
Category 2.69.0  (landing page)
Bioconductor Package Maintainer
git_last_commit: 2b33bdf
git_last_commit_date: 2023-10-24 09:35:14 -0500
nebbiolo1Linux (Ubuntu 22.04.3 LTS) / x86_64  OK    OK    OK  UNNEEDED, same version is already published
palomino3Windows Server 2022 Datacenter / x64  OK    ERROR  skippedskipped
merida1macOS 12.7.1 Monterey / x86_64  OK    OK    OK    OK  UNNEEDED, same version is already published
kunpeng2Linux (openEuler 22.03 LTS-SP1) / aarch64  OK    OK    OK  
Package 24/193HostnameOS / ArchINSTALLBUILDCHECKBUILD BIN
categoryCompare 1.47.0  (landing page)
Robert M. Flight
git_last_commit: c1100aa
git_last_commit_date: 2023-10-24 09:50:05 -0500
nebbiolo1Linux (Ubuntu 22.04.3 LTS) / x86_64  OK    OK    OK  UNNEEDED, same version is already published
palomino3Windows Server 2022 Datacenter / x64  OK    OK    OK    OK  UNNEEDED, same version is already published
merida1macOS 12.7.1 Monterey / x86_64  OK    OK    OK    OK  UNNEEDED, same version is already published
kunpeng2Linux (openEuler 22.03 LTS-SP1) / aarch64  OK    OK    OK  
Package 25/193HostnameOS / ArchINSTALLBUILDCHECKBUILD BIN
ccmap 1.29.0  (landing page)
Alex Pickering
git_last_commit: 2cf31c0
git_last_commit_date: 2023-10-24 10:51:05 -0500
nebbiolo1Linux (Ubuntu 22.04.3 LTS) / x86_64  OK    OK    WARNINGS  UNNEEDED, same version is already published
palomino3Windows Server 2022 Datacenter / x64  OK    OK    WARNINGS    OK  UNNEEDED, same version is already published
merida1macOS 12.7.1 Monterey / x86_64  OK    OK    WARNINGS    OK  UNNEEDED, same version is already published
kunpeng2Linux (openEuler 22.03 LTS-SP1) / aarch64  OK    OK    WARNINGS  
Package 26/193HostnameOS / ArchINSTALLBUILDCHECKBUILD BIN
cellity 1.31.0  (landing page)
Tomislav Ilicic
git_last_commit: d81296a
git_last_commit_date: 2023-10-24 10:47:53 -0500
nebbiolo1Linux (Ubuntu 22.04.3 LTS) / x86_64  OK    OK    OK  UNNEEDED, same version is already published
palomino3Windows Server 2022 Datacenter / x64  OK    OK    OK    OK  UNNEEDED, same version is already published
merida1macOS 12.7.1 Monterey / x86_64  OK    OK    OK    OK  UNNEEDED, same version is already published
kunpeng2Linux (openEuler 22.03 LTS-SP1) / aarch64  OK    OK    OK  
Package 27/193HostnameOS / ArchINSTALLBUILDCHECKBUILD BIN
chimeraviz 1.29.0  (landing page)
Stian Lågstad
git_last_commit: 925f992
git_last_commit_date: 2023-11-25 11:53:49 -0500
nebbiolo1Linux (Ubuntu 22.04.3 LTS) / x86_64  OK    OK    OK  UNNEEDED, same version is already published
palomino3Windows Server 2022 Datacenter / x64  OK    OK    OK    OK  UNNEEDED, same version is already published
merida1macOS 12.7.1 Monterey / x86_64  OK    OK    OK    OK  UNNEEDED, same version is already published
kunpeng2Linux (openEuler 22.03 LTS-SP1) / aarch64  OK    OK    OK  
Package 28/193HostnameOS / ArchINSTALLBUILDCHECKBUILD BIN
chipenrich 2.27.0  (landing page)
Kai Wang
git_last_commit: b712917
git_last_commit_date: 2023-10-24 09:55:43 -0500
nebbiolo1Linux (Ubuntu 22.04.3 LTS) / x86_64  OK    OK    OK  UNNEEDED, same version is already published
palomino3Windows Server 2022 Datacenter / x64  OK    OK    OK    OK  UNNEEDED, same version is already published
merida1macOS 12.7.1 Monterey / x86_64  OK    OK    OK    OK  UNNEEDED, same version is already published
kunpeng2Linux (openEuler 22.03 LTS-SP1) / aarch64  OK    OK    OK  
Package 29/193HostnameOS / ArchINSTALLBUILDCHECKBUILD BIN
ChIPpeakAnno 3.37.4  (landing page)
Jianhong Ou
git_last_commit: 58a122c
git_last_commit_date: 2024-01-29 08:57:31 -0500
nebbiolo1Linux (Ubuntu 22.04.3 LTS) / x86_64  OK    OK    OK  UNNEEDED, same version is already published
palomino3Windows Server 2022 Datacenter / x64  OK    OK    OK    OK  UNNEEDED, same version is already published
merida1macOS 12.7.1 Monterey / x86_64  OK    TIMEOUT  skippedskipped
kunpeng2Linux (openEuler 22.03 LTS-SP1) / aarch64  OK    OK    OK  
Package 30/193HostnameOS / ArchINSTALLBUILDCHECKBUILD BIN
ChIPseeker 1.39.0  (landing page)
Guangchuang Yu
git_last_commit: cb681a6
git_last_commit_date: 2023-10-25 05:07:35 -0500
nebbiolo1Linux (Ubuntu 22.04.3 LTS) / x86_64  OK    OK    OK  UNNEEDED, same version is already published
palomino3Windows Server 2022 Datacenter / x64  OK    OK    OK    OK  UNNEEDED, same version is already published
merida1macOS 12.7.1 Monterey / x86_64  OK    OK    TIMEOUT    OK  
kunpeng2Linux (openEuler 22.03 LTS-SP1) / aarch64  OK    OK    OK  
Package 31/193HostnameOS / ArchINSTALLBUILDCHECKBUILD BIN
ChromHeatMap 1.57.0  (landing page)
Tim F. Rayner
git_last_commit: 380cfa5
git_last_commit_date: 2023-10-24 09:42:48 -0500
nebbiolo1Linux (Ubuntu 22.04.3 LTS) / x86_64  OK    OK    OK  UNNEEDED, same version is already published
palomino3Windows Server 2022 Datacenter / x64  OK    OK    OK    OK  UNNEEDED, same version is already published
merida1macOS 12.7.1 Monterey / x86_64  OK    OK    OK    OK  UNNEEDED, same version is already published
kunpeng2Linux (openEuler 22.03 LTS-SP1) / aarch64  OK    OK    OK  
Package 32/193HostnameOS / ArchINSTALLBUILDCHECKBUILD BIN
clusterProfiler 4.11.0  (landing page)
Guangchuang Yu
git_last_commit: fce9af2
git_last_commit_date: 2023-10-24 09:46:01 -0500
nebbiolo1Linux (Ubuntu 22.04.3 LTS) / x86_64  OK    OK    OK  UNNEEDED, same version is already published
palomino3Windows Server 2022 Datacenter / x64  OK    OK    OK    OK  UNNEEDED, same version is already published
merida1macOS 12.7.1 Monterey / x86_64  OK    OK    OK    OK  UNNEEDED, same version is already published
kunpeng2Linux (openEuler 22.03 LTS-SP1) / aarch64  OK    OK    OK  
Package 33/193HostnameOS / ArchINSTALLBUILDCHECKBUILD BIN
CoCiteStats 1.75.0  (landing page)
Bioconductor Package Maintainer
git_last_commit: 335b100
git_last_commit_date: 2023-10-24 09:34:31 -0500
nebbiolo1Linux (Ubuntu 22.04.3 LTS) / x86_64  OK    OK    OK  UNNEEDED, same version is already published
palomino3Windows Server 2022 Datacenter / x64  OK    OK    OK    OK  UNNEEDED, same version is already published
merida1macOS 12.7.1 Monterey / x86_64  OK    OK    OK    OK  UNNEEDED, same version is already published
kunpeng2Linux (openEuler 22.03 LTS-SP1) / aarch64  OK    OK    OK  
Package 34/193HostnameOS / ArchINSTALLBUILDCHECKBUILD BIN
Cogito 1.9.0  (landing page)
Annika Bürger
git_last_commit: f7902b8
git_last_commit_date: 2023-10-24 11:37:21 -0500
nebbiolo1Linux (Ubuntu 22.04.3 LTS) / x86_64  OK    OK    OK  UNNEEDED, same version is already published
palomino3Windows Server 2022 Datacenter / x64  OK    OK    OK    OK  UNNEEDED, same version is already published
merida1macOS 12.7.1 Monterey / x86_64  OK    OK    OK    OK  UNNEEDED, same version is already published
kunpeng2Linux (openEuler 22.03 LTS-SP1) / aarch64  OK    OK    ERROR  
Package 35/193HostnameOS / ArchINSTALLBUILDCHECKBUILD BIN
compEpiTools 1.37.0  (landing page)
Mattia Furlan
git_last_commit: 3664bd5
git_last_commit_date: 2023-10-24 10:00:44 -0500
nebbiolo1Linux (Ubuntu 22.04.3 LTS) / x86_64  OK    OK    WARNINGS  UNNEEDED, same version is already published
palomino3Windows Server 2022 Datacenter / x64  OK    ERROR  skippedskipped
merida1macOS 12.7.1 Monterey / x86_64  OK    OK    WARNINGS    OK  UNNEEDED, same version is already published
kunpeng2Linux (openEuler 22.03 LTS-SP1) / aarch64  OK    OK    WARNINGS  
Package 36/193HostnameOS / ArchINSTALLBUILDCHECKBUILD BIN
consensusDE 1.21.0  (landing page)
Ashley J. Waardenberg
git_last_commit: 87ab6b1
git_last_commit_date: 2023-10-24 11:09:05 -0500
nebbiolo1Linux (Ubuntu 22.04.3 LTS) / x86_64  OK    OK    OK  UNNEEDED, same version is already published
palomino3Windows Server 2022 Datacenter / x64  OK    OK    OK    OK  UNNEEDED, same version is already published
merida1macOS 12.7.1 Monterey / x86_64  OK    OK    OK    OK  UNNEEDED, same version is already published
kunpeng2Linux (openEuler 22.03 LTS-SP1) / aarch64  OK    OK    OK  
Package 37/193HostnameOS / ArchINSTALLBUILDCHECKBUILD BIN
CoSIA 1.3.0  (landing page)
Amanda D. Clark
git_last_commit: 595e6a0
git_last_commit_date: 2023-10-24 11:49:07 -0500
nebbiolo1Linux (Ubuntu 22.04.3 LTS) / x86_64  OK    ERROR  skipped
palomino3Windows Server 2022 Datacenter / x64  OK    TIMEOUT  skippedskipped
merida1macOS 12.7.1 Monterey / x86_64  OK    ERROR  skippedskipped
kunpeng2Linux (openEuler 22.03 LTS-SP1) / aarch64  OK    TIMEOUT  skipped
Package 38/193HostnameOS / ArchINSTALLBUILDCHECKBUILD BIN
crisprDesign 1.5.1  (landing page)
Jean-Philippe Fortin
git_last_commit: 4ff15ad
git_last_commit_date: 2024-02-01 14:21:02 -0500
nebbiolo1Linux (Ubuntu 22.04.3 LTS) / x86_64  OK    OK    OK  UNNEEDED, same version is already published
palomino3Windows Server 2022 Datacenter / x64  OK    OK    OK    OK  UNNEEDED, same version is already published
merida1macOS 12.7.1 Monterey / x86_64  OK    OK    OK    OK  UNNEEDED, same version is already published
kunpeng2Linux (openEuler 22.03 LTS-SP1) / aarch64  OK    OK    OK  
Package 39/193HostnameOS / ArchINSTALLBUILDCHECKBUILD BIN
crisprseekplus 1.29.0  (landing page)
Alper Kucukural
git_last_commit: 2b4aad3
git_last_commit_date: 2023-10-24 10:53:40 -0500
nebbiolo1Linux (Ubuntu 22.04.3 LTS) / x86_64  OK    OK    ERROR  
palomino3Windows Server 2022 Datacenter / x64  OK    OK    OK    OK  UNNEEDED, same version is already published
merida1macOS 12.7.1 Monterey / x86_64  OK    OK    OK    OK  UNNEEDED, same version is already published
kunpeng2Linux (openEuler 22.03 LTS-SP1) / aarch64  OK    OK    OK  
Package 40/193HostnameOS / ArchINSTALLBUILDCHECKBUILD BIN
CrispRVariants 1.31.0  (landing page)
Helen Lindsay
git_last_commit: 4e3a6d1
git_last_commit_date: 2023-10-24 10:46:52 -0500
nebbiolo1Linux (Ubuntu 22.04.3 LTS) / x86_64  OK    OK    WARNINGS  UNNEEDED, same version is already published
palomino3Windows Server 2022 Datacenter / x64  OK    OK    WARNINGS    OK  UNNEEDED, same version is already published
merida1macOS 12.7.1 Monterey / x86_64  OK    OK    WARNINGS    OK  UNNEEDED, same version is already published
kunpeng2Linux (openEuler 22.03 LTS-SP1) / aarch64  OK    OK    WARNINGS  
Package 41/193HostnameOS / ArchINSTALLBUILDCHECKBUILD BIN
crossmeta 1.29.0  (landing page)
Alex Pickering
git_last_commit: 096199f
git_last_commit_date: 2023-10-24 10:50:52 -0500
nebbiolo1Linux (Ubuntu 22.04.3 LTS) / x86_64  OK    OK    OK  UNNEEDED, same version is already published
palomino3Windows Server 2022 Datacenter / x64  OK    OK    OK    OK  UNNEEDED, same version is already published
merida1macOS 12.7.1 Monterey / x86_64  OK    OK    OK    OK  UNNEEDED, same version is already published
kunpeng2Linux (openEuler 22.03 LTS-SP1) / aarch64  OK    OK    OK  
Package 42/193HostnameOS / ArchINSTALLBUILDCHECKBUILD BIN
cTRAP 1.21.0  (landing page)
Nuno Saraiva-Agostinho
git_last_commit: 931800a
git_last_commit_date: 2023-10-24 11:08:57 -0500
nebbiolo1Linux (Ubuntu 22.04.3 LTS) / x86_64  OK    OK    ERROR  
palomino3Windows Server 2022 Datacenter / x64  OK    OK    ERROR    OK  
merida1macOS 12.7.1 Monterey / x86_64  OK    OK    ERROR    OK  
kunpeng2Linux (openEuler 22.03 LTS-SP1) / aarch64  OK    OK    ERROR  
Package 43/193HostnameOS / ArchINSTALLBUILDCHECKBUILD BIN
customProDB 1.43.0  (landing page)
Xiaojing Wang
git_last_commit: 2c17e50
git_last_commit_date: 2023-10-24 09:54:20 -0500
nebbiolo1Linux (Ubuntu 22.04.3 LTS) / x86_64  OK    ERROR  skipped
palomino3Windows Server 2022 Datacenter / x64  OK    ERROR  skippedskipped
merida1macOS 12.7.1 Monterey / x86_64  OK    ERROR  skippedskipped
kunpeng2Linux (openEuler 22.03 LTS-SP1) / aarch64  OK    ERROR  skipped
Package 44/193HostnameOS / ArchINSTALLBUILDCHECKBUILD BIN
debrowser 1.31.2  (landing page)
Alper Kucukural
git_last_commit: 77c8a5c
git_last_commit_date: 2024-02-05 11:12:54 -0500
nebbiolo1Linux (Ubuntu 22.04.3 LTS) / x86_64  OK    OK    OK  UNNEEDED, same version is already published
palomino3Windows Server 2022 Datacenter / x64  OK    OK    OK    OK  UNNEEDED, same version is already published
merida1macOS 12.7.1 Monterey / x86_64  OK    OK    OK    OK  UNNEEDED, same version is already published
kunpeng2Linux (openEuler 22.03 LTS-SP1) / aarch64  OK    OK    OK  
Package 45/193HostnameOS / ArchINSTALLBUILDCHECKBUILD BIN
derfinder 1.37.0  (landing page)
Leonardo Collado-Torres
git_last_commit: 6bd1e04
git_last_commit_date: 2023-10-24 10:38:56 -0500
nebbiolo1Linux (Ubuntu 22.04.3 LTS) / x86_64  OK    OK    OK  UNNEEDED, same version is already published
palomino3Windows Server 2022 Datacenter / x64  OK    OK    OK    OK  UNNEEDED, same version is already published
merida1macOS 12.7.1 Monterey / x86_64  OK    OK    OK    OK  UNNEEDED, same version is already published
kunpeng2Linux (openEuler 22.03 LTS-SP1) / aarch64  OK    OK    OK  
Package 46/193HostnameOS / ArchINSTALLBUILDCHECKBUILD BIN
DEXSeq 1.49.0  (landing page)
Alejandro Reyes
git_last_commit: 4bf1187
git_last_commit_date: 2023-10-24 09:47:02 -0500
nebbiolo1Linux (Ubuntu 22.04.3 LTS) / x86_64  OK    OK    OK  UNNEEDED, same version is already published
palomino3Windows Server 2022 Datacenter / x64  OK    OK    OK    OK  UNNEEDED, same version is already published
merida1macOS 12.7.1 Monterey / x86_64  OK    OK    OK    OK  UNNEEDED, same version is already published
kunpeng2Linux (openEuler 22.03 LTS-SP1) / aarch64  OK    OK    OK  
Package 47/193HostnameOS / ArchINSTALLBUILDCHECKBUILD BIN
DominoEffect 1.23.2  (landing page)
Marija Buljan
git_last_commit: fcd7076
git_last_commit_date: 2023-11-08 15:49:39 -0500
nebbiolo1Linux (Ubuntu 22.04.3 LTS) / x86_64  OK    OK    OK  UNNEEDED, same version is already published
palomino3Windows Server 2022 Datacenter / x64  OK    OK    OK    OK  UNNEEDED, same version is already published
merida1macOS 12.7.1 Monterey / x86_64  OK    OK    OK    OK  UNNEEDED, same version is already published
kunpeng2Linux (openEuler 22.03 LTS-SP1) / aarch64  OK    OK    OK  
Package 48/193HostnameOS / ArchINSTALLBUILDCHECKBUILD BIN
DOSE 3.29.2  (landing page)
Guangchuang Yu
git_last_commit: ef880ac
git_last_commit_date: 2023-12-10 04:19:47 -0500
nebbiolo1Linux (Ubuntu 22.04.3 LTS) / x86_64  OK    OK    OK  UNNEEDED, same version is already published
palomino3Windows Server 2022 Datacenter / x64  OK    OK    OK    OK  UNNEEDED, same version is already published
merida1macOS 12.7.1 Monterey / x86_64  OK    OK    OK    OK  UNNEEDED, same version is already published
kunpeng2Linux (openEuler 22.03 LTS-SP1) / aarch64  OK    OK    OK  
Package 49/193HostnameOS / ArchINSTALLBUILDCHECKBUILD BIN
doubletrouble 1.3.5  (landing page)
Fabrício Almeida-Silva
git_last_commit: 8fab8b9
git_last_commit_date: 2024-02-05 04:34:43 -0500
nebbiolo1Linux (Ubuntu 22.04.3 LTS) / x86_64  OK    OK    OK  UNNEEDED, same version is already published
palomino3Windows Server 2022 Datacenter / x64  OK    OK    OK    OK  UNNEEDED, same version is already published
merida1macOS 12.7.1 Monterey / x86_64  OK    OK    OK    OK  UNNEEDED, same version is already published
kunpeng2Linux (openEuler 22.03 LTS-SP1) / aarch64  OK    OK    OK  
Package 50/193HostnameOS / ArchINSTALLBUILDCHECKBUILD BIN
EasyCellType 1.5.4  (landing page)
Ruoxing Li
git_last_commit: e85e818
git_last_commit_date: 2024-02-22 00:39:44 -0500
nebbiolo1Linux (Ubuntu 22.04.3 LTS) / x86_64  OK    OK    OK  UNNEEDED, same version is already published
palomino3Windows Server 2022 Datacenter / x64  OK    OK    OK    OK  UNNEEDED, same version is already published
merida1macOS 12.7.1 Monterey / x86_64  OK    OK    OK    OK  UNNEEDED, same version is already published
kunpeng2Linux (openEuler 22.03 LTS-SP1) / aarch64  OK    OK    OK  
Package 51/193HostnameOS / ArchINSTALLBUILDCHECKBUILD BIN
EDASeq 2.37.0  (landing page)
Davide Risso
git_last_commit: 3601963
git_last_commit_date: 2023-10-24 09:47:57 -0500
nebbiolo1Linux (Ubuntu 22.04.3 LTS) / x86_64  OK    OK    OK  UNNEEDED, same version is already published
palomino3Windows Server 2022 Datacenter / x64  OK    OK    OK    OK  UNNEEDED, same version is already published
merida1macOS 12.7.1 Monterey / x86_64  OK    OK    OK    OK  UNNEEDED, same version is already published
kunpeng2Linux (openEuler 22.03 LTS-SP1) / aarch64  OK    OK    OK  
Package 52/193HostnameOS / ArchINSTALLBUILDCHECKBUILD BIN
eegc 1.29.0  (landing page)
Xiaoyuan Zhou
git_last_commit: 76efa31
git_last_commit_date: 2023-10-24 10:52:19 -0500
nebbiolo1Linux (Ubuntu 22.04.3 LTS) / x86_64  OK    OK    ERROR  
palomino3Windows Server 2022 Datacenter / x64  OK    OK    WARNINGS    OK  UNNEEDED, same version is already published
merida1macOS 12.7.1 Monterey / x86_64  OK    OK    WARNINGS    OK  UNNEEDED, same version is already published
kunpeng2Linux (openEuler 22.03 LTS-SP1) / aarch64  OK    OK    WARNINGS  
Package 53/193HostnameOS / ArchINSTALLBUILDCHECKBUILD BIN
EGSEA 1.31.3  (landing page)
Monther Alhamdoosh
git_last_commit: d489045
git_last_commit_date: 2024-01-21 07:45:57 -0500
nebbiolo1Linux (Ubuntu 22.04.3 LTS) / x86_64  OK    OK    OK  UNNEEDED, same version is already published
palomino3Windows Server 2022 Datacenter / x64  OK    OK    OK    OK  UNNEEDED, same version is already published
merida1macOS 12.7.1 Monterey / x86_64  OK    OK    OK    OK  UNNEEDED, same version is already published
kunpeng2Linux (openEuler 22.03 LTS-SP1) / aarch64  OK    OK    OK  
Package 54/193HostnameOS / ArchINSTALLBUILDCHECKBUILD BIN
EnrichmentBrowser 2.33.1  (landing page)
Ludwig Geistlinger
git_last_commit: 89581f4
git_last_commit_date: 2023-10-28 17:18:00 -0500
nebbiolo1Linux (Ubuntu 22.04.3 LTS) / x86_64  OK    OK    OK  UNNEEDED, same version is already published
palomino3Windows Server 2022 Datacenter / x64  OK    OK    OK    OK  UNNEEDED, same version is already published
merida1macOS 12.7.1 Monterey / x86_64  OK    OK    OK    OK  UNNEEDED, same version is already published
kunpeng2Linux (openEuler 22.03 LTS-SP1) / aarch64  OK    OK    OK  
Package 55/193HostnameOS / ArchINSTALLBUILDCHECKBUILD BIN
ensembldb 2.27.1  (landing page)
Johannes Rainer
git_last_commit: cd5b590
git_last_commit_date: 2023-11-20 04:49:44 -0500
nebbiolo1Linux (Ubuntu 22.04.3 LTS) / x86_64  OK    OK    OK  UNNEEDED, same version is already published
palomino3Windows Server 2022 Datacenter / x64  OK    OK    OK    OK  UNNEEDED, same version is already published
merida1macOS 12.7.1 Monterey / x86_64  OK    OK    OK    OK  UNNEEDED, same version is already published
kunpeng2Linux (openEuler 22.03 LTS-SP1) / aarch64  OK    OK    OK  
Package 56/193HostnameOS / ArchINSTALLBUILDCHECKBUILD BIN
EpiMix 1.5.1  (landing page)
Yuanning Zheng
git_last_commit: 8866c90
git_last_commit_date: 2024-02-23 00:30:14 -0500
nebbiolo1Linux (Ubuntu 22.04.3 LTS) / x86_64  OK    OK    OK  UNNEEDED, same version is already published
palomino3Windows Server 2022 Datacenter / x64  OK    OK    OK    OK  UNNEEDED, same version is already published
merida1macOS 12.7.1 Monterey / x86_64  OK    OK    OK    OK  UNNEEDED, same version is already published
kunpeng2Linux (openEuler 22.03 LTS-SP1) / aarch64  OK    TIMEOUT  skipped
Package 57/193HostnameOS / ArchINSTALLBUILDCHECKBUILD BIN
epimutacions 1.7.1  (landing page)
Dolors Pelegri-Siso
git_last_commit: deb5e62
git_last_commit_date: 2023-11-03 07:38:00 -0500
nebbiolo1Linux (Ubuntu 22.04.3 LTS) / x86_64  OK    OK    OK  UNNEEDED, same version is already published
palomino3Windows Server 2022 Datacenter / x64  OK    OK    OK    OK  UNNEEDED, same version is already published
merida1macOS 12.7.1 Monterey / x86_64  OK    OK    OK    OK  UNNEEDED, same version is already published
kunpeng2Linux (openEuler 22.03 LTS-SP1) / aarch64  OK    TIMEOUT  skipped
Package 58/193HostnameOS / ArchINSTALLBUILDCHECKBUILD BIN
EpiTxDb 1.15.1  (landing page)
Felix G.M. Ernst
git_last_commit: 55004e5
git_last_commit_date: 2024-01-13 10:07:37 -0500
nebbiolo1Linux (Ubuntu 22.04.3 LTS) / x86_64  OK    OK    OK  UNNEEDED, same version is already published
palomino3Windows Server 2022 Datacenter / x64  OK    OK    OK    OK  UNNEEDED, same version is already published
merida1macOS 12.7.1 Monterey / x86_64  OK    OK    OK    OK  UNNEEDED, same version is already published
kunpeng2Linux (openEuler 22.03 LTS-SP1) / aarch64  OK    OK    OK  
Package 59/193HostnameOS / ArchINSTALLBUILDCHECKBUILD BIN
erma 1.19.0  (landing page)
VJ Carey
git_last_commit: 6755a45
git_last_commit_date: 2023-10-24 10:43:59 -0500
nebbiolo1Linux (Ubuntu 22.04.3 LTS) / x86_64  OK    OK    OK  UNNEEDED, same version is already published
palomino3Windows Server 2022 Datacenter / x64  OK    OK    OK    OK  UNNEEDED, same version is already published
merida1macOS 12.7.1 Monterey / x86_64  OK    OK    OK    OK  UNNEEDED, same version is already published
kunpeng2Linux (openEuler 22.03 LTS-SP1) / aarch64  OK    OK    OK  
Package 60/193HostnameOS / ArchINSTALLBUILDCHECKBUILD BIN
esATAC 1.25.0  (landing page)
Zheng Wei
git_last_commit: c979e6e
git_last_commit_date: 2023-10-24 11:01:27 -0500
nebbiolo1Linux (Ubuntu 22.04.3 LTS) / x86_64  OK    OK    OK  UNNEEDED, same version is already published
palomino3Windows Server 2022 Datacenter / x64  OK    OK    OK    OK  UNNEEDED, same version is already published
merida1macOS 12.7.1 Monterey / x86_64  OK    OK    OK    OK  UNNEEDED, same version is already published
kunpeng2Linux (openEuler 22.03 LTS-SP1) / aarch64  OK    OK    OK  
Package 61/193HostnameOS / ArchINSTALLBUILDCHECKBUILD BIN
FRASER 1.15.1  (landing page)
Christian Mertes
git_last_commit: e68992a
git_last_commit_date: 2024-02-11 12:49:35 -0500
nebbiolo1Linux (Ubuntu 22.04.3 LTS) / x86_64  OK    OK    OK  UNNEEDED, same version is already published
palomino3Windows Server 2022 Datacenter / x64  OK    OK    OK    OK  UNNEEDED, same version is already published
merida1macOS 12.7.1 Monterey / x86_64  OK    OK    OK    OK  UNNEEDED, same version is already published
kunpeng2Linux (openEuler 22.03 LTS-SP1) / aarch64  OK    OK    ERROR  
Package 62/193HostnameOS / ArchINSTALLBUILDCHECKBUILD BIN
GA4GHshiny 1.25.0  (landing page)
Welliton Souza
git_last_commit: a94119b
git_last_commit_date: 2023-10-24 10:57:29 -0500
nebbiolo1Linux (Ubuntu 22.04.3 LTS) / x86_64  OK    OK    OK  UNNEEDED, same version is already published
palomino3Windows Server 2022 Datacenter / x64  OK    OK    OK    OK  UNNEEDED, same version is already published
merida1macOS 12.7.1 Monterey / x86_64  OK    OK    OK    OK  UNNEEDED, same version is already published
kunpeng2Linux (openEuler 22.03 LTS-SP1) / aarch64  OK    OK    OK  
Package 63/193HostnameOS / ArchINSTALLBUILDCHECKBUILD BIN
gage 2.53.0  (landing page)
Weijun Luo
git_last_commit: e6a886c
git_last_commit_date: 2023-10-24 09:45:00 -0500
nebbiolo1Linux (Ubuntu 22.04.3 LTS) / x86_64  OK    OK    WARNINGS  UNNEEDED, same version is already published
palomino3Windows Server 2022 Datacenter / x64  OK    OK    WARNINGS    OK  UNNEEDED, same version is already published
merida1macOS 12.7.1 Monterey / x86_64  OK    OK    WARNINGS    OK  UNNEEDED, same version is already published
kunpeng2Linux (openEuler 22.03 LTS-SP1) / aarch64  OK    OK    WARNINGS  
Package 64/193HostnameOS / ArchINSTALLBUILDCHECKBUILD BIN
gDNAx 1.1.3  (landing page)
Beatriz Calvo-Serra
git_last_commit: 3d973c2
git_last_commit_date: 2024-02-28 13:27:47 -0500
nebbiolo1Linux (Ubuntu 22.04.3 LTS) / x86_64  OK    OK    OK  YES
palomino3Windows Server 2022 Datacenter / x64  OK    OK    OK    OK  YES
merida1macOS 12.7.1 Monterey / x86_64  OK    OK    OK    OK  YES
kunpeng2Linux (openEuler 22.03 LTS-SP1) / aarch64  OK    TIMEOUT  skipped
Package 65/193HostnameOS / ArchINSTALLBUILDCHECKBUILD BIN
genefilter 1.85.1  (landing page)
Bioconductor Package Maintainer
git_last_commit: 9f22fda
git_last_commit_date: 2024-01-18 15:47:09 -0500
nebbiolo1Linux (Ubuntu 22.04.3 LTS) / x86_64  OK    OK    WARNINGS  UNNEEDED, same version is already published
palomino3Windows Server 2022 Datacenter / x64  OK    OK    WARNINGS    OK  UNNEEDED, same version is already published
merida1macOS 12.7.1 Monterey / x86_64  OK    OK    WARNINGS    OK  UNNEEDED, same version is already published
kunpeng2Linux (openEuler 22.03 LTS-SP1) / aarch64  OK    OK    WARNINGS  
Package 66/193HostnameOS / ArchINSTALLBUILDCHECKBUILD BIN
geneplotter 1.81.0  (landing page)
Bioconductor Package Maintainer
git_last_commit: 7968b23
git_last_commit_date: 2023-10-24 09:31:30 -0500
nebbiolo1Linux (Ubuntu 22.04.3 LTS) / x86_64  OK    OK    OK  UNNEEDED, same version is already published
palomino3Windows Server 2022 Datacenter / x64  OK    OK    OK    OK  UNNEEDED, same version is already published
merida1macOS 12.7.1 Monterey / x86_64  OK    OK    OK    OK  UNNEEDED, same version is already published
kunpeng2Linux (openEuler 22.03 LTS-SP1) / aarch64  OK    OK    OK  
Package 67/193HostnameOS / ArchINSTALLBUILDCHECKBUILD BIN
GeneTonic 2.7.2  (landing page)
Federico Marini
git_last_commit: 71962c7
git_last_commit_date: 2024-02-16 17:10:38 -0500
nebbiolo1Linux (Ubuntu 22.04.3 LTS) / x86_64  OK    OK    ERROR  
palomino3Windows Server 2022 Datacenter / x64  OK    OK    ERROR    OK  
merida1macOS 12.7.1 Monterey / x86_64  OK    OK    ERROR    OK  
kunpeng2Linux (openEuler 22.03 LTS-SP1) / aarch64  OK    OK    ERROR  
Package 68/193HostnameOS / ArchINSTALLBUILDCHECKBUILD BIN
geneXtendeR 1.29.0  (landing page)
Bohdan Khomtchouk
git_last_commit: 8f1e0a9
git_last_commit_date: 2023-10-24 10:53:12 -0500
nebbiolo1Linux (Ubuntu 22.04.3 LTS) / x86_64  OK    OK    WARNINGS  UNNEEDED, same version is already published
palomino3Windows Server 2022 Datacenter / x64  OK    OK    WARNINGS    OK  UNNEEDED, same version is already published
merida1macOS 12.7.1 Monterey / x86_64  OK    OK    WARNINGS    OK  UNNEEDED, same version is already published
kunpeng2Linux (openEuler 22.03 LTS-SP1) / aarch64  OK    OK    WARNINGS  
Package 69/193HostnameOS / ArchINSTALLBUILDCHECKBUILD BIN
GenomicFeatures 1.55.3  (landing page)
H. Pagès
git_last_commit: 8de3d35
git_last_commit_date: 2024-01-28 00:38:41 -0500
nebbiolo1Linux (Ubuntu 22.04.3 LTS) / x86_64  OK    ERROR  skipped
palomino3Windows Server 2022 Datacenter / x64  OK    ERROR  skippedskipped
merida1macOS 12.7.1 Monterey / x86_64  OK    ERROR  skippedskipped
kunpeng2Linux (openEuler 22.03 LTS-SP1) / aarch64  OK    ERROR  skipped
Package 70/193HostnameOS / ArchINSTALLBUILDCHECKBUILD BIN
GenomicInteractionNodes 1.7.0  (landing page)
Jianhong Ou
git_last_commit: 8a1c80b
git_last_commit_date: 2023-10-24 11:41:24 -0500
nebbiolo1Linux (Ubuntu 22.04.3 LTS) / x86_64  OK    OK    OK  UNNEEDED, same version is already published
palomino3Windows Server 2022 Datacenter / x64  OK    OK    OK    OK  UNNEEDED, same version is already published
merida1macOS 12.7.1 Monterey / x86_64  OK    OK    OK    OK  UNNEEDED, same version is already published
kunpeng2Linux (openEuler 22.03 LTS-SP1) / aarch64  OK    OK    OK  
Package 71/193HostnameOS / ArchINSTALLBUILDCHECKBUILD BIN
GenVisR 1.35.0  (landing page)
Zachary Skidmore
git_last_commit: fb3c43e
git_last_commit_date: 2023-10-24 10:47:14 -0500
nebbiolo1Linux (Ubuntu 22.04.3 LTS) / x86_64  OK    OK    ERROR  
palomino3Windows Server 2022 Datacenter / x64  OK    OK    ERROR    OK  
merida1macOS 12.7.1 Monterey / x86_64  OK    OK    ERROR    OK  
kunpeng2Linux (openEuler 22.03 LTS-SP1) / aarch64  OK    OK    ERROR  
Package 72/193HostnameOS / ArchINSTALLBUILDCHECKBUILD BIN
ggbio 1.51.0  (landing page)
Michael Lawrence
git_last_commit: 7782892
git_last_commit_date: 2023-10-25 17:31:50 -0500
nebbiolo1Linux (Ubuntu 22.04.3 LTS) / x86_64  OK    OK    WARNINGS  UNNEEDED, same version is already published
palomino3Windows Server 2022 Datacenter / x64  OK    ERROR  skippedskipped
merida1macOS 12.7.1 Monterey / x86_64  OK    OK    WARNINGS    OK  UNNEEDED, same version is already published
kunpeng2Linux (openEuler 22.03 LTS-SP1) / aarch64  OK    OK    WARNINGS  
Package 73/193HostnameOS / ArchINSTALLBUILDCHECKBUILD BIN
ggkegg 1.1.16  (landing page)
Noriaki Sato
git_last_commit: c5b3a05
git_last_commit_date: 2024-02-05 20:57:11 -0500
nebbiolo1Linux (Ubuntu 22.04.3 LTS) / x86_64  OK    OK    OK  UNNEEDED, same version is already published
palomino3Windows Server 2022 Datacenter / x64  OK    OK    OK    OK  UNNEEDED, same version is already published
merida1macOS 12.7.1 Monterey / x86_64  OK    OK    OK    OK  UNNEEDED, same version is already published
kunpeng2Linux (openEuler 22.03 LTS-SP1) / aarch64  OK    ERROR  skipped
Package 74/193HostnameOS / ArchINSTALLBUILDCHECKBUILD BIN
GlobalAncova 4.21.0  (landing page)
Manuela Hummel
git_last_commit: 9ac53d6
git_last_commit_date: 2023-10-24 09:35:40 -0500
nebbiolo1Linux (Ubuntu 22.04.3 LTS) / x86_64  OK    OK    WARNINGS  UNNEEDED, same version is already published
palomino3Windows Server 2022 Datacenter / x64  OK    ERROR  skippedskipped
merida1macOS 12.7.1 Monterey / x86_64  OK    OK    WARNINGS    OK  UNNEEDED, same version is already published
kunpeng2Linux (openEuler 22.03 LTS-SP1) / aarch64  OK    OK    WARNINGS  
Package 75/193HostnameOS / ArchINSTALLBUILDCHECKBUILD BIN
globaltest 5.57.0  (landing page)
Jelle Goeman
git_last_commit: 142533f
git_last_commit_date: 2023-10-24 09:33:48 -0500
nebbiolo1Linux (Ubuntu 22.04.3 LTS) / x86_64  OK    OK    OK  UNNEEDED, same version is already published
palomino3Windows Server 2022 Datacenter / x64  OK    ERROR  skippedskipped
merida1macOS 12.7.1 Monterey / x86_64  OK    OK    OK    OK  UNNEEDED, same version is already published
kunpeng2Linux (openEuler 22.03 LTS-SP1) / aarch64  OK    OK    OK  
Package 76/193HostnameOS / ArchINSTALLBUILDCHECKBUILD BIN
GmicR 1.17.0  (landing page)
Richard Virgen-Slane
git_last_commit: 151f3f3
git_last_commit_date: 2023-10-24 11:16:49 -0500
nebbiolo1Linux (Ubuntu 22.04.3 LTS) / x86_64  OK    OK    WARNINGS  UNNEEDED, same version is already published
palomino3Windows Server 2022 Datacenter / x64  OK    OK    WARNINGS    OK  UNNEEDED, same version is already published
merida1macOS 12.7.1 Monterey / x86_64  OK    OK    WARNINGS    OK  UNNEEDED, same version is already published
kunpeng2Linux (openEuler 22.03 LTS-SP1) / aarch64  OK    OK    WARNINGS  
Package 77/193HostnameOS / ArchINSTALLBUILDCHECKBUILD BIN
GOfuncR 1.23.2  (landing page)
Steffi Grote
git_last_commit: fe22b6c
git_last_commit_date: 2024-02-03 06:52:40 -0500
nebbiolo1Linux (Ubuntu 22.04.3 LTS) / x86_64  OK    OK    OK  UNNEEDED, same version is already published
palomino3Windows Server 2022 Datacenter / x64  OK    OK    OK    OK  UNNEEDED, same version is already published
merida1macOS 12.7.1 Monterey / x86_64  OK    OK    OK    OK  UNNEEDED, same version is already published
kunpeng2Linux (openEuler 22.03 LTS-SP1) / aarch64  OK    OK    OK  
Package 78/193HostnameOS / ArchINSTALLBUILDCHECKBUILD BIN
GOpro 1.29.0  (landing page)
Lidia Chrabaszcz
git_last_commit: 4ed014f
git_last_commit_date: 2023-10-24 10:53:02 -0500
nebbiolo1Linux (Ubuntu 22.04.3 LTS) / x86_64  OK    OK    OK  UNNEEDED, same version is already published
palomino3Windows Server 2022 Datacenter / x64  OK    OK    OK    OK  UNNEEDED, same version is already published
merida1macOS 12.7.1 Monterey / x86_64  OK    OK    OK    OK  UNNEEDED, same version is already published
kunpeng2Linux (openEuler 22.03 LTS-SP1) / aarch64  OK    OK    OK  
Package 79/193HostnameOS / ArchINSTALLBUILDCHECKBUILD BIN
goProfiles 1.65.0  (landing page)
Alex Sanchez
git_last_commit: d89d711
git_last_commit_date: 2023-10-24 09:39:46 -0500
nebbiolo1Linux (Ubuntu 22.04.3 LTS) / x86_64  OK    OK    OK  UNNEEDED, same version is already published
palomino3Windows Server 2022 Datacenter / x64  OK    ERROR  skippedskipped
merida1macOS 12.7.1 Monterey / x86_64  OK    OK    OK    OK  UNNEEDED, same version is already published
kunpeng2Linux (openEuler 22.03 LTS-SP1) / aarch64  OK    OK    OK  
Package 80/193HostnameOS / ArchINSTALLBUILDCHECKBUILD BIN
GOSemSim 2.29.1  (landing page)
Guangchuang Yu
git_last_commit: 1800f40
git_last_commit_date: 2024-01-16 19:49:38 -0500
nebbiolo1Linux (Ubuntu 22.04.3 LTS) / x86_64  OK    OK    OK  UNNEEDED, same version is already published
palomino3Windows Server 2022 Datacenter / x64  OK    OK    OK    OK  UNNEEDED, same version is already published
merida1macOS 12.7.1 Monterey / x86_64  OK    OK    OK    OK  UNNEEDED, same version is already published
kunpeng2Linux (openEuler 22.03 LTS-SP1) / aarch64  OK    OK    OK  
Package 81/193HostnameOS / ArchINSTALLBUILDCHECKBUILD BIN
goseq 1.55.0  (landing page)
Matthew Young , Nadia Davidson
git_last_commit: 0081413
git_last_commit_date: 2023-10-24 09:43:46 -0500
nebbiolo1Linux (Ubuntu 22.04.3 LTS) / x86_64  OK    ERROR  skipped
palomino3Windows Server 2022 Datacenter / x64  OK    ERROR  skippedskipped
merida1macOS 12.7.1 Monterey / x86_64  OK    ERROR  skippedskipped
kunpeng2Linux (openEuler 22.03 LTS-SP1) / aarch64  OK    ERROR  skipped
Package 82/193HostnameOS / ArchINSTALLBUILDCHECKBUILD BIN
GOSim 1.41.0  (landing page)
Holger Froehlich
git_last_commit: c0f926b
git_last_commit_date: 2023-10-24 09:55:53 -0500
nebbiolo1Linux (Ubuntu 22.04.3 LTS) / x86_64  OK    OK    ERROR  
palomino3Windows Server 2022 Datacenter / x64  OK    ERROR  skippedskipped
merida1macOS 12.7.1 Monterey / x86_64  OK    OK    OK    OK  UNNEEDED, same version is already published
kunpeng2Linux (openEuler 22.03 LTS-SP1) / aarch64  OK    OK    OK  
Package 83/193HostnameOS / ArchINSTALLBUILDCHECKBUILD BIN
goSTAG 1.27.0  (landing page)
Brian D. Bennett
git_last_commit: 0b9531b
git_last_commit_date: 2023-10-24 10:55:09 -0500
nebbiolo1Linux (Ubuntu 22.04.3 LTS) / x86_64  OK    OK    OK  UNNEEDED, same version is already published
palomino3Windows Server 2022 Datacenter / x64  OK    OK    OK    OK  UNNEEDED, same version is already published
merida1macOS 12.7.1 Monterey / x86_64  OK    OK    OK    OK  UNNEEDED, same version is already published
kunpeng2Linux (openEuler 22.03 LTS-SP1) / aarch64  OK    OK    OK  
Package 84/193HostnameOS / ArchINSTALLBUILDCHECKBUILD BIN
GOstats 2.69.0  (landing page)
Bioconductor Package Maintainer
git_last_commit: 06b2abc
git_last_commit_date: 2023-10-24 09:33:36 -0500
nebbiolo1Linux (Ubuntu 22.04.3 LTS) / x86_64  OK    OK    OK  UNNEEDED, same version is already published
palomino3Windows Server 2022 Datacenter / x64  OK    OK    OK    OK  UNNEEDED, same version is already published
merida1macOS 12.7.1 Monterey / x86_64  OK    OK    OK    OK  UNNEEDED, same version is already published
kunpeng2Linux (openEuler 22.03 LTS-SP1) / aarch64  OK    OK    OK  
Package 85/193HostnameOS / ArchINSTALLBUILDCHECKBUILD BIN
goTools 1.77.0  (landing page)
Agnes Paquet
git_last_commit: 8e38fe8
git_last_commit_date: 2023-10-24 09:33:18 -0500
nebbiolo1Linux (Ubuntu 22.04.3 LTS) / x86_64  OK    OK    OK  UNNEEDED, same version is already published
palomino3Windows Server 2022 Datacenter / x64  OK    ERROR  skippedskipped
merida1macOS 12.7.1 Monterey / x86_64  OK    OK    OK    OK  UNNEEDED, same version is already published
kunpeng2Linux (openEuler 22.03 LTS-SP1) / aarch64  OK    OK    OK  
Package 86/193HostnameOS / ArchINSTALLBUILDCHECKBUILD BIN
graphite 1.49.0  (landing page)
Gabriele Sales
git_last_commit: fc978db
git_last_commit_date: 2023-10-24 09:47:44 -0500
nebbiolo1Linux (Ubuntu 22.04.3 LTS) / x86_64  OK    OK    OK  UNNEEDED, same version is already published
palomino3Windows Server 2022 Datacenter / x64  OK    OK    OK    OK  UNNEEDED, same version is already published
merida1macOS 12.7.1 Monterey / x86_64  OK    OK    OK    OK  UNNEEDED, same version is already published
kunpeng2Linux (openEuler 22.03 LTS-SP1) / aarch64  OK    OK    ERROR  
Package 87/193HostnameOS / ArchINSTALLBUILDCHECKBUILD BIN
GSEABase 1.65.1  (landing page)
Bioconductor Package Maintainer
git_last_commit: 9bbf897
git_last_commit_date: 2023-12-07 11:32:25 -0500
nebbiolo1Linux (Ubuntu 22.04.3 LTS) / x86_64  OK    OK    OK  UNNEEDED, same version is already published
palomino3Windows Server 2022 Datacenter / x64  OK    OK    OK    OK  UNNEEDED, same version is already published
merida1macOS 12.7.1 Monterey / x86_64  OK    OK    OK    OK  UNNEEDED, same version is already published
kunpeng2Linux (openEuler 22.03 LTS-SP1) / aarch64  OK    OK    OK  
Package 88/193HostnameOS / ArchINSTALLBUILDCHECKBUILD BIN
GSEABenchmarkeR 1.23.0  (landing page)
Ludwig Geistlinger
git_last_commit: 4e7d8d3
git_last_commit_date: 2023-10-24 11:03:50 -0500
nebbiolo1Linux (Ubuntu 22.04.3 LTS) / x86_64  OK    OK    OK  UNNEEDED, same version is already published
palomino3Windows Server 2022 Datacenter / x64  OK    OK    OK    OK  UNNEEDED, same version is already published
merida1macOS 12.7.1 Monterey / x86_64  OK    OK    OK    OK  UNNEEDED, same version is already published
kunpeng2Linux (openEuler 22.03 LTS-SP1) / aarch64  OK    ERROR  skipped
Package 89/193HostnameOS / ArchINSTALLBUILDCHECKBUILD BIN
GSReg 1.37.0  (landing page)
Bahman Afsari , Elana J. Fertig
git_last_commit: 37e90fb
git_last_commit_date: 2023-10-24 09:59:56 -0500
nebbiolo1Linux (Ubuntu 22.04.3 LTS) / x86_64  OK    OK    WARNINGS  UNNEEDED, same version is already published
palomino3Windows Server 2022 Datacenter / x64  OK    OK    WARNINGS    OK  UNNEEDED, same version is already published
merida1macOS 12.7.1 Monterey / x86_64  OK    OK    WARNINGS    OK  UNNEEDED, same version is already published
kunpeng2Linux (openEuler 22.03 LTS-SP1) / aarch64  OK    OK    WARNINGS  
Package 90/193HostnameOS / ArchINSTALLBUILDCHECKBUILD BIN
Guitar 2.19.0  (landing page)
Jia Meng
git_last_commit: 99534a3
git_last_commit_date: 2023-10-24 10:45:29 -0500
nebbiolo1Linux (Ubuntu 22.04.3 LTS) / x86_64  OK    OK    OK  UNNEEDED, same version is already published
palomino3Windows Server 2022 Datacenter / x64  OK    OK    OK    OK  UNNEEDED, same version is already published
merida1macOS 12.7.1 Monterey / x86_64  OK    OK    OK    OK  UNNEEDED, same version is already published
kunpeng2Linux (openEuler 22.03 LTS-SP1) / aarch64  OK    OK    OK  
Package 91/193HostnameOS / ArchINSTALLBUILDCHECKBUILD BIN
Gviz 1.47.1  (landing page)
Robert Ivanek
git_last_commit: d1385ee
git_last_commit_date: 2023-11-16 09:37:00 -0500
nebbiolo1Linux (Ubuntu 22.04.3 LTS) / x86_64  OK    OK    OK  UNNEEDED, same version is already published
palomino3Windows Server 2022 Datacenter / x64  OK    OK    OK    OK  UNNEEDED, same version is already published
merida1macOS 12.7.1 Monterey / x86_64  OK    OK    OK    OK  UNNEEDED, same version is already published
kunpeng2Linux (openEuler 22.03 LTS-SP1) / aarch64  OK    OK    OK  
Package 92/193HostnameOS / ArchINSTALLBUILDCHECKBUILD BIN
gwascat 2.35.0  (landing page)
VJ Carey
git_last_commit: 50623d9
git_last_commit_date: 2023-10-24 09:49:29 -0500
nebbiolo1Linux (Ubuntu 22.04.3 LTS) / x86_64  OK    OK    OK  UNNEEDED, same version is already published
palomino3Windows Server 2022 Datacenter / x64  OK    OK    OK    OK  UNNEEDED, same version is already published
merida1macOS 12.7.1 Monterey / x86_64  OK    OK    OK    OK  UNNEEDED, same version is already published
kunpeng2Linux (openEuler 22.03 LTS-SP1) / aarch64  OK    OK    OK  
Package 93/193HostnameOS / ArchINSTALLBUILDCHECKBUILD BIN
ideal 1.27.0  (landing page)
Federico Marini
git_last_commit: e91e570
git_last_commit_date: 2023-10-27 04:29:36 -0500
nebbiolo1Linux (Ubuntu 22.04.3 LTS) / x86_64  OK    OK    OK  UNNEEDED, same version is already published
palomino3Windows Server 2022 Datacenter / x64  OK    OK    OK    OK  UNNEEDED, same version is already published
merida1macOS 12.7.1 Monterey / x86_64  OK    OK    OK    OK  UNNEEDED, same version is already published
kunpeng2Linux (openEuler 22.03 LTS-SP1) / aarch64  ERROR    ERROR  skipped
Package 94/193HostnameOS / ArchINSTALLBUILDCHECKBUILD BIN
IMAS 1.27.0  (landing page)
Seonggyun Han
git_last_commit: 6bdc0e3
git_last_commit_date: 2023-10-24 10:56:52 -0500
nebbiolo1Linux (Ubuntu 22.04.3 LTS) / x86_64  OK    OK    OK  UNNEEDED, same version is already published
palomino3Windows Server 2022 Datacenter / x64  OK    OK    OK    OK  UNNEEDED, same version is already published
merida1macOS 12.7.1 Monterey / x86_64  OK    OK    OK    OK  UNNEEDED, same version is already published
kunpeng2Linux (openEuler 22.03 LTS-SP1) / aarch64  OK    OK    OK  
Package 95/193HostnameOS / ArchINSTALLBUILDCHECKBUILD BIN
InPAS 2.11.0  (landing page)
Jianhong Ou
git_last_commit: 1c9a765
git_last_commit_date: 2023-10-24 10:42:15 -0500
nebbiolo1Linux (Ubuntu 22.04.3 LTS) / x86_64  OK    OK    OK  UNNEEDED, same version is already published
palomino3Windows Server 2022 Datacenter / x64  OK    OK    OK    OK  UNNEEDED, same version is already published
merida1macOS 12.7.1 Monterey / x86_64  OK    OK    OK    OK  UNNEEDED, same version is already published
kunpeng2Linux (openEuler 22.03 LTS-SP1) / aarch64  OK    OK    OK  
Package 96/193HostnameOS / ArchINSTALLBUILDCHECKBUILD BIN
interactiveDisplay 1.41.0  (landing page)
Bioconductor Package Maintainer
git_last_commit: 8e394ce
git_last_commit_date: 2023-10-24 09:56:36 -0500
nebbiolo1Linux (Ubuntu 22.04.3 LTS) / x86_64  OK    OK    OK  UNNEEDED, same version is already published
palomino3Windows Server 2022 Datacenter / x64  OK    OK    OK    OK  UNNEEDED, same version is already published
merida1macOS 12.7.1 Monterey / x86_64  OK    OK    OK    OK  UNNEEDED, same version is already published
kunpeng2Linux (openEuler 22.03 LTS-SP1) / aarch64  OK    OK    OK  
Package 97/193HostnameOS / ArchINSTALLBUILDCHECKBUILD BIN
ipdDb 1.21.0  (landing page)
Steffen Klasberg
git_last_commit: d54124d
git_last_commit_date: 2023-10-24 11:06:26 -0500
nebbiolo1Linux (Ubuntu 22.04.3 LTS) / x86_64  OK    OK    OK  UNNEEDED, same version is already published
palomino3Windows Server 2022 Datacenter / x64  OK    OK    OK    OK  UNNEEDED, same version is already published
merida1macOS 12.7.1 Monterey / x86_64  OK    OK    OK    OK  UNNEEDED, same version is already published
kunpeng2Linux (openEuler 22.03 LTS-SP1) / aarch64  OK    OK    OK  
Package 98/193HostnameOS / ArchINSTALLBUILDCHECKBUILD BIN
IRISFGM 1.11.1  (landing page)
Yuzhou Chang
git_last_commit: e63c932
git_last_commit_date: 2024-01-12 08:38:28 -0500
nebbiolo1Linux (Ubuntu 22.04.3 LTS) / x86_64  OK    ERROR  skipped
palomino3Windows Server 2022 Datacenter / x64  OK    ERROR  skippedskipped
merida1macOS 12.7.1 Monterey / x86_64  OK    ERROR  skippedskipped
kunpeng2Linux (openEuler 22.03 LTS-SP1) / aarch64  OK    ERROR  skipped
Package 99/193HostnameOS / ArchINSTALLBUILDCHECKBUILD BIN
isomiRs 1.31.0  (landing page)
Lorena Pantano
git_last_commit: c8d83b2
git_last_commit_date: 2023-10-24 10:49:03 -0500
nebbiolo1Linux (Ubuntu 22.04.3 LTS) / x86_64  OK    OK    OK  UNNEEDED, same version is already published
palomino3Windows Server 2022 Datacenter / x64  OK    OK    OK    OK  UNNEEDED, same version is already published
merida1macOS 12.7.1 Monterey / x86_64  OK    OK    OK    OK  UNNEEDED, same version is already published
kunpeng2Linux (openEuler 22.03 LTS-SP1) / aarch64  OK    OK    OK  
Package 100/193HostnameOS / ArchINSTALLBUILDCHECKBUILD BIN
IVAS 2.23.0  (landing page)
Seonggyun Han
git_last_commit: 5e0a3d3
git_last_commit_date: 2023-10-24 10:41:17 -0500
nebbiolo1Linux (Ubuntu 22.04.3 LTS) / x86_64  OK    OK    WARNINGS  UNNEEDED, same version is already published
palomino3Windows Server 2022 Datacenter / x64  OK    OK    WARNINGS    OK  UNNEEDED, same version is already published
merida1macOS 12.7.1 Monterey / x86_64  OK    OK    WARNINGS    OK  UNNEEDED, same version is already published
kunpeng2Linux (openEuler 22.03 LTS-SP1) / aarch64  OK    OK    WARNINGS  
Package 101/193HostnameOS / ArchINSTALLBUILDCHECKBUILD BIN
karyoploteR 1.29.1  (landing page)
Bernat Gel
git_last_commit: 2a860f3
git_last_commit_date: 2024-01-11 06:04:35 -0500
nebbiolo1Linux (Ubuntu 22.04.3 LTS) / x86_64  OK    OK    OK  UNNEEDED, same version is already published
palomino3Windows Server 2022 Datacenter / x64  OK    OK    OK    OK  UNNEEDED, same version is already published
merida1macOS 12.7.1 Monterey / x86_64  OK    OK    OK    OK  UNNEEDED, same version is already published
kunpeng2Linux (openEuler 22.03 LTS-SP1) / aarch64  OK    OK    OK  
Package 102/193HostnameOS / ArchINSTALLBUILDCHECKBUILD BIN
KEGGlincs 1.29.0  (landing page)
Shana White , Mario Medvedovic
git_last_commit: 90ee3d5
git_last_commit_date: 2023-10-24 10:53:15 -0500
nebbiolo1Linux (Ubuntu 22.04.3 LTS) / x86_64  OK    OK    OK  UNNEEDED, same version is already published
palomino3Windows Server 2022 Datacenter / x64  OK    OK    OK    OK  UNNEEDED, same version is already published
merida1macOS 12.7.1 Monterey / x86_64  OK    OK    OK    OK  UNNEEDED, same version is already published
kunpeng2Linux (openEuler 22.03 LTS-SP1) / aarch64  OK    OK    OK  
Package 103/193HostnameOS / ArchINSTALLBUILDCHECKBUILD BIN
keggorthology 2.55.0  (landing page)
VJ Carey
git_last_commit: b75042f
git_last_commit_date: 2023-10-24 09:38:42 -0500
nebbiolo1Linux (Ubuntu 22.04.3 LTS) / x86_64  OK    OK    OK  UNNEEDED, same version is already published
palomino3Windows Server 2022 Datacenter / x64  OK    OK    OK    OK  UNNEEDED, same version is already published
merida1macOS 12.7.1 Monterey / x86_64  OK    OK    OK    OK  UNNEEDED, same version is already published
kunpeng2Linux (openEuler 22.03 LTS-SP1) / aarch64  OK    OK    OK  
Package 104/193HostnameOS / ArchINSTALLBUILDCHECKBUILD BIN
LRBaseDbi 2.13.0  (landing page)
Koki Tsuyuzaki
git_last_commit: 3a90c41
git_last_commit_date: 2023-10-24 11:06:45 -0500
nebbiolo1Linux (Ubuntu 22.04.3 LTS) / x86_64  OK    OK    ERROR  
palomino3Windows Server 2022 Datacenter / x64  OK    ERROR  skippedskipped
merida1macOS 12.7.1 Monterey / x86_64  OK    OK    OK    OK  UNNEEDED, same version is already published
kunpeng2Linux (openEuler 22.03 LTS-SP1) / aarch64  OK    OK    OK  
Package 105/193HostnameOS / ArchINSTALLBUILDCHECKBUILD BIN
lumi 2.55.0  (landing page)
Lei Huang
git_last_commit: 6331e8a
git_last_commit_date: 2023-10-24 09:37:44 -0500
nebbiolo1Linux (Ubuntu 22.04.3 LTS) / x86_64  OK    OK    WARNINGS  UNNEEDED, same version is already published
palomino3Windows Server 2022 Datacenter / x64  OK    OK    WARNINGS    OK  UNNEEDED, same version is already published
merida1macOS 12.7.1 Monterey / x86_64  OK    OK    WARNINGS    OK  UNNEEDED, same version is already published
kunpeng2Linux (openEuler 22.03 LTS-SP1) / aarch64  OK    OK    WARNINGS  
Package 106/193HostnameOS / ArchINSTALLBUILDCHECKBUILD BIN
magpie 1.3.1  (landing page)
Daoyu Duan
git_last_commit: 7b3602e
git_last_commit_date: 2023-12-15 13:03:45 -0500
nebbiolo1Linux (Ubuntu 22.04.3 LTS) / x86_64  OK    OK    WARNINGS  UNNEEDED, same version is already published
palomino3Windows Server 2022 Datacenter / x64  OK    OK    WARNINGS    OK  UNNEEDED, same version is already published
merida1macOS 12.7.1 Monterey / x86_64  OK    OK    WARNINGS    OK  UNNEEDED, same version is already published
kunpeng2Linux (openEuler 22.03 LTS-SP1) / aarch64  OK    OK    WARNINGS  
Package 107/193HostnameOS / ArchINSTALLBUILDCHECKBUILD BIN
maPredictDSC 1.41.0  (landing page)
Adi Laurentiu Tarca
git_last_commit: 26c9594
git_last_commit_date: 2023-10-24 09:54:43 -0500
nebbiolo1Linux (Ubuntu 22.04.3 LTS) / x86_64  OK    OK    OK  UNNEEDED, same version is already published
palomino3Windows Server 2022 Datacenter / x64  OK    OK    OK    OK  UNNEEDED, same version is already published
merida1macOS 12.7.1 Monterey / x86_64  OK    OK    OK    OK  UNNEEDED, same version is already published
kunpeng2Linux (openEuler 22.03 LTS-SP1) / aarch64  OK    OK    OK  
Package 108/193HostnameOS / ArchINSTALLBUILDCHECKBUILD BIN
mastR 1.3.4  (landing page)
Jinjin Chen
git_last_commit: e0df38a
git_last_commit_date: 2024-01-12 04:34:20 -0500
nebbiolo1Linux (Ubuntu 22.04.3 LTS) / x86_64  OK    OK    OK  UNNEEDED, same version is already published
palomino3Windows Server 2022 Datacenter / x64  OK    OK    OK    OK  UNNEEDED, same version is already published
merida1macOS 12.7.1 Monterey / x86_64  OK    OK    OK    OK  UNNEEDED, same version is already published
kunpeng2Linux (openEuler 22.03 LTS-SP1) / aarch64  OK    OK    OK  
Package 109/193HostnameOS / ArchINSTALLBUILDCHECKBUILD BIN
MCbiclust 1.27.0  (landing page)
Robert Bentham
git_last_commit: b56992f
git_last_commit_date: 2024-02-02 12:27:02 -0500
nebbiolo1Linux (Ubuntu 22.04.3 LTS) / x86_64  OK    OK    OK  UNNEEDED, same version is already published
palomino3Windows Server 2022 Datacenter / x64  OK    OK    OK    OK  UNNEEDED, same version is already published
merida1macOS 12.7.1 Monterey / x86_64  OK    OK    OK    OK  UNNEEDED, same version is already published
kunpeng2Linux (openEuler 22.03 LTS-SP1) / aarch64  OK    OK    OK  
Package 110/193HostnameOS / ArchINSTALLBUILDCHECKBUILD BIN
MeSHDbi 1.39.0  (landing page)
Koki Tsuyuzaki
git_last_commit: 5ba5639
git_last_commit_date: 2023-10-24 09:58:49 -0500
nebbiolo1Linux (Ubuntu 22.04.3 LTS) / x86_64  OK    OK    OK  UNNEEDED, same version is already published
palomino3Windows Server 2022 Datacenter / x64  OK    OK    OK    OK  UNNEEDED, same version is already published
merida1macOS 12.7.1 Monterey / x86_64  OK    OK    OK    OK  UNNEEDED, same version is already published
kunpeng2Linux (openEuler 22.03 LTS-SP1) / aarch64  OK    OK    OK  
Package 111/193HostnameOS / ArchINSTALLBUILDCHECKBUILD BIN
meshes 1.29.0  (landing page)
Guangchuang Yu
git_last_commit: 829e825
git_last_commit_date: 2023-10-24 10:53:45 -0500
nebbiolo1Linux (Ubuntu 22.04.3 LTS) / x86_64  OK    OK    OK  UNNEEDED, same version is already published
palomino3Windows Server 2022 Datacenter / x64  OK    OK    OK    OK  UNNEEDED, same version is already published
merida1macOS 12.7.1 Monterey / x86_64  OK    OK    OK    OK  UNNEEDED, same version is already published
kunpeng2Linux (openEuler 22.03 LTS-SP1) / aarch64  OK    OK    OK  
Package 112/193HostnameOS / ArchINSTALLBUILDCHECKBUILD BIN
MesKit 1.13.0  (landing page)
Mengni Liu
git_last_commit: 47ac2be
git_last_commit_date: 2023-10-24 11:24:07 -0500
nebbiolo1Linux (Ubuntu 22.04.3 LTS) / x86_64  OK    OK    WARNINGS  UNNEEDED, same version is already published
palomino3Windows Server 2022 Datacenter / x64  OK    OK    WARNINGS    OK  UNNEEDED, same version is already published
merida1macOS 12.7.1 Monterey / x86_64  OK    OK    WARNINGS    OK  UNNEEDED, same version is already published
kunpeng2Linux (openEuler 22.03 LTS-SP1) / aarch64  OK    OK    WARNINGS  
Package 113/193HostnameOS / ArchINSTALLBUILDCHECKBUILD BIN
MetaboSignal 1.33.1  (landing page)
Andrea Rodriguez-Martinez
git_last_commit: be3468d
git_last_commit_date: 2023-12-16 00:45:11 -0500
nebbiolo1Linux (Ubuntu 22.04.3 LTS) / x86_64  OK    OK    OK  UNNEEDED, same version is already published
palomino3Windows Server 2022 Datacenter / x64  OK    OK    OK    OK  UNNEEDED, same version is already published
merida1macOS 12.7.1 Monterey / x86_64  OK    OK    OK    OK  UNNEEDED, same version is already published
kunpeng2Linux (openEuler 22.03 LTS-SP1) / aarch64  OK    TIMEOUT  skipped
Package 114/193HostnameOS / ArchINSTALLBUILDCHECKBUILD BIN
methylGSA 1.21.0  (landing page)
Xu Ren
git_last_commit: 213902e
git_last_commit_date: 2023-10-24 11:06:29 -0500
nebbiolo1Linux (Ubuntu 22.04.3 LTS) / x86_64  OK    OK    OK  UNNEEDED, same version is already published
palomino3Windows Server 2022 Datacenter / x64  OK    OK    OK    OK  UNNEEDED, same version is already published
merida1macOS 12.7.1 Monterey / x86_64  OK    OK    OK    OK  UNNEEDED, same version is already published
kunpeng2Linux (openEuler 22.03 LTS-SP1) / aarch64  OK    OK    OK  
Package 115/193HostnameOS / ArchINSTALLBUILDCHECKBUILD BIN
methylumi 2.49.0  (landing page)
Sean Davis
git_last_commit: 7e782d3
git_last_commit_date: 2023-10-24 09:41:58 -0500
nebbiolo1Linux (Ubuntu 22.04.3 LTS) / x86_64  OK    OK    OK  UNNEEDED, same version is already published
palomino3Windows Server 2022 Datacenter / x64  OK    OK    OK    OK  UNNEEDED, same version is already published
merida1macOS 12.7.1 Monterey / x86_64  OK    OK    OK    OK  UNNEEDED, same version is already published
kunpeng2Linux (openEuler 22.03 LTS-SP1) / aarch64  OK    OK    OK  
Package 116/193HostnameOS / ArchINSTALLBUILDCHECKBUILD BIN
MGFM 1.37.0  (landing page)
Khadija El Amrani
git_last_commit: 3aa92a2
git_last_commit_date: 2023-10-24 10:38:39 -0500
nebbiolo1Linux (Ubuntu 22.04.3 LTS) / x86_64  OK    OK    OK  UNNEEDED, same version is already published
palomino3Windows Server 2022 Datacenter / x64  OK    OK    OK    OK  UNNEEDED, same version is already published
merida1macOS 12.7.1 Monterey / x86_64  OK    OK    OK    OK  UNNEEDED, same version is already published
kunpeng2Linux (openEuler 22.03 LTS-SP1) / aarch64  OK    OK    OK  
Package 117/193HostnameOS / ArchINSTALLBUILDCHECKBUILD BIN
MineICA 1.43.0  (landing page)
Anne Biton
git_last_commit: 025bbc0
git_last_commit_date: 2023-10-24 09:52:51 -0500
nebbiolo1Linux (Ubuntu 22.04.3 LTS) / x86_64  OK    OK    WARNINGS  UNNEEDED, same version is already published
palomino3Windows Server 2022 Datacenter / x64  OK    OK    WARNINGS    OK  UNNEEDED, same version is already published
merida1macOS 12.7.1 Monterey / x86_64  OK    OK    WARNINGS    OK  UNNEEDED, same version is already published
kunpeng2Linux (openEuler 22.03 LTS-SP1) / aarch64  OK    OK    WARNINGS  
Package 118/193HostnameOS / ArchINSTALLBUILDCHECKBUILD BIN
MiRaGE 1.45.0  (landing page)
Y-h. Taguchi
git_last_commit: 95d013c
git_last_commit_date: 2023-10-24 09:50:16 -0500
nebbiolo1Linux (Ubuntu 22.04.3 LTS) / x86_64  OK    OK    WARNINGS  UNNEEDED, same version is already published
palomino3Windows Server 2022 Datacenter / x64  OK    OK    WARNINGS    OK  UNNEEDED, same version is already published
merida1macOS 12.7.1 Monterey / x86_64  OK    OK    WARNINGS    OK  UNNEEDED, same version is already published
kunpeng2Linux (openEuler 22.03 LTS-SP1) / aarch64  OK    OK    WARNINGS  
Package 119/193HostnameOS / ArchINSTALLBUILDCHECKBUILD BIN
mirIntegrator 1.33.0  (landing page)
Diana Diaz
git_last_commit: 1a56971
git_last_commit_date: 2023-10-24 10:43:56 -0500
nebbiolo1Linux (Ubuntu 22.04.3 LTS) / x86_64  OK    OK    OK  UNNEEDED, same version is already published
palomino3Windows Server 2022 Datacenter / x64  OK    OK    OK    OK  UNNEEDED, same version is already published
merida1macOS 12.7.1 Monterey / x86_64  OK    OK    OK    OK  UNNEEDED, same version is already published
kunpeng2Linux (openEuler 22.03 LTS-SP1) / aarch64  OK    OK    OK  
Package 120/193HostnameOS / ArchINSTALLBUILDCHECKBUILD BIN
MIRit 0.99.13  (landing page)
Jacopo Ronchi
git_last_commit: 3a2a2cd
git_last_commit_date: 2024-02-12 09:24:04 -0500
nebbiolo1Linux (Ubuntu 22.04.3 LTS) / x86_64  OK    ERROR  skipped
palomino3Windows Server 2022 Datacenter / x64  OK    ERROR  skippedskipped
merida1macOS 12.7.1 Monterey / x86_64  OK    ERROR  skippedskipped
kunpeng2Linux (openEuler 22.03 LTS-SP1) / aarch64  OK    ERROR  skipped
Package 121/193HostnameOS / ArchINSTALLBUILDCHECKBUILD BIN
miRNAmeConverter 1.31.0  (landing page)
Stefan J. Haunsberger
git_last_commit: 685e8e6
git_last_commit_date: 2023-10-24 10:48:19 -0500
nebbiolo1Linux (Ubuntu 22.04.3 LTS) / x86_64  OK    OK    WARNINGS  UNNEEDED, same version is already published
palomino3Windows Server 2022 Datacenter / x64  OK    OK    WARNINGS    OK  UNNEEDED, same version is already published
merida1macOS 12.7.1 Monterey / x86_64  OK    OK    WARNINGS    OK  UNNEEDED, same version is already published
kunpeng2Linux (openEuler 22.03 LTS-SP1) / aarch64  OK    OK    WARNINGS  
Package 122/193HostnameOS / ArchINSTALLBUILDCHECKBUILD BIN
miRNAtap 1.37.0  (landing page)
T. Ian Simpson
git_last_commit: bdf7a85
git_last_commit_date: 2023-10-24 10:00:30 -0500
nebbiolo1Linux (Ubuntu 22.04.3 LTS) / x86_64  OK    OK    OK  UNNEEDED, same version is already published
palomino3Windows Server 2022 Datacenter / x64  OK    OK    OK    OK  UNNEEDED, same version is already published
merida1macOS 12.7.1 Monterey / x86_64  OK    OK    OK    OK  UNNEEDED, same version is already published
kunpeng2Linux (openEuler 22.03 LTS-SP1) / aarch64  OK    OK    OK  
Package 123/193HostnameOS / ArchINSTALLBUILDCHECKBUILD BIN
missMethyl 1.37.0  (landing page)
Belinda Phipson
git_last_commit: 962d0b6
git_last_commit_date: 2023-10-24 10:00:11 -0500
nebbiolo1Linux (Ubuntu 22.04.3 LTS) / x86_64  OK    OK    OK  UNNEEDED, same version is already published
palomino3Windows Server 2022 Datacenter / x64  OK    OK    OK    OK  UNNEEDED, same version is already published
merida1macOS 12.7.1 Monterey / x86_64  OK    OK    OK    OK  UNNEEDED, same version is already published
kunpeng2Linux (openEuler 22.03 LTS-SP1) / aarch64  OK    ERROR  skipped
Package 124/193HostnameOS / ArchINSTALLBUILDCHECKBUILD BIN
MLP 1.51.0  (landing page)
Tobias Verbeke
git_last_commit: c67df3f
git_last_commit_date: 2023-10-24 09:45:18 -0500
nebbiolo1Linux (Ubuntu 22.04.3 LTS) / x86_64  OK    OK    OK  UNNEEDED, same version is already published
palomino3Windows Server 2022 Datacenter / x64  OK    OK    OK    OK  UNNEEDED, same version is already published
merida1macOS 12.7.1 Monterey / x86_64  OK    OK    OK    OK  UNNEEDED, same version is already published
kunpeng2Linux (openEuler 22.03 LTS-SP1) / aarch64  OK    OK    OK  
Package 125/193HostnameOS / ArchINSTALLBUILDCHECKBUILD BIN
MSnID 1.37.0  (landing page)
Vlad Petyuk
git_last_commit: 5de1b6e
git_last_commit_date: 2023-10-24 10:38:36 -0500
nebbiolo1Linux (Ubuntu 22.04.3 LTS) / x86_64  OK    OK    OK  UNNEEDED, same version is already published
palomino3Windows Server 2022 Datacenter / x64  OK    OK    OK    OK  UNNEEDED, same version is already published
merida1macOS 12.7.1 Monterey / x86_64  OK    OK    OK    OK  UNNEEDED, same version is already published
kunpeng2Linux (openEuler 22.03 LTS-SP1) / aarch64  OK    ERROR  skipped
Package 126/193HostnameOS / ArchINSTALLBUILDCHECKBUILD BIN
multiGSEA 1.13.0  (landing page)
Sebastian Canzler
git_last_commit: 667ae5b
git_last_commit_date: 2023-10-24 11:23:16 -0500
nebbiolo1Linux (Ubuntu 22.04.3 LTS) / x86_64  OK    OK    OK  UNNEEDED, same version is already published
palomino3Windows Server 2022 Datacenter / x64  OK    OK    OK    OK  UNNEEDED, same version is already published
merida1macOS 12.7.1 Monterey / x86_64  OK    OK    OK    OK  UNNEEDED, same version is already published
kunpeng2Linux (openEuler 22.03 LTS-SP1) / aarch64  OK    ERROR  skipped
Package 127/193HostnameOS / ArchINSTALLBUILDCHECKBUILD BIN
multiMiR 1.25.0  (landing page)
Matt Mulvahill
git_last_commit: acb90c2
git_last_commit_date: 2023-10-24 10:59:47 -0500
nebbiolo1Linux (Ubuntu 22.04.3 LTS) / x86_64  OK    OK    OK  UNNEEDED, same version is already published
palomino3Windows Server 2022 Datacenter / x64  OK    OK    OK    OK  UNNEEDED, same version is already published
merida1macOS 12.7.1 Monterey / x86_64  OK    OK    OK    OK  UNNEEDED, same version is already published
kunpeng2Linux (openEuler 22.03 LTS-SP1) / aarch64  OK    OK    OK  
Package 128/193HostnameOS / ArchINSTALLBUILDCHECKBUILD BIN
NanoMethViz 2.99.4  (landing page)
Shian Su
git_last_commit: 34cc5aa
git_last_commit_date: 2024-01-17 23:12:00 -0500
nebbiolo1Linux (Ubuntu 22.04.3 LTS) / x86_64  OK    OK    OK  UNNEEDED, same version is already published
palomino3Windows Server 2022 Datacenter / x64  OK    OK    OK    OK  UNNEEDED, same version is already published
merida1macOS 12.7.1 Monterey / x86_64  OK    OK    OK    OK  UNNEEDED, same version is already published
kunpeng2Linux (openEuler 22.03 LTS-SP1) / aarch64  ERROR    ERROR  skipped
Package 129/193HostnameOS / ArchINSTALLBUILDCHECKBUILD BIN
nanotatoR 1.19.0  (landing page)
Surajit Bhattacharya
git_last_commit: 12327ed
git_last_commit_date: 2023-10-24 11:13:33 -0500
nebbiolo1Linux (Ubuntu 22.04.3 LTS) / x86_64  OK    OK    OK  UNNEEDED, same version is already published
palomino3Windows Server 2022 Datacenter / x64  OK    OK    OK    OK  UNNEEDED, same version is already published
merida1macOS 12.7.1 Monterey / x86_64  OK    OK    OK    OK  UNNEEDED, same version is already published
kunpeng2Linux (openEuler 22.03 LTS-SP1) / aarch64  OK    OK    OK  
Package 130/193HostnameOS / ArchINSTALLBUILDCHECKBUILD BIN
netOmics 1.9.3  (landing page)
Antoine Bodein
git_last_commit: 56e5427
git_last_commit_date: 2024-02-15 20:06:33 -0500
nebbiolo1Linux (Ubuntu 22.04.3 LTS) / x86_64  OK    OK    OK  UNNEEDED, same version is already published
palomino3Windows Server 2022 Datacenter / x64  OK    OK    OK    OK  UNNEEDED, same version is already published
merida1macOS 12.7.1 Monterey / x86_64  OK    OK    OK    OK  UNNEEDED, same version is already published
kunpeng2Linux (openEuler 22.03 LTS-SP1) / aarch64  OK    OK    OK  
Package 131/193HostnameOS / ArchINSTALLBUILDCHECKBUILD BIN
NetSAM 1.43.0  (landing page)
Zhiao Shi
git_last_commit: 4c4f0bd
git_last_commit_date: 2023-10-24 09:54:33 -0500
nebbiolo1Linux (Ubuntu 22.04.3 LTS) / x86_64  OK    OK    ERROR  
palomino3Windows Server 2022 Datacenter / x64  OK    OK    ERROR    OK  
merida1macOS 12.7.1 Monterey / x86_64  OK    OK    ERROR    OK  
kunpeng2Linux (openEuler 22.03 LTS-SP1) / aarch64  OK    OK    ERROR  
Package 132/193HostnameOS / ArchINSTALLBUILDCHECKBUILD BIN
netZooR 1.7.0  (landing page)
Marouen Ben Guebila
git_last_commit: 78a6970
git_last_commit_date: 2023-10-24 11:38:39 -0500
nebbiolo1Linux (Ubuntu 22.04.3 LTS) / x86_64  OK    OK    OK  UNNEEDED, same version is already published
palomino3Windows Server 2022 Datacenter / x64  OK    OK    OK    OK  UNNEEDED, same version is already published
merida1macOS 12.7.1 Monterey / x86_64  OK    OK    OK    OK  UNNEEDED, same version is already published
kunpeng2Linux (openEuler 22.03 LTS-SP1) / aarch64  OK    OK    ERROR  
Package 133/193HostnameOS / ArchINSTALLBUILDCHECKBUILD BIN
NoRCE 1.15.0  (landing page)
Gulden Olgun
git_last_commit: 20d62c4
git_last_commit_date: 2023-10-24 11:20:20 -0500
nebbiolo1Linux (Ubuntu 22.04.3 LTS) / x86_64  OK    OK    OK  UNNEEDED, same version is already published
palomino3Windows Server 2022 Datacenter / x64  OK    OK    OK    OK  UNNEEDED, same version is already published
merida1macOS 12.7.1 Monterey / x86_64  OK    OK    OK    OK  UNNEEDED, same version is already published
kunpeng2Linux (openEuler 22.03 LTS-SP1) / aarch64  OK    OK    OK  
Package 134/193HostnameOS / ArchINSTALLBUILDCHECKBUILD BIN
ORFik 1.23.6  (landing page)
Haakon Tjeldnes
git_last_commit: 7e429b3
git_last_commit_date: 2024-02-19 08:55:05 -0500
nebbiolo1Linux (Ubuntu 22.04.3 LTS) / x86_64  OK    OK    OK  UNNEEDED, same version is already published
palomino3Windows Server 2022 Datacenter / x64  OK    OK    OK    OK  UNNEEDED, same version is already published
merida1macOS 12.7.1 Monterey / x86_64  OK    OK    OK    OK  UNNEEDED, same version is already published
kunpeng2Linux (openEuler 22.03 LTS-SP1) / aarch64  OK    OK    OK  
Package 135/193HostnameOS / ArchINSTALLBUILDCHECKBUILD BIN
Organism.dplyr 1.31.1  (landing page)
Martin Morgan
git_last_commit: 14a0253
git_last_commit_date: 2023-10-31 15:10:44 -0500
nebbiolo1Linux (Ubuntu 22.04.3 LTS) / x86_64  OK    OK    OK  UNNEEDED, same version is already published
palomino3Windows Server 2022 Datacenter / x64  OK    OK    OK    OK  UNNEEDED, same version is already published
merida1macOS 12.7.1 Monterey / x86_64  OK    OK    OK    OK  UNNEEDED, same version is already published
kunpeng2Linux (openEuler 22.03 LTS-SP1) / aarch64  OK    ERROR  skipped
Package 136/193HostnameOS / ArchINSTALLBUILDCHECKBUILD BIN
OrganismDbi 1.45.0  (landing page)
Bioconductor Package Maintainer
git_last_commit: f9b703b
git_last_commit_date: 2023-10-24 09:51:08 -0500
nebbiolo1Linux (Ubuntu 22.04.3 LTS) / x86_64  OK    OK    WARNINGS  UNNEEDED, same version is already published
palomino3Windows Server 2022 Datacenter / x64  OK    OK    WARNINGS    OK  UNNEEDED, same version is already published
merida1macOS 12.7.1 Monterey / x86_64  OK    OK    WARNINGS    OK  UNNEEDED, same version is already published
kunpeng2Linux (openEuler 22.03 LTS-SP1) / aarch64  OK    OK    WARNINGS  
Package 137/193HostnameOS / ArchINSTALLBUILDCHECKBUILD BIN
OutSplice 1.3.0  (landing page)
Theresa Guo
git_last_commit: 99e5e9c
git_last_commit_date: 2023-10-24 11:48:51 -0500
nebbiolo1Linux (Ubuntu 22.04.3 LTS) / x86_64  ERROR    ERROR  skipped
palomino3Windows Server 2022 Datacenter / x64  ERROR    ERROR  skippedskipped
merida1macOS 12.7.1 Monterey / x86_64  ERROR    ERROR  skippedskipped
kunpeng2Linux (openEuler 22.03 LTS-SP1) / aarch64  OK    OK    OK  
Package 138/193HostnameOS / ArchINSTALLBUILDCHECKBUILD BIN
PADOG 1.45.0  (landing page)
Adi L. Tarca
git_last_commit: 481a2a9
git_last_commit_date: 2023-11-07 16:36:33 -0500
nebbiolo1Linux (Ubuntu 22.04.3 LTS) / x86_64  OK    OK    OK  UNNEEDED, same version is already published
palomino3Windows Server 2022 Datacenter / x64  OK    OK    OK    OK  UNNEEDED, same version is already published
merida1macOS 12.7.1 Monterey / x86_64  OK    OK    OK    OK  UNNEEDED, same version is already published
kunpeng2Linux (openEuler 22.03 LTS-SP1) / aarch64  OK    OK    OK  
Package 139/193HostnameOS / ArchINSTALLBUILDCHECKBUILD BIN
pathRender 1.71.0  (landing page)
Vince Carey
git_last_commit: 4086a6b
git_last_commit_date: 2023-10-24 09:36:00 -0500
nebbiolo1Linux (Ubuntu 22.04.3 LTS) / x86_64  OK    OK    OK  UNNEEDED, same version is already published
palomino3Windows Server 2022 Datacenter / x64  OK    OK    OK    OK  UNNEEDED, same version is already published
merida1macOS 12.7.1 Monterey / x86_64  OK    OK    OK    OK  UNNEEDED, same version is already published
kunpeng2Linux (openEuler 22.03 LTS-SP1) / aarch64  OK    OK    OK  
Package 140/193HostnameOS / ArchINSTALLBUILDCHECKBUILD BIN
pathview 1.43.0  (landing page)
Weijun Luo
git_last_commit: c1d40b2
git_last_commit_date: 2023-10-24 09:53:13 -0500
nebbiolo1Linux (Ubuntu 22.04.3 LTS) / x86_64  OK    OK    ERROR  
palomino3Windows Server 2022 Datacenter / x64  OK    OK    WARNINGS    OK  UNNEEDED, same version is already published
merida1macOS 12.7.1 Monterey / x86_64  OK    OK    WARNINGS    OK  UNNEEDED, same version is already published
kunpeng2Linux (openEuler 22.03 LTS-SP1) / aarch64  OK    OK    WARNINGS  
Package 141/193HostnameOS / ArchINSTALLBUILDCHECKBUILD BIN
pcaExplorer 2.29.0  (landing page)
Federico Marini
git_last_commit: 1d2a8fd
git_last_commit_date: 2023-10-27 04:26:58 -0500
nebbiolo1Linux (Ubuntu 22.04.3 LTS) / x86_64  OK    OK    OK  UNNEEDED, same version is already published
palomino3Windows Server 2022 Datacenter / x64  OK    OK    OK    OK  UNNEEDED, same version is already published
merida1macOS 12.7.1 Monterey / x86_64  OK    OK    OK    OK  UNNEEDED, same version is already published
kunpeng2Linux (openEuler 22.03 LTS-SP1) / aarch64  OK    OK    OK  
Package 142/193HostnameOS / ArchINSTALLBUILDCHECKBUILD BIN
phantasus 1.23.2  (landing page)
Alexey Sergushichev
git_last_commit: ede9cb2
git_last_commit_date: 2023-11-15 12:14:01 -0500
nebbiolo1Linux (Ubuntu 22.04.3 LTS) / x86_64  OK    OK    OK  UNNEEDED, same version is already published
palomino3Windows Server 2022 Datacenter / x64  OK    OK    OK    OK  UNNEEDED, same version is already published
merida1macOS 12.7.1 Monterey / x86_64  OK    OK    OK    OK  UNNEEDED, same version is already published
kunpeng2Linux (openEuler 22.03 LTS-SP1) / aarch64  OK    OK    OK  
Package 143/193HostnameOS / ArchINSTALLBUILDCHECKBUILD BIN
phenoTest 1.51.0  (landing page)
Evarist Planet
git_last_commit: 80afa82
git_last_commit_date: 2023-10-24 09:45:37 -0500
nebbiolo1Linux (Ubuntu 22.04.3 LTS) / x86_64  OK    OK    WARNINGS  UNNEEDED, same version is already published
palomino3Windows Server 2022 Datacenter / x64  OK    OK    WARNINGS    OK  UNNEEDED, same version is already published
merida1macOS 12.7.1 Monterey / x86_64  OK    OK    WARNINGS    OK  UNNEEDED, same version is already published
kunpeng2Linux (openEuler 22.03 LTS-SP1) / aarch64  OK    OK    WARNINGS  
Package 144/193HostnameOS / ArchINSTALLBUILDCHECKBUILD BIN
proActiv 1.13.0  (landing page)
Joseph Lee
git_last_commit: 635dd63
git_last_commit_date: 2023-10-24 11:25:31 -0500
nebbiolo1Linux (Ubuntu 22.04.3 LTS) / x86_64  OK    OK    OK  UNNEEDED, same version is already published
palomino3Windows Server 2022 Datacenter / x64  OK    OK    OK    OK  UNNEEDED, same version is already published
merida1macOS 12.7.1 Monterey / x86_64  OK    OK    OK    OK  UNNEEDED, same version is already published
kunpeng2Linux (openEuler 22.03 LTS-SP1) / aarch64  OK    OK    OK  
Package 145/193HostnameOS / ArchINSTALLBUILDCHECKBUILD BIN
proBAMr 1.37.0  (landing page)
Xiaojing Wang
git_last_commit: c6c3dae
git_last_commit_date: 2023-10-24 10:39:10 -0500
nebbiolo1Linux (Ubuntu 22.04.3 LTS) / x86_64  OK    OK    OK  UNNEEDED, same version is already published
palomino3Windows Server 2022 Datacenter / x64  OK    OK    OK    OK  UNNEEDED, same version is already published
merida1macOS 12.7.1 Monterey / x86_64  OK    OK    OK    OK  UNNEEDED, same version is already published
kunpeng2Linux (openEuler 22.03 LTS-SP1) / aarch64  OK    OK    OK  
Package 146/193HostnameOS / ArchINSTALLBUILDCHECKBUILD BIN
psichomics 1.29.1  (landing page)
Nuno Saraiva-Agostinho
git_last_commit: 04d06e0
git_last_commit_date: 2024-02-04 17:57:40 -0500
nebbiolo1Linux (Ubuntu 22.04.3 LTS) / x86_64  OK    OK    OK  UNNEEDED, same version is already published
palomino3Windows Server 2022 Datacenter / x64  OK    OK    OK    OK  UNNEEDED, same version is already published
merida1macOS 12.7.1 Monterey / x86_64  OK    OK    OK    OK  UNNEEDED, same version is already published
kunpeng2Linux (openEuler 22.03 LTS-SP1) / aarch64  OK    OK    OK  
Package 147/193HostnameOS / ArchINSTALLBUILDCHECKBUILD BIN
pwOmics 1.35.0  (landing page)
Torsten Schoeps
git_last_commit: dfbf89e
git_last_commit_date: 2023-10-24 10:43:28 -0500
nebbiolo1Linux (Ubuntu 22.04.3 LTS) / x86_64  OK    OK    WARNINGS  UNNEEDED, same version is already published
palomino3Windows Server 2022 Datacenter / x64  OK    OK    WARNINGS    OK  UNNEEDED, same version is already published
merida1macOS 12.7.1 Monterey / x86_64  OK    OK    WARNINGS    OK  UNNEEDED, same version is already published
kunpeng2Linux (openEuler 22.03 LTS-SP1) / aarch64  OK    OK    WARNINGS  
Package 148/193HostnameOS / ArchINSTALLBUILDCHECKBUILD BIN
qpgraph 2.37.0  (landing page)
Robert Castelo
git_last_commit: f681a6c
git_last_commit_date: 2023-10-24 09:41:20 -0500
nebbiolo1Linux (Ubuntu 22.04.3 LTS) / x86_64  OK    OK    WARNINGS  UNNEEDED, same version is already published
palomino3Windows Server 2022 Datacenter / x64  OK    ERROR  skippedskipped
merida1macOS 12.7.1 Monterey / x86_64  OK    OK    WARNINGS    OK  UNNEEDED, same version is already published
kunpeng2Linux (openEuler 22.03 LTS-SP1) / aarch64  OK    OK    WARNINGS  
Package 149/193HostnameOS / ArchINSTALLBUILDCHECKBUILD BIN
QuasR 1.43.3  (landing page)
Michael Stadler
git_last_commit: 3346611
git_last_commit_date: 2024-01-24 10:32:48 -0500
nebbiolo1Linux (Ubuntu 22.04.3 LTS) / x86_64  OK    OK    WARNINGS  UNNEEDED, same version is already published
palomino3Windows Server 2022 Datacenter / x64  OK    OK    WARNINGS    OK  UNNEEDED, same version is already published
merida1macOS 12.7.1 Monterey / x86_64  OK    OK    WARNINGS    OK  UNNEEDED, same version is already published
kunpeng2Linux (openEuler 22.03 LTS-SP1) / aarch64  OK    OK    WARNINGS  
Package 150/193HostnameOS / ArchINSTALLBUILDCHECKBUILD BIN
RAIDS 1.1.0  (landing page)
Pascal Belleau
git_last_commit: e58671a
git_last_commit_date: 2023-10-24 11:51:36 -0500
nebbiolo1Linux (Ubuntu 22.04.3 LTS) / x86_64  OK    OK    OK  UNNEEDED, same version is already published
palomino3Windows Server 2022 Datacenter / x64  OK    OK    OK    OK  UNNEEDED, same version is already published
merida1macOS 12.7.1 Monterey / x86_64  OK    OK    OK    OK  UNNEEDED, same version is already published
kunpeng2Linux (openEuler 22.03 LTS-SP1) / aarch64  OK    OK    OK  
Package 151/193HostnameOS / ArchINSTALLBUILDCHECKBUILD BIN
rCGH 1.33.0  (landing page)
Frederic Commo
git_last_commit: 77d8311
git_last_commit_date: 2023-10-24 10:44:17 -0500
nebbiolo1Linux (Ubuntu 22.04.3 LTS) / x86_64  OK    OK    OK  UNNEEDED, same version is already published
palomino3Windows Server 2022 Datacenter / x64  OK    OK    OK    OK  UNNEEDED, same version is already published
merida1macOS 12.7.1 Monterey / x86_64  OK    OK    OK    OK  UNNEEDED, same version is already published
kunpeng2Linux (openEuler 22.03 LTS-SP1) / aarch64  OK    OK    OK  
Package 152/193HostnameOS / ArchINSTALLBUILDCHECKBUILD BIN
ReactomePA 1.47.0  (landing page)
Guangchuang Yu
git_last_commit: e4309c6
git_last_commit_date: 2023-10-24 09:49:45 -0500
nebbiolo1Linux (Ubuntu 22.04.3 LTS) / x86_64  OK    OK    OK  UNNEEDED, same version is already published
palomino3Windows Server 2022 Datacenter / x64  OK    OK    OK    OK  UNNEEDED, same version is already published
merida1macOS 12.7.1 Monterey / x86_64  OK    OK    OK    OK  UNNEEDED, same version is already published
kunpeng2Linux (openEuler 22.03 LTS-SP1) / aarch64  OK    OK    OK  
Package 153/193HostnameOS / ArchINSTALLBUILDCHECKBUILD BIN
REDseq 1.49.0  (landing page)
Lihua Julie Zhu
git_last_commit: 8a499f7
git_last_commit_date: 2023-10-24 09:46:52 -0500
nebbiolo1Linux (Ubuntu 22.04.3 LTS) / x86_64  OK    OK    OK  UNNEEDED, same version is already published
palomino3Windows Server 2022 Datacenter / x64  OK    ERROR  skippedskipped
merida1macOS 12.7.1 Monterey / x86_64  OK    OK    OK    OK  UNNEEDED, same version is already published
kunpeng2Linux (openEuler 22.03 LTS-SP1) / aarch64  OK    OK    OK  
Package 154/193HostnameOS / ArchINSTALLBUILDCHECKBUILD BIN
regutools 1.15.0  (landing page)
Joselyn Chavez
git_last_commit: 852059b
git_last_commit_date: 2023-10-24 11:22:02 -0500
nebbiolo1Linux (Ubuntu 22.04.3 LTS) / x86_64  OK    OK    OK  UNNEEDED, same version is already published
palomino3Windows Server 2022 Datacenter / x64  OK    OK    OK    OK  UNNEEDED, same version is already published
merida1macOS 12.7.1 Monterey / x86_64  OK    OK    OK    OK  UNNEEDED, same version is already published
kunpeng2Linux (openEuler 22.03 LTS-SP1) / aarch64  OK    OK    OK  
Package 155/193HostnameOS / ArchINSTALLBUILDCHECKBUILD BIN
ReportingTools 2.43.2  (landing page)
Jason A. Hackney , Gabriel Becker
git_last_commit: 5fe59ce
git_last_commit_date: 2023-12-07 14:56:27 -0500
nebbiolo1Linux (Ubuntu 22.04.3 LTS) / x86_64  OK    OK    OK  UNNEEDED, same version is already published
palomino3Windows Server 2022 Datacenter / x64  OK    ERROR  skippedskipped
merida1macOS 12.7.1 Monterey / x86_64  OK    OK    OK    OK  UNNEEDED, same version is already published
kunpeng2Linux (openEuler 22.03 LTS-SP1) / aarch64  OK    OK    OK  
Package 156/193HostnameOS / ArchINSTALLBUILDCHECKBUILD BIN
restfulSE 1.25.0  (landing page)
Shweta Gopaulakrishnan
git_last_commit: 0505582
git_last_commit_date: 2023-10-24 10:59:57 -0500
nebbiolo1Linux (Ubuntu 22.04.3 LTS) / x86_64  OK    ERROR  skipped
palomino3Windows Server 2022 Datacenter / x64  OK    ERROR  skippedskipped
merida1macOS 12.7.1 Monterey / x86_64  OK    ERROR  skippedskipped
kunpeng2Linux (openEuler 22.03 LTS-SP1) / aarch64  OK    TIMEOUT  skipped
Package 157/193HostnameOS / ArchINSTALLBUILDCHECKBUILD BIN
rGREAT 2.5.3  (landing page)
Zuguang Gu
git_last_commit: a8b2403
git_last_commit_date: 2024-02-05 08:42:06 -0500
nebbiolo1Linux (Ubuntu 22.04.3 LTS) / x86_64  ERROR    OK    ERROR  
palomino3Windows Server 2022 Datacenter / x64  ERROR    OK    ERROR    OK  
merida1macOS 12.7.1 Monterey / x86_64  OK    OK    OK    OK  UNNEEDED, same version is already published
kunpeng2Linux (openEuler 22.03 LTS-SP1) / aarch64  ERROR    ERROR  skipped
Package 158/193HostnameOS / ArchINSTALLBUILDCHECKBUILD BIN
rgsepd 1.35.0  (landing page)
Karl Stamm
git_last_commit: 850590c
git_last_commit_date: 2023-10-24 10:40:48 -0500
nebbiolo1Linux (Ubuntu 22.04.3 LTS) / x86_64  OK    OK    OK  UNNEEDED, same version is already published
palomino3Windows Server 2022 Datacenter / x64  OK    ERROR  skippedskipped
merida1macOS 12.7.1 Monterey / x86_64  OK    OK    OK    OK  UNNEEDED, same version is already published
kunpeng2Linux (openEuler 22.03 LTS-SP1) / aarch64  OK    OK    OK  
Package 159/193HostnameOS / ArchINSTALLBUILDCHECKBUILD BIN
ribosomeProfilingQC 1.15.0  (landing page)
Jianhong Ou
git_last_commit: 4ee8832
git_last_commit_date: 2023-10-24 11:19:41 -0500
nebbiolo1Linux (Ubuntu 22.04.3 LTS) / x86_64  OK    OK    OK  UNNEEDED, same version is already published
palomino3Windows Server 2022 Datacenter / x64  OK    OK    OK    OK  UNNEEDED, same version is already published
merida1macOS 12.7.1 Monterey / x86_64  OK    OK    OK    OK  UNNEEDED, same version is already published
kunpeng2Linux (openEuler 22.03 LTS-SP1) / aarch64  OK    OK    OK  
Package 160/193HostnameOS / ArchINSTALLBUILDCHECKBUILD BIN
RNAAgeCalc 1.15.0  (landing page)
Xu Ren
git_last_commit: 0a2eff9
git_last_commit_date: 2023-10-24 11:20:12 -0500
nebbiolo1Linux (Ubuntu 22.04.3 LTS) / x86_64  OK    OK    OK  UNNEEDED, same version is already published
palomino3Windows Server 2022 Datacenter / x64  OK    OK    OK    OK  UNNEEDED, same version is already published
merida1macOS 12.7.1 Monterey / x86_64  OK    OK    OK    OK  UNNEEDED, same version is already published
kunpeng2Linux (openEuler 22.03 LTS-SP1) / aarch64  OK    OK    OK  
Package 161/193HostnameOS / ArchINSTALLBUILDCHECKBUILD BIN
rrvgo 1.15.1  (landing page)
Sergi Sayols
git_last_commit: ef5d65a
git_last_commit_date: 2023-12-15 07:42:20 -0500
nebbiolo1Linux (Ubuntu 22.04.3 LTS) / x86_64  OK    OK    OK  UNNEEDED, same version is already published
palomino3Windows Server 2022 Datacenter / x64  OK    OK    OK    OK  UNNEEDED, same version is already published
merida1macOS 12.7.1 Monterey / x86_64  OK    OK    OK    OK  UNNEEDED, same version is already published
kunpeng2Linux (openEuler 22.03 LTS-SP1) / aarch64  OK    OK    OK  
Package 162/193HostnameOS / ArchINSTALLBUILDCHECKBUILD BIN
rTRM 1.41.0  (landing page)
Diego Diez
git_last_commit: 18a69c2
git_last_commit_date: 2023-10-24 09:54:41 -0500
nebbiolo1Linux (Ubuntu 22.04.3 LTS) / x86_64  OK    OK    OK  UNNEEDED, same version is already published
palomino3Windows Server 2022 Datacenter / x64  OK    OK    OK    OK  UNNEEDED, same version is already published
merida1macOS 12.7.1 Monterey / x86_64  OK    OK    OK    OK  UNNEEDED, same version is already published
kunpeng2Linux (openEuler 22.03 LTS-SP1) / aarch64  OK    OK    OK  
Package 163/193HostnameOS / ArchINSTALLBUILDCHECKBUILD BIN
safe 3.43.0  (landing page)
Ludwig Geistlinger
git_last_commit: 34eff76
git_last_commit_date: 2023-10-24 09:34:48 -0500
nebbiolo1Linux (Ubuntu 22.04.3 LTS) / x86_64  OK    OK    OK  UNNEEDED, same version is already published
palomino3Windows Server 2022 Datacenter / x64  OK    ERROR  skippedskipped
merida1macOS 12.7.1 Monterey / x86_64  OK    OK    OK    OK  UNNEEDED, same version is already published
kunpeng2Linux (openEuler 22.03 LTS-SP1) / aarch64  OK    ERROR  skipped
Package 164/193HostnameOS / ArchINSTALLBUILDCHECKBUILD BIN
SBGNview 1.17.0  (landing page)
Weijun Luo
git_last_commit: 4fd29cc
git_last_commit_date: 2023-10-24 11:14:55 -0500
nebbiolo1Linux (Ubuntu 22.04.3 LTS) / x86_64  OK    OK    OK  UNNEEDED, same version is already published
palomino3Windows Server 2022 Datacenter / x64  OK    OK    OK    OK  UNNEEDED, same version is already published
merida1macOS 12.7.1 Monterey / x86_64  OK    OK    OK    OK  UNNEEDED, same version is already published
kunpeng2Linux (openEuler 22.03 LTS-SP1) / aarch64  OK    ERROR  skipped
Package 165/193HostnameOS / ArchINSTALLBUILDCHECKBUILD BIN
scanMiRApp 1.9.0  (landing page)
Pierre-Luc Germain
git_last_commit: cdf7e7a
git_last_commit_date: 2023-10-24 11:35:21 -0500
nebbiolo1Linux (Ubuntu 22.04.3 LTS) / x86_64  OK    OK    WARNINGS  UNNEEDED, same version is already published
palomino3Windows Server 2022 Datacenter / x64  OK    OK    WARNINGS    OK  UNNEEDED, same version is already published
merida1macOS 12.7.1 Monterey / x86_64  OK    OK    WARNINGS    OK  UNNEEDED, same version is already published
kunpeng2Linux (openEuler 22.03 LTS-SP1) / aarch64  OK    OK    WARNINGS  
Package 166/193HostnameOS / ArchINSTALLBUILDCHECKBUILD BIN
scPipe 2.3.1  (landing page)
Shian Su
git_last_commit: 225347e
git_last_commit_date: 2023-10-24 22:41:56 -0500
nebbiolo1Linux (Ubuntu 22.04.3 LTS) / x86_64  OK    OK    OK  UNNEEDED, same version is already published
palomino3Windows Server 2022 Datacenter / x64  OK    OK    OK    OK  UNNEEDED, same version is already published
merida1macOS 12.7.1 Monterey / x86_64  OK    OK    OK    OK  UNNEEDED, same version is already published
kunpeng2Linux (openEuler 22.03 LTS-SP1) / aarch64  OK    OK    OK  
Package 167/193HostnameOS / ArchINSTALLBUILDCHECKBUILD BIN
scruff 1.21.0  (landing page)
Zhe Wang
git_last_commit: b3153a5
git_last_commit_date: 2023-10-24 11:06:39 -0500
nebbiolo1Linux (Ubuntu 22.04.3 LTS) / x86_64  OK    OK    OK  UNNEEDED, same version is already published
palomino3Windows Server 2022 Datacenter / x64  OK    OK    OK    OK  UNNEEDED, same version is already published
merida1macOS 12.7.1 Monterey / x86_64  OK    OK    OK    OK  UNNEEDED, same version is already published
kunpeng2Linux (openEuler 22.03 LTS-SP1) / aarch64  OK    OK    OK  
Package 168/193HostnameOS / ArchINSTALLBUILDCHECKBUILD BIN
scTensor 2.13.0  (landing page)
Koki Tsuyuzaki
git_last_commit: f23f688
git_last_commit_date: 2023-10-24 11:09:40 -0500
nebbiolo1Linux (Ubuntu 22.04.3 LTS) / x86_64  OK    OK    WARNINGS  UNNEEDED, same version is already published
palomino3Windows Server 2022 Datacenter / x64  OK    OK    WARNINGS    OK  UNNEEDED, same version is already published
merida1macOS 12.7.1 Monterey / x86_64  OK    OK    WARNINGS    OK  UNNEEDED, same version is already published
kunpeng2Linux (openEuler 22.03 LTS-SP1) / aarch64  OK    OK    WARNINGS  
Package 169/193HostnameOS / ArchINSTALLBUILDCHECKBUILD BIN
SemDist 1.37.0  (landing page)
Ian Gonzalez
git_last_commit: c14eb21
git_last_commit_date: 2023-10-24 10:00:38 -0500
nebbiolo1Linux (Ubuntu 22.04.3 LTS) / x86_64  OK    OK    OK  UNNEEDED, same version is already published
palomino3Windows Server 2022 Datacenter / x64  OK    OK    OK    OK  UNNEEDED, same version is already published
merida1macOS 12.7.1 Monterey / x86_64  OK    OK    OK    OK  UNNEEDED, same version is already published
kunpeng2Linux (openEuler 22.03 LTS-SP1) / aarch64  OK    OK    OK  
Package 170/193HostnameOS / ArchINSTALLBUILDCHECKBUILD BIN
SGSeq 1.37.0  (landing page)
Leonard Goldstein
git_last_commit: 756479a
git_last_commit_date: 2023-10-24 10:39:42 -0500
nebbiolo1Linux (Ubuntu 22.04.3 LTS) / x86_64  OK    OK    OK  UNNEEDED, same version is already published
palomino3Windows Server 2022 Datacenter / x64  OK    OK    OK    OK  UNNEEDED, same version is already published
merida1macOS 12.7.1 Monterey / x86_64  OK    OK    OK    OK  UNNEEDED, same version is already published
kunpeng2Linux (openEuler 22.03 LTS-SP1) / aarch64  OK    OK    OK  
Package 171/193HostnameOS / ArchINSTALLBUILDCHECKBUILD BIN
signatureSearch 1.17.0  (landing page)
Brendan Gongol
git_last_commit: 3ffd95e
git_last_commit_date: 2023-10-24 11:18:10 -0500
nebbiolo1Linux (Ubuntu 22.04.3 LTS) / x86_64  OK    OK    OK  UNNEEDED, same version is already published
palomino3Windows Server 2022 Datacenter / x64  OK    OK    OK    OK  UNNEEDED, same version is already published
merida1macOS 12.7.1 Monterey / x86_64  OK    OK    OK    OK  UNNEEDED, same version is already published
kunpeng2Linux (openEuler 22.03 LTS-SP1) / aarch64  OK    TIMEOUT  skipped
Package 172/193HostnameOS / ArchINSTALLBUILDCHECKBUILD BIN
signifinder 1.5.2  (landing page)
Stefania Pirrotta
git_last_commit: 28c6f14
git_last_commit_date: 2024-02-07 08:10:11 -0500
nebbiolo1Linux (Ubuntu 22.04.3 LTS) / x86_64  OK    OK    OK  UNNEEDED, same version is already published
palomino3Windows Server 2022 Datacenter / x64  OK    OK    OK    OK  UNNEEDED, same version is already published
merida1macOS 12.7.1 Monterey / x86_64  OK    OK    OK    OK  UNNEEDED, same version is already published
kunpeng2Linux (openEuler 22.03 LTS-SP1) / aarch64  OK    OK    OK  
Package 173/193HostnameOS / ArchINSTALLBUILDCHECKBUILD BIN
simplifyEnrichment 1.13.1  (landing page)
Zuguang Gu
git_last_commit: f347445
git_last_commit_date: 2023-11-06 09:46:53 -0500
nebbiolo1Linux (Ubuntu 22.04.3 LTS) / x86_64  OK    OK    OK  UNNEEDED, same version is already published
palomino3Windows Server 2022 Datacenter / x64  OK    OK    OK    OK  UNNEEDED, same version is already published
merida1macOS 12.7.1 Monterey / x86_64  OK    OK    OK    OK  UNNEEDED, same version is already published
kunpeng2Linux (openEuler 22.03 LTS-SP1) / aarch64  OK    OK    OK  
Package 174/193HostnameOS / ArchINSTALLBUILDCHECKBUILD BIN
SMITE 1.31.0  (landing page)
Neil Ari Wijetunga
git_last_commit: 0dda7c2
git_last_commit_date: 2023-10-24 10:47:29 -0500
nebbiolo1Linux (Ubuntu 22.04.3 LTS) / x86_64  OK    OK    OK  UNNEEDED, same version is already published