Back to Multiple platform build/check report for BioC 3.15
ABCDEF[G]HIJKLMNOPQRSTUVWXYZ

This page was generated on 2022-01-27 11:04:40 -0500 (Thu, 27 Jan 2022).

HostnameOSArch (*)R versionInstalled pkgs
nebbiolo1Linux (Ubuntu 20.04.4 LTS)x86_64R Under development (unstable) (2022-01-05 r81451) -- "Unsuffered Consequences" 4167
riesling1Windows Server 2019 Standardx64R Under development (unstable) (2021-11-21 r81221) -- "Unsuffered Consequences" 4062
palomino3Windows Server 2022 Datacenterx64R Under development (unstable) (2021-12-21 r81400 ucrt) -- "Unsuffered Consequences" 4004
merida1macOS 10.14.6 Mojavex86_64R Under development (unstable) (2022-01-05 r81451) -- "Unsuffered Consequences" 4121
Click on any hostname to see more info about the system (e.g. compilers)      (*) as reported by 'uname -p', except on Windows and Mac OS X

All results for package GSEABase


To the developers/maintainers of the GSEABase package:
- Please allow up to 24 hours (and sometimes 48 hours) for your latest push to git@git.bioconductor.org:packages/GSEABase.git to
reflect on this report. See How and When does the builder pull? When will my changes propagate? here for more information.
- Make sure to use the following settings in order to reproduce any error or warning you see on this page.

raw results

Package 830/2077HostnameOS / ArchINSTALLBUILDCHECKBUILD BIN
GSEABase 1.57.0  (landing page)
Bioconductor Package Maintainer
Snapshot Date: 2022-01-26 13:55:18 -0500 (Wed, 26 Jan 2022)
git_url: https://git.bioconductor.org/packages/GSEABase
git_branch: master
git_last_commit: c9a3c77
git_last_commit_date: 2021-10-26 11:51:15 -0500 (Tue, 26 Oct 2021)
nebbiolo1Linux (Ubuntu 20.04.4 LTS) / x86_64  OK    OK    OK  UNNEEDED, same version is already published
riesling1Windows Server 2019 Standard / x64  OK    OK    OK    NA  
palomino3Windows Server 2022 Datacenter / x64  OK    OK    OK    OK  NO, package depends on 'BiocGenerics' which is not available
merida1macOS 10.14.6 Mojave / x86_64  OK    OK    OK    OK  UNNEEDED, same version is already published

Results for Bioconductor software packages that depend directly on package GSEABase

QUICK STATSOS / ArchINSTALLBUILDCHECKBUILD BIN
nebbiolo1Linux (Ubuntu 20.04.4 LTS) / x86_64
0039
0039
02631
riesling1Windows Server 2019 Standard / x64
0039
0138
02630
000
palomino3Windows Server 2022 Datacenter / x64
0039
0138
02630
0038
merida1macOS 10.14.6 Mojave / x86_64
0039
0138
02729
0038
Package 1/39HostnameOS / ArchINSTALLBUILDCHECKBUILD BIN
AGDEX 1.43.0  (landing page)
Cuilan lani Gao
git_last_commit: 50191d7
git_last_commit_date: 2021-10-26 12:00:32 -0500
nebbiolo1Linux (Ubuntu 20.04.4 LTS) / x86_64  OK    OK    OK  UNNEEDED, same version is already published
riesling1Windows Server 2019 Standard / x64  OK    OK    OK    NA  
palomino3Windows Server 2022 Datacenter / x64  OK    OK    OK    OK  NO, package depends on 'Biobase' which is not available
merida1macOS 10.14.6 Mojave / x86_64  OK    OK    OK    OK  UNNEEDED, same version is already published
Package 2/39HostnameOS / ArchINSTALLBUILDCHECKBUILD BIN
AUCell 1.17.0  (landing page)
Sara Aibar
git_last_commit: 8bc80bb
git_last_commit_date: 2021-10-26 12:38:06 -0500
nebbiolo1Linux (Ubuntu 20.04.4 LTS) / x86_64  OK    OK    OK  UNNEEDED, same version is already published
riesling1Windows Server 2019 Standard / x64  OK    OK    OK    NA  
palomino3Windows Server 2022 Datacenter / x64  OK    OK    OK    OK  NO, package depends on 'GSEABase' which is not available
merida1macOS 10.14.6 Mojave / x86_64  OK    OK    OK    OK  UNNEEDED, same version is already published
Package 3/39HostnameOS / ArchINSTALLBUILDCHECKBUILD BIN
BicARE 1.53.0  (landing page)
Pierre Gestraud
git_last_commit: 8da5398
git_last_commit_date: 2021-10-26 11:53:14 -0500
nebbiolo1Linux (Ubuntu 20.04.4 LTS) / x86_64  OK    OK    OK  UNNEEDED, same version is already published
riesling1Windows Server 2019 Standard / x64  OK    OK    OK    NA  
palomino3Windows Server 2022 Datacenter / x64  OK    OK    OK    OK  NO, package depends on 'Biobase' which is not available
merida1macOS 10.14.6 Mojave / x86_64  OK    OK    OK    OK  UNNEEDED, same version is already published
Package 4/39HostnameOS / ArchINSTALLBUILDCHECKBUILD BIN
BioCor 1.19.0  (landing page)
LluĂ­s Revilla Sancho
git_last_commit: 703c781
git_last_commit_date: 2021-10-26 12:33:55 -0500
nebbiolo1Linux (Ubuntu 20.04.4 LTS) / x86_64  OK    OK    OK  UNNEEDED, same version is already published
riesling1Windows Server 2019 Standard / x64  OK    OK    OK    NA  
palomino3Windows Server 2022 Datacenter / x64  OK    OK    OK    OK  NO, package depends on 'GSEABase' which is not available
merida1macOS 10.14.6 Mojave / x86_64  OK    OK    OK    OK  UNNEEDED, same version is already published
Package 5/39HostnameOS / ArchINSTALLBUILDCHECKBUILD BIN
canceR 1.29.0  (landing page)
Karim Mezhoud
git_last_commit: 7d00feb
git_last_commit_date: 2021-10-26 12:19:06 -0500
nebbiolo1Linux (Ubuntu 20.04.4 LTS) / x86_64  OK    OK    OK  UNNEEDED, same version is already published
riesling1Windows Server 2019 Standard / x64  OK    OK    OK    NA  
palomino3Windows Server 2022 Datacenter / x64  OK    OK    OK    OK  NO, package depends on 'GSEABase' which is not available
merida1macOS 10.14.6 Mojave / x86_64  OK    OK    OK    OK  UNNEEDED, same version is already published
Package 6/39HostnameOS / ArchINSTALLBUILDCHECKBUILD BIN
Category 2.61.0  (landing page)
Bioconductor Package Maintainer
git_last_commit: e64ddb1
git_last_commit_date: 2021-10-26 11:48:11 -0500
nebbiolo1Linux (Ubuntu 20.04.4 LTS) / x86_64  OK    OK    OK  UNNEEDED, same version is already published
riesling1Windows Server 2019 Standard / x64  OK    OK    OK    NA  
palomino3Windows Server 2022 Datacenter / x64  OK    OK    OK    OK  NO, package depends on 'BiocGenerics' which is not available
merida1macOS 10.14.6 Mojave / x86_64  OK    OK    OK    OK  UNNEEDED, same version is already published
Package 7/39HostnameOS / ArchINSTALLBUILDCHECKBUILD BIN
categoryCompare 1.39.0  (landing page)
Robert M. Flight
git_last_commit: b76dc35
git_last_commit_date: 2021-10-26 12:03:05 -0500
nebbiolo1Linux (Ubuntu 20.04.4 LTS) / x86_64  OK    OK    OK  UNNEEDED, same version is already published
riesling1Windows Server 2019 Standard / x64  OK    OK    OK    NA  
palomino3Windows Server 2022 Datacenter / x64  OK    OK    OK    OK  NO, package depends on 'Biobase' which is not available
merida1macOS 10.14.6 Mojave / x86_64  OK    OK    OK    OK  UNNEEDED, same version is already published
Package 8/39HostnameOS / ArchINSTALLBUILDCHECKBUILD BIN
CCPROMISE 1.21.0  (landing page)
Xueyuan Cao
git_last_commit: fc14d3b
git_last_commit_date: 2021-10-26 12:31:20 -0500
nebbiolo1Linux (Ubuntu 20.04.4 LTS) / x86_64  OK    OK    WARNINGS  UNNEEDED, same version is already published
riesling1Windows Server 2019 Standard / x64  OK    OK    WARNINGS    NA  
palomino3Windows Server 2022 Datacenter / x64  OK    OK    WARNINGS    OK  NO, package depends on 'PROMISE' which is not available
merida1macOS 10.14.6 Mojave / x86_64  OK    OK    WARNINGS    OK  UNNEEDED, same version is already published
Package 9/39HostnameOS / ArchINSTALLBUILDCHECKBUILD BIN
cellHTS2 2.59.0  (landing page)
Joseph Barry
git_last_commit: 023536c
git_last_commit_date: 2021-10-26 11:51:17 -0500
nebbiolo1Linux (Ubuntu 20.04.4 LTS) / x86_64  OK    OK    OK  UNNEEDED, same version is already published
riesling1Windows Server 2019 Standard / x64  OK    OK    OK    NA  
palomino3Windows Server 2022 Datacenter / x64  OK    OK    OK    OK  NO, package depends on 'Biobase' which is not available
merida1macOS 10.14.6 Mojave / x86_64  OK    OK    OK    OK  UNNEEDED, same version is already published
Package 10/39HostnameOS / ArchINSTALLBUILDCHECKBUILD BIN
Cepo 1.1.1  (landing page)
Hani Jieun Kim
git_last_commit: 328e5cf
git_last_commit_date: 2021-11-20 23:20:58 -0500
nebbiolo1Linux (Ubuntu 20.04.4 LTS) / x86_64  OK    OK    OK  UNNEEDED, same version is already published
riesling1Windows Server 2019 Standard / x64  OK    ERROR  skippedskipped
palomino3Windows Server 2022 Datacenter / x64  OK    OK    OK    OK  NO, package depends on 'GSEABase' which is not available
merida1macOS 10.14.6 Mojave / x86_64  OK    OK    OK    OK  UNNEEDED, same version is already published
Package 11/39HostnameOS / ArchINSTALLBUILDCHECKBUILD BIN
cosmosR 1.3.0  (landing page)
Katharina Zirngibl
git_last_commit: 0360169
git_last_commit_date: 2021-10-26 13:09:43 -0500
nebbiolo1Linux (Ubuntu 20.04.4 LTS) / x86_64  OK    OK    OK  UNNEEDED, same version is already published
riesling1Windows Server 2019 Standard / x64  OK    OK    OK    NA  
palomino3Windows Server 2022 Datacenter / x64  OK    OK    OK    OK  NO, package depends on 'AnnotationDbi' which is not available
merida1macOS 10.14.6 Mojave / x86_64  OK    OK    OK    OK  UNNEEDED, same version is already published
Package 12/39HostnameOS / ArchINSTALLBUILDCHECKBUILD BIN
cpvSNP 1.27.1  (landing page)
Caitlin McHugh
git_last_commit: 2c30d8e
git_last_commit_date: 2021-11-20 23:29:07 -0500
nebbiolo1Linux (Ubuntu 20.04.4 LTS) / x86_64  OK    OK    OK  UNNEEDED, same version is already published
riesling1Windows Server 2019 Standard / x64  OK    OK    OK    NA  
palomino3Windows Server 2022 Datacenter / x64  OK    OK    OK    OK  NO, package depends on 'GenomicFeatures' which is not available
merida1macOS 10.14.6 Mojave / x86_64  OK    OK    OK    OK  UNNEEDED, same version is already published
Package 13/39HostnameOS / ArchINSTALLBUILDCHECKBUILD BIN
EnrichmentBrowser 2.25.2  (landing page)
Ludwig Geistlinger
git_last_commit: cca26b2
git_last_commit_date: 2022-01-16 19:01:32 -0500
nebbiolo1Linux (Ubuntu 20.04.4 LTS) / x86_64  OK    OK    OK  UNNEEDED, same version is already published
riesling1Windows Server 2019 Standard / x64  OK    OK    OK    NA  
palomino3Windows Server 2022 Datacenter / x64  OK    OK    OK    OK  NO, package depends on 'SummarizedExperiment' which is not available
merida1macOS 10.14.6 Mojave / x86_64  OK    OK    OK    OK  UNNEEDED, same version is already published
Package 14/39HostnameOS / ArchINSTALLBUILDCHECKBUILD BIN
escape 1.5.0  (landing page)
Nick Borcherding
git_last_commit: 3093f2a
git_last_commit_date: 2021-10-26 13:01:15 -0500
nebbiolo1Linux (Ubuntu 20.04.4 LTS) / x86_64  OK    OK    OK  UNNEEDED, same version is already published
riesling1Windows Server 2019 Standard / x64  OK    OK    OK    NA  
palomino3Windows Server 2022 Datacenter / x64  OK    OK    OK    OK  NO, package depends on 'GSEABase' which is not available
merida1macOS 10.14.6 Mojave / x86_64  OK    OK    OK    OK  UNNEEDED, same version is already published
Package 15/39HostnameOS / ArchINSTALLBUILDCHECKBUILD BIN
gep2pep 1.15.0  (landing page)
Francesco Napolitano
git_last_commit: efacbde
git_last_commit_date: 2021-10-26 12:40:07 -0500
nebbiolo1Linux (Ubuntu 20.04.4 LTS) / x86_64  OK    OK    OK  UNNEEDED, same version is already published
riesling1Windows Server 2019 Standard / x64  OK    OK    OK    NA  
palomino3Windows Server 2022 Datacenter / x64  OK    OK    OK    OK  NO, package depends on 'GSEABase' which is not available
merida1macOS 10.14.6 Mojave / x86_64  OK    OK    OK    OK  UNNEEDED, same version is already published
Package 16/39HostnameOS / ArchINSTALLBUILDCHECKBUILD BIN
GISPA 1.19.0  (landing page)
Bhakti Dwivedi
git_last_commit: 8469521
git_last_commit_date: 2021-10-26 12:33:37 -0500
nebbiolo1Linux (Ubuntu 20.04.4 LTS) / x86_64  OK    OK    OK  UNNEEDED, same version is already published
riesling1Windows Server 2019 Standard / x64  OK    OK    OK    NA  
palomino3Windows Server 2022 Datacenter / x64  OK    OK    OK    OK  NO, package depends on 'Biobase' which is not available
merida1macOS 10.14.6 Mojave / x86_64  OK    OK    OK    OK  UNNEEDED, same version is already published
Package 17/39HostnameOS / ArchINSTALLBUILDCHECKBUILD BIN
GlobalAncova 4.13.0  (landing page)
Manuela Hummel
git_last_commit: 5ed28f4
git_last_commit_date: 2021-10-26 11:48:41 -0500
nebbiolo1Linux (Ubuntu 20.04.4 LTS) / x86_64  OK    OK    OK  UNNEEDED, same version is already published
riesling1Windows Server 2019 Standard / x64  OK    OK    OK    NA  
palomino3Windows Server 2022 Datacenter / x64  OK    OK    OK    OK  NO, package depends on 'globaltest' which is not available
merida1macOS 10.14.6 Mojave / x86_64  OK    OK    OK    OK  UNNEEDED, same version is already published
Package 18/39HostnameOS / ArchINSTALLBUILDCHECKBUILD BIN
GmicR 1.9.0  (landing page)
Richard Virgen-Slane
git_last_commit: 9099ed0
git_last_commit_date: 2021-10-26 12:54:44 -0500
nebbiolo1Linux (Ubuntu 20.04.4 LTS) / x86_64  OK    OK    WARNINGS  UNNEEDED, same version is already published
riesling1Windows Server 2019 Standard / x64  OK    OK    WARNINGS    NA  
palomino3Windows Server 2022 Datacenter / x64  OK    OK    WARNINGS    OK  NO, package depends on 'AnnotationDbi' which is not available
merida1macOS 10.14.6 Mojave / x86_64  OK    OK    WARNINGS    OK  UNNEEDED, same version is already published
Package 19/39HostnameOS / ArchINSTALLBUILDCHECKBUILD BIN
GSRI 2.43.0  (landing page)
Julian Gehring
git_last_commit: 2ef1722
git_last_commit_date: 2021-10-26 11:56:08 -0500
nebbiolo1Linux (Ubuntu 20.04.4 LTS) / x86_64  OK    OK    OK  UNNEEDED, same version is already published
riesling1Windows Server 2019 Standard / x64  OK    OK    OK    NA  
palomino3Windows Server 2022 Datacenter / x64  OK    OK    OK    OK  NO, package depends on 'genefilter' which is not available
merida1macOS 10.14.6 Mojave / x86_64  OK    OK    OK    OK  UNNEEDED, same version is already published
Package 20/39HostnameOS / ArchINSTALLBUILDCHECKBUILD BIN
GSVA 1.43.1  (landing page)
Justin Guinney
git_last_commit: a2757e1
git_last_commit_date: 2021-11-19 06:39:28 -0500
nebbiolo1Linux (Ubuntu 20.04.4 LTS) / x86_64  OK    OK    OK  UNNEEDED, same version is already published
riesling1Windows Server 2019 Standard / x64  OK    OK    OK    NA  
palomino3Windows Server 2022 Datacenter / x64  OK    OK    OK    OK  NO, package depends on 'S4Vectors' which is not available
merida1macOS 10.14.6 Mojave / x86_64  OK    OK    OK    OK  UNNEEDED, same version is already published
Package 21/39HostnameOS / ArchINSTALLBUILDCHECKBUILD BIN
MIGSA 1.19.0  (landing page)
Juan C. Rodriguez
git_last_commit: 505d14d
git_last_commit_date: 2021-10-26 12:33:30 -0500
nebbiolo1Linux (Ubuntu 20.04.4 LTS) / x86_64  OK    OK    OK  UNNEEDED, same version is already published
riesling1Windows Server 2019 Standard / x64  OK    OK    OK    NA  
palomino3Windows Server 2022 Datacenter / x64  OK    OK    OK    OK  NO, package depends on 'BiocGenerics' which is not available
merida1macOS 10.14.6 Mojave / x86_64  OK    OK    OK    OK  UNNEEDED, same version is already published
Package 22/39HostnameOS / ArchINSTALLBUILDCHECKBUILD BIN
miRSM 1.13.2  (landing page)
Junpeng Zhang
git_last_commit: 3a7d80d
git_last_commit_date: 2021-12-16 16:49:32 -0500
nebbiolo1Linux (Ubuntu 20.04.4 LTS) / x86_64  OK    OK    OK  UNNEEDED, same version is already published
riesling1Windows Server 2019 Standard / x64  OK    OK    OK    NA  
palomino3Windows Server 2022 Datacenter / x64  OK    OK    OK    OK  NO, package depends on 'fabia' which is not available
merida1macOS 10.14.6 Mojave / x86_64  OK    OK    OK    OK  NO, package depends on 'miRspongeR' which is not available
Package 23/39HostnameOS / ArchINSTALLBUILDCHECKBUILD BIN
mogsa 1.29.0  (landing page)
Chen Meng
git_last_commit: 31b6f9b
git_last_commit_date: 2021-10-26 12:19:51 -0500
nebbiolo1Linux (Ubuntu 20.04.4 LTS) / x86_64  OK    OK    OK  UNNEEDED, same version is already published
riesling1Windows Server 2019 Standard / x64  OK    OK    OK    NA  
palomino3Windows Server 2022 Datacenter / x64  OK    OK    OK    OK  NO, package depends on 'graphite' which is not available
merida1macOS 10.14.6 Mojave / x86_64  OK    OK    OK    OK  UNNEEDED, same version is already published
Package 24/39HostnameOS / ArchINSTALLBUILDCHECKBUILD BIN
npGSEA 1.31.0  (landing page)
Jessica Larson
git_last_commit: 7b1c409
git_last_commit_date: 2021-10-26 12:13:12 -0500
nebbiolo1Linux (Ubuntu 20.04.4 LTS) / x86_64  OK    OK    OK  UNNEEDED, same version is already published
riesling1Windows Server 2019 Standard / x64  OK    OK    OK    NA  
palomino3Windows Server 2022 Datacenter / x64  OK    OK    OK    OK  NO, package depends on 'GSEABase' which is not available
merida1macOS 10.14.6 Mojave / x86_64  OK    OK    OK    OK  UNNEEDED, same version is already published
Package 25/39HostnameOS / ArchINSTALLBUILDCHECKBUILD BIN
oppar 1.23.0  (landing page)
Soroor Hediyeh zadeh
git_last_commit: 12911ac
git_last_commit_date: 2021-10-26 12:27:11 -0500
nebbiolo1Linux (Ubuntu 20.04.4 LTS) / x86_64  OK    OK    WARNINGS  UNNEEDED, same version is already published
riesling1Windows Server 2019 Standard / x64  OK    OK    WARNINGS    NA  
palomino3Windows Server 2022 Datacenter / x64  OK    OK    WARNINGS    OK  NO, package depends on 'Biobase' which is not available
merida1macOS 10.14.6 Mojave / x86_64  OK    OK    WARNINGS    OK  UNNEEDED, same version is already published
Package 26/39HostnameOS / ArchINSTALLBUILDCHECKBUILD BIN
phenoTest 1.43.0  (landing page)
Evarist Planet
git_last_commit: 14b12b9
git_last_commit_date: 2021-10-26 11:57:57 -0500
nebbiolo1Linux (Ubuntu 20.04.4 LTS) / x86_64  OK    OK    WARNINGS  UNNEEDED, same version is already published
riesling1Windows Server 2019 Standard / x64  OK    OK    WARNINGS    NA  
palomino3Windows Server 2022 Datacenter / x64  OK    OK    WARNINGS    OK  NO, package depends on 'Biobase' which is not available
merida1macOS 10.14.6 Mojave / x86_64  OK    OK    WARNINGS    OK  UNNEEDED, same version is already published
Package 27/39HostnameOS / ArchINSTALLBUILDCHECKBUILD BIN
PROMISE 1.47.0  (landing page)
Stan Pounds , Xueyuan Cao
git_last_commit: 6cf62bb
git_last_commit_date: 2021-10-26 11:56:02 -0500
nebbiolo1Linux (Ubuntu 20.04.4 LTS) / x86_64  OK    OK    OK  UNNEEDED, same version is already published
riesling1Windows Server 2019 Standard / x64  OK    OK    OK    NA  
palomino3Windows Server 2022 Datacenter / x64  OK    OK    OK    OK  NO, package depends on 'Biobase' which is not available
merida1macOS 10.14.6 Mojave / x86_64  OK    OK    OK    OK  UNNEEDED, same version is already published
Package 28/39HostnameOS / ArchINSTALLBUILDCHECKBUILD BIN
RcisTarget 1.15.0  (landing page)
Sara Aibar
git_last_commit: 7e6d11d
git_last_commit_date: 2021-10-26 12:41:12 -0500
nebbiolo1Linux (Ubuntu 20.04.4 LTS) / x86_64  OK    OK    WARNINGS  UNNEEDED, same version is already published
riesling1Windows Server 2019 Standard / x64  OK    OK    WARNINGS    NA  
palomino3Windows Server 2022 Datacenter / x64  OK    OK    WARNINGS    OK  NO, package depends on 'AUCell' which is not available
merida1macOS 10.14.6 Mojave / x86_64  OK    OK    WARNINGS    OK  UNNEEDED, same version is already published
Package 29/39HostnameOS / ArchINSTALLBUILDCHECKBUILD BIN
ReportingTools 2.35.0  (landing page)
Jason A. Hackney , Gabriel Becker
git_last_commit: d3a5ca7
git_last_commit_date: 2021-10-26 12:04:45 -0500
nebbiolo1Linux (Ubuntu 20.04.4 LTS) / x86_64  OK    OK    OK  UNNEEDED, same version is already published
riesling1Windows Server 2019 Standard / x64  OK    OK    OK    NA  
palomino3Windows Server 2022 Datacenter / x64  OK    OK    OK    OK  NO, package depends on 'Biobase' which is not available
merida1macOS 10.14.6 Mojave / x86_64  OK    OK    OK    OK  UNNEEDED, same version is already published
Package 30/39HostnameOS / ArchINSTALLBUILDCHECKBUILD BIN
scTGIF 1.9.0  (landing page)
Koki Tsuyuzaki
git_last_commit: 3f1c0d8
git_last_commit_date: 2021-10-26 12:55:54 -0500
nebbiolo1Linux (Ubuntu 20.04.4 LTS) / x86_64  OK    OK    OK  UNNEEDED, same version is already published
riesling1Windows Server 2019 Standard / x64  OK    OK    OK    NA  
palomino3Windows Server 2022 Datacenter / x64  OK    OK    OK    OK  NO, package depends on 'GSEABase' which is not available
merida1macOS 10.14.6 Mojave / x86_64  OK    ERROR  skippedskipped
Package 31/39HostnameOS / ArchINSTALLBUILDCHECKBUILD BIN
signatureSearch 1.9.5  (landing page)
Brendan Gongol
git_last_commit: 6833e72
git_last_commit_date: 2022-01-25 03:10:53 -0500
nebbiolo1Linux (Ubuntu 20.04.4 LTS) / x86_64  OK    OK    WARNINGS  UNNEEDED, same version is already published
riesling1Windows Server 2019 Standard / x64  OK    OK    WARNINGS    NA  
palomino3Windows Server 2022 Datacenter / x64  OK    OK    WARNINGS    OK  NO, package depends on 'SummarizedExperiment' which is not available
merida1macOS 10.14.6 Mojave / x86_64  OK    OK    WARNINGS    OK  NO, package depends on 'fgsea' which is not available
Package 32/39HostnameOS / ArchINSTALLBUILDCHECKBUILD BIN
singleCellTK 2.5.1  (landing page)
Yichen Wang
git_last_commit: cdbe999
git_last_commit_date: 2021-11-21 00:55:04 -0500
nebbiolo1Linux (Ubuntu 20.04.4 LTS) / x86_64  OK    OK    ERROR  
riesling1Windows Server 2019 Standard / x64  OK    OK    ERROR    NA  
palomino3Windows Server 2022 Datacenter / x64  OK    OK    ERROR    OK  
merida1macOS 10.14.6 Mojave / x86_64  OK    OK    ERROR    OK  
Package 33/39HostnameOS / ArchINSTALLBUILDCHECKBUILD BIN
singscore 1.15.1  (landing page)
Dharmesh D. Bhuva
git_last_commit: 623225a
git_last_commit_date: 2021-11-21 00:55:16 -0500
nebbiolo1Linux (Ubuntu 20.04.4 LTS) / x86_64  OK    OK    OK  UNNEEDED, same version is already published
riesling1Windows Server 2019 Standard / x64  OK    OK    OK    NA  
palomino3Windows Server 2022 Datacenter / x64  OK    OK    OK    OK  NO, package depends on 'GSEABase' which is not available
merida1macOS 10.14.6 Mojave / x86_64  OK    OK    OK    OK  UNNEEDED, same version is already published
Package 34/39HostnameOS / ArchINSTALLBUILDCHECKBUILD BIN
slalom 1.17.1  (landing page)
Davis McCarthy
git_last_commit: 2a915ba
git_last_commit_date: 2021-11-21 00:55:27 -0500
nebbiolo1Linux (Ubuntu 20.04.4 LTS) / x86_64  OK    OK    OK  UNNEEDED, same version is already published
riesling1Windows Server 2019 Standard / x64  OK    OK    OK    NA  
palomino3Windows Server 2022 Datacenter / x64  OK    OK    OK    OK  NO, package depends on 'GSEABase' which is not available
merida1macOS 10.14.6 Mojave / x86_64  OK    OK    WARNINGS    OK  UNNEEDED, same version is already published
Package 35/39HostnameOS / ArchINSTALLBUILDCHECKBUILD BIN
sparrow 1.1.3  (landing page)
Steve Lianoglou
git_last_commit: 92bc3fc
git_last_commit_date: 2021-12-06 20:39:52 -0500
nebbiolo1Linux (Ubuntu 20.04.4 LTS) / x86_64  OK    OK    ERROR  
riesling1Windows Server 2019 Standard / x64  OK    OK    ERROR    NA  
palomino3Windows Server 2022 Datacenter / x64  OK    OK    ERROR    OK  
merida1macOS 10.14.6 Mojave / x86_64  OK    OK    ERROR    OK  
Package 36/39HostnameOS / ArchINSTALLBUILDCHECKBUILD BIN
splineTimeR 1.23.0  (landing page)
Herbert Braselmann , Martin Selmansberger
git_last_commit: a025a07
git_last_commit_date: 2021-10-26 12:24:25 -0500
nebbiolo1Linux (Ubuntu 20.04.4 LTS) / x86_64  OK    OK    OK  UNNEEDED, same version is already published
riesling1Windows Server 2019 Standard / x64  OK    OK    OK    NA  
palomino3Windows Server 2022 Datacenter / x64  OK    OK    OK    OK  NO, package depends on 'Biobase' which is not available
merida1macOS 10.14.6 Mojave / x86_64  OK    OK    OK    OK  UNNEEDED, same version is already published
Package 37/39HostnameOS / ArchINSTALLBUILDCHECKBUILD BIN
TFutils 1.15.1  (landing page)
Vincent Carey
git_last_commit: 6dccfdd
git_last_commit_date: 2021-11-21 01:00:28 -0500
nebbiolo1Linux (Ubuntu 20.04.4 LTS) / x86_64  OK    OK    OK  UNNEEDED, same version is already published
riesling1Windows Server 2019 Standard / x64  OK    OK    OK    NA  
palomino3Windows Server 2022 Datacenter / x64  OK    OK    OK    OK  NO, package depends on 'Rsamtools' which is not available
merida1macOS 10.14.6 Mojave / x86_64  OK    OK    OK    OK  UNNEEDED, same version is already published
Package 38/39HostnameOS / ArchINSTALLBUILDCHECKBUILD BIN
TissueEnrich 1.15.0  (landing page)
Ashish Jain
git_last_commit: c66eb71
git_last_commit_date: 2021-10-26 12:43:11 -0500
nebbiolo1Linux (Ubuntu 20.04.4 LTS) / x86_64  OK    OK    OK  UNNEEDED, same version is already published
riesling1Windows Server 2019 Standard / x64  OK    OK    OK    NA  
palomino3Windows Server 2022 Datacenter / x64  OK    OK    OK    OK  NO, package depends on 'SummarizedExperiment' which is not available
merida1macOS 10.14.6 Mojave / x86_64  OK    OK    OK    OK  UNNEEDED, same version is already published
Package 39/39HostnameOS / ArchINSTALLBUILDCHECKBUILD BIN
vissE 1.3.2  (landing page)
Dharmesh D. Bhuva
git_last_commit: cfa3b93
git_last_commit_date: 2021-10-27 22:23:25 -0500
nebbiolo1Linux (Ubuntu 20.04.4 LTS) / x86_64  OK    OK    OK  UNNEEDED, same version is already published
riesling1Windows Server 2019 Standard / x64  OK    OK    OK    NA  
palomino3Windows Server 2022 Datacenter / x64  OK    ERROR  skippedskipped
merida1macOS 10.14.6 Mojave / x86_64  OK    OK    OK    OK  UNNEEDED, same version is already published