Back to Multiple platform build/check report for BioC 3.15
ABCDEFGHIJKLMNO[P]QRSTUVWXYZ

This page was generated on 2022-01-22 11:05:01 -0500 (Sat, 22 Jan 2022).

HostnameOSArch (*)R versionInstalled pkgs
nebbiolo1Linux (Ubuntu 20.04.4 LTS)x86_64R Under development (unstable) (2022-01-05 r81451) -- "Unsuffered Consequences" 4163
riesling1Windows Server 2019 Standardx64R Under development (unstable) (2021-11-21 r81221) -- "Unsuffered Consequences" 4058
palomino3Windows Server 2022 Datacenterx64R Under development (unstable) (2021-12-21 r81400 ucrt) -- "Unsuffered Consequences" 4000
merida1macOS 10.14.6 Mojavex86_64R Under development (unstable) (2022-01-05 r81451) -- "Unsuffered Consequences" 4117
Click on any hostname to see more info about the system (e.g. compilers)      (*) as reported by 'uname -p', except on Windows and Mac OS X

All results for package phyloseq


To the developers/maintainers of the phyloseq package:
- Please allow up to 24 hours (and sometimes 48 hours) for your latest push to git@git.bioconductor.org:packages/phyloseq.git to
reflect on this report. See How and When does the builder pull? When will my changes propagate? here for more information.
- Make sure to use the following settings in order to reproduce any error or warning you see on this page.

raw results

Package 1410/2075HostnameOS / ArchINSTALLBUILDCHECKBUILD BIN
phyloseq 1.39.1  (landing page)
Paul J. McMurdie
Snapshot Date: 2022-01-21 13:55:18 -0500 (Fri, 21 Jan 2022)
git_url: https://git.bioconductor.org/packages/phyloseq
git_branch: master
git_last_commit: 9b211d9
git_last_commit_date: 2021-11-29 12:47:23 -0500 (Mon, 29 Nov 2021)
nebbiolo1Linux (Ubuntu 20.04.4 LTS) / x86_64  OK    OK    OK  UNNEEDED, same version is already published
riesling1Windows Server 2019 Standard / x64  OK    OK    NA    NA  
palomino3Windows Server 2022 Datacenter / x64  OK    OK    OK    OK  NO, package depends on 'Biobase' which is not available
merida1macOS 10.14.6 Mojave / x86_64  OK    OK    OK    OK  UNNEEDED, same version is already published

Results for Bioconductor software packages that depend directly on package phyloseq

QUICK STATSOS / ArchINSTALLBUILDCHECKBUILD BIN
nebbiolo1Linux (Ubuntu 20.04.4 LTS) / x86_64
0014
0014
00014
riesling1Windows Server 2019 Standard / x64
0014
0014
0000
000
palomino3Windows Server 2022 Datacenter / x64
0014
0014
00014
0014
merida1macOS 10.14.6 Mojave / x86_64
0014
0014
00014
0014
Package 1/14HostnameOS / ArchINSTALLBUILDCHECKBUILD BIN
ANCOMBC 1.5.0  (landing page)
Huang Lin
git_last_commit: cc1f68d
git_last_commit_date: 2021-10-26 13:02:30 -0500
nebbiolo1Linux (Ubuntu 20.04.4 LTS) / x86_64  OK    OK    OK  UNNEEDED, same version is already published
riesling1Windows Server 2019 Standard / x64  OK    OK    NA    NA  
palomino3Windows Server 2022 Datacenter / x64  OK    OK    OK    OK  NO, package depends on 'phyloseq' which is not available
merida1macOS 10.14.6 Mojave / x86_64  OK    OK    OK    OK  UNNEEDED, same version is already published
Package 2/14HostnameOS / ArchINSTALLBUILDCHECKBUILD BIN
benchdamic 1.1.0  (landing page)
Matteo Calgaro
git_last_commit: 7854ed4
git_last_commit_date: 2021-10-26 13:13:35 -0500
nebbiolo1Linux (Ubuntu 20.04.4 LTS) / x86_64  OK    OK    OK  UNNEEDED, same version is already published
riesling1Windows Server 2019 Standard / x64  OK    OK    NA    NA  
palomino3Windows Server 2022 Datacenter / x64  OK    OK    OK    OK  NO, package depends on 'phyloseq' which is not available
merida1macOS 10.14.6 Mojave / x86_64  OK    OK    OK    OK  UNNEEDED, same version is already published
Package 3/14HostnameOS / ArchINSTALLBUILDCHECKBUILD BIN
combi 1.7.2  (landing page)
Stijn Hawinkel
git_last_commit: f95882a
git_last_commit_date: 2021-11-30 05:34:14 -0500
nebbiolo1Linux (Ubuntu 20.04.4 LTS) / x86_64  OK    OK    OK  UNNEEDED, same version is already published
riesling1Windows Server 2019 Standard / x64  OK    OK    NA    NA  
palomino3Windows Server 2022 Datacenter / x64  OK    OK    OK    OK  NO, package depends on 'phyloseq' which is not available
merida1macOS 10.14.6 Mojave / x86_64  OK    OK    OK    OK  UNNEEDED, same version is already published
Package 4/14HostnameOS / ArchINSTALLBUILDCHECKBUILD BIN
metavizr 1.19.0  (landing page)
Hector Corrada Bravo
git_last_commit: c7dc3bd
git_last_commit_date: 2021-10-26 12:34:56 -0500
nebbiolo1Linux (Ubuntu 20.04.4 LTS) / x86_64  OK    OK    OK  UNNEEDED, same version is already published
riesling1Windows Server 2019 Standard / x64  OK    OK    NA    NA  
palomino3Windows Server 2022 Datacenter / x64  OK    OK    OK    OK  NO, package depends on 'metagenomeSeq' which is not available
merida1macOS 10.14.6 Mojave / x86_64  OK    OK    OK    OK  UNNEEDED, same version is already published
Package 5/14HostnameOS / ArchINSTALLBUILDCHECKBUILD BIN
microbiome 1.17.1  (landing page)
Leo Lahti
git_last_commit: dcbc499
git_last_commit_date: 2022-01-11 10:45:26 -0500
nebbiolo1Linux (Ubuntu 20.04.4 LTS) / x86_64  OK    OK    OK  UNNEEDED, same version is already published
riesling1Windows Server 2019 Standard / x64  OK    OK    NA    NA  
palomino3Windows Server 2022 Datacenter / x64  OK    OK    OK    OK  NO, package depends on 'phyloseq' which is not available
merida1macOS 10.14.6 Mojave / x86_64  OK    OK    OK    OK  UNNEEDED, same version is already published
Package 6/14HostnameOS / ArchINSTALLBUILDCHECKBUILD BIN
microbiomeDASim 1.9.0  (landing page)
Justin Williams
git_last_commit: 02cc02e
git_last_commit_date: 2021-10-26 12:54:01 -0500
nebbiolo1Linux (Ubuntu 20.04.4 LTS) / x86_64  OK    OK    OK  UNNEEDED, same version is already published
riesling1Windows Server 2019 Standard / x64  OK    OK    NA    NA  
palomino3Windows Server 2022 Datacenter / x64  OK    OK    OK    OK  NO, package depends on 'phyloseq' which is not available
merida1macOS 10.14.6 Mojave / x86_64  OK    OK    OK    OK  UNNEEDED, same version is already published
Package 7/14HostnameOS / ArchINSTALLBUILDCHECKBUILD BIN
microbiomeMarker 1.1.1  (landing page)
Yang Cao
git_last_commit: 9f55d08
git_last_commit_date: 2021-11-07 23:51:54 -0500
nebbiolo1Linux (Ubuntu 20.04.4 LTS) / x86_64  OK    OK    OK  UNNEEDED, same version is already published
riesling1Windows Server 2019 Standard / x64  OK    OK    NA    NA  
palomino3Windows Server 2022 Datacenter / x64  OK    OK    OK    OK  NO, package depends on 'phyloseq' which is not available
merida1macOS 10.14.6 Mojave / x86_64  OK    OK    OK    OK  UNNEEDED, same version is already published
Package 8/14HostnameOS / ArchINSTALLBUILDCHECKBUILD BIN
PathoStat 1.21.0  (landing page)
Solaiappan Manimaran
git_last_commit: f8d3cce
git_last_commit_date: 2021-10-26 12:30:40 -0500
nebbiolo1Linux (Ubuntu 20.04.4 LTS) / x86_64  OK    OK    OK  UNNEEDED, same version is already published
riesling1Windows Server 2019 Standard / x64  OK    OK    NA    NA  
palomino3Windows Server 2022 Datacenter / x64  OK    OK    OK    OK  NO, package depends on 'phyloseq' which is not available
merida1macOS 10.14.6 Mojave / x86_64  OK    OK    OK    OK  UNNEEDED, same version is already published
Package 9/14HostnameOS / ArchINSTALLBUILDCHECKBUILD BIN
PERFect 1.9.0  (landing page)
Quy Cao
git_last_commit: dde35d1
git_last_commit_date: 2021-10-26 12:54:58 -0500
nebbiolo1Linux (Ubuntu 20.04.4 LTS) / x86_64  OK    OK    OK  UNNEEDED, same version is already published
riesling1Windows Server 2019 Standard / x64  OK    OK    NA    NA  
palomino3Windows Server 2022 Datacenter / x64  OK    OK    OK    OK  NO, package depends on 'phyloseq' which is not available
merida1macOS 10.14.6 Mojave / x86_64  OK    OK    OK    OK  UNNEEDED, same version is already published
Package 10/14HostnameOS / ArchINSTALLBUILDCHECKBUILD BIN
RCM 1.11.1  (landing page)
Stijn Hawinkel
git_last_commit: fb5a52e
git_last_commit_date: 2021-11-26 03:22:15 -0500
nebbiolo1Linux (Ubuntu 20.04.4 LTS) / x86_64  OK    OK    OK  UNNEEDED, same version is already published
riesling1Windows Server 2019 Standard / x64  OK    OK    NA    NA  
palomino3Windows Server 2022 Datacenter / x64  OK    OK    OK    OK  NO, package depends on 'phyloseq' which is not available
merida1macOS 10.14.6 Mojave / x86_64  OK    OK    OK    OK  UNNEEDED, same version is already published
Package 11/14HostnameOS / ArchINSTALLBUILDCHECKBUILD BIN
reconsi 1.7.0  (landing page)
Stijn Hawinkel
git_last_commit: d7facf9
git_last_commit_date: 2021-11-29 04:51:41 -0500
nebbiolo1Linux (Ubuntu 20.04.4 LTS) / x86_64  OK    OK    OK  UNNEEDED, same version is already published
riesling1Windows Server 2019 Standard / x64  OK    OK    NA    NA  
palomino3Windows Server 2022 Datacenter / x64  OK    OK    OK    OK  NO, package depends on 'phyloseq' which is not available
merida1macOS 10.14.6 Mojave / x86_64  OK    OK    OK    OK  UNNEEDED, same version is already published
Package 12/14HostnameOS / ArchINSTALLBUILDCHECKBUILD BIN
RPA 1.51.0  (landing page)
Leo Lahti
git_last_commit: 861f04f
git_last_commit_date: 2021-10-26 11:54:13 -0500
nebbiolo1Linux (Ubuntu 20.04.4 LTS) / x86_64  OK    OK    OK  UNNEEDED, same version is already published
riesling1Windows Server 2019 Standard / x64  OK    OK    NA    NA  
palomino3Windows Server 2022 Datacenter / x64  OK    OK    OK    OK  NO, package depends on 'affy' which is not available
merida1macOS 10.14.6 Mojave / x86_64  OK    OK    OK    OK  UNNEEDED, same version is already published
Package 13/14HostnameOS / ArchINSTALLBUILDCHECKBUILD BIN
SIAMCAT 1.15.0  (landing page)
Jakob Wirbel
git_last_commit: 3f5f13f
git_last_commit_date: 2021-10-26 12:44:50 -0500
nebbiolo1Linux (Ubuntu 20.04.4 LTS) / x86_64  OK    OK    OK  UNNEEDED, same version is already published
riesling1Windows Server 2019 Standard / x64  OK    OK    NA    NA  
palomino3Windows Server 2022 Datacenter / x64  OK    OK    OK    OK  NO, package depends on 'phyloseq' which is not available
merida1macOS 10.14.6 Mojave / x86_64  OK    OK    OK    OK  UNNEEDED, same version is already published
Package 14/14HostnameOS / ArchINSTALLBUILDCHECKBUILD BIN
SPsimSeq 1.5.1  (landing page)
Joris Meys
git_last_commit: 04643b2
git_last_commit_date: 2021-11-21 00:57:28 -0500
nebbiolo1Linux (Ubuntu 20.04.4 LTS) / x86_64  OK    OK    OK  UNNEEDED, same version is already published
riesling1Windows Server 2019 Standard / x64  OK    OK    NA    NA  
palomino3Windows Server 2022 Datacenter / x64  OK    OK    OK    OK  NO, package depends on 'SingleCellExperiment' which is not available
merida1macOS 10.14.6 Mojave / x86_64  OK    OK    OK    OK  UNNEEDED, same version is already published