Back to Multiple platform build/check report for BioC 3.17:   simplified   long
ABCDEFGH[I]JKLMNOPQRSTUVWXYZ

This page was generated on 2023-03-31 11:02:22 -0400 (Fri, 31 Mar 2023).

HostnameOSArch (*)R versionInstalled pkgs
nebbiolo1Linux (Ubuntu 22.04.1 LTS)x86_64R Under development (unstable) (2023-03-16 r83996) -- "Unsuffered Consequences" 4547
palomino3Windows Server 2022 Datacenterx64R Under development (unstable) (2023-03-15 r83984 ucrt) -- "Unsuffered Consequences" 4308
Click on any hostname to see more info about the system (e.g. compilers)      (*) as reported by 'uname -p', except on Windows and Mac OS X

All results for package InteractionSet


To the developers/maintainers of the InteractionSet package:
- Allow up to 24 hours (and sometimes 48 hours) for your latest push to git@git.bioconductor.org:packages/InteractionSet.git to reflect on this report. See Troubleshooting Build Report for more information.

- Use the following Renviron settings to reproduce errors and warnings.

Note: If "R CMD check" recently failed on the Linux builder over a missing dependency, add the missing dependency to "Suggests" in your DESCRIPTION file. See the Renviron.bioc for details.

raw results

Package 991/2195HostnameOS / ArchINSTALLBUILDCHECKBUILD BIN
InteractionSet 1.27.0  (landing page)
Aaron Lun
Snapshot Date: 2023-03-30 14:00:16 -0400 (Thu, 30 Mar 2023)
git_url: https://git.bioconductor.org/packages/InteractionSet
git_branch: devel
git_last_commit: 06a9ff0
git_last_commit_date: 2022-11-01 11:13:35 -0400 (Tue, 01 Nov 2022)
nebbiolo1Linux (Ubuntu 22.04.1 LTS) / x86_64  OK    OK    WARNINGS  UNNEEDED, same version is already published
palomino3Windows Server 2022 Datacenter / x64  OK    OK    WARNINGS    OK  UNNEEDED, same version is already published

Results for Bioconductor software packages that depend directly on package InteractionSet

QUICK STATSOS / ArchINSTALLBUILDCHECKBUILD BIN
nebbiolo1Linux (Ubuntu 22.04.1 LTS) / x86_64
0014
0212
0129
palomino3Windows Server 2022 Datacenter / x64
0212
0311
0227
0011
Package 1/14HostnameOS / ArchINSTALLBUILDCHECKBUILD BIN
CAGEfightR 1.19.0  (landing page)
Malte Thodberg
git_last_commit: 8b947db
git_last_commit_date: 2022-11-01 11:17:49 -0400
nebbiolo1Linux (Ubuntu 22.04.1 LTS) / x86_64  OK    OK    OK  UNNEEDED, same version is already published
palomino3Windows Server 2022 Datacenter / x64  OK    OK    OK    OK  UNNEEDED, same version is already published
Package 2/14HostnameOS / ArchINSTALLBUILDCHECKBUILD BIN
ChIPpeakAnno 3.33.2  (landing page)
Jianhong Ou
git_last_commit: 88d5ada
git_last_commit_date: 2023-03-14 15:02:32 -0400
nebbiolo1Linux (Ubuntu 22.04.1 LTS) / x86_64  OK    OK    OK  UNNEEDED, same version is already published
palomino3Windows Server 2022 Datacenter / x64  OK    OK    OK    OK  UNNEEDED, same version is already published
Package 3/14HostnameOS / ArchINSTALLBUILDCHECKBUILD BIN
diffHic 1.31.0  (landing page)
Aaron Lun
git_last_commit: d0d608e
git_last_commit_date: 2022-11-01 11:11:37 -0400
nebbiolo1Linux (Ubuntu 22.04.1 LTS) / x86_64  OK    OK    WARNINGS  UNNEEDED, same version is already published
palomino3Windows Server 2022 Datacenter / x64  OK    OK    WARNINGS    OK  UNNEEDED, same version is already published
Package 4/14HostnameOS / ArchINSTALLBUILDCHECKBUILD BIN
extraChIPs 1.3.8  (landing page)
Stephen Pederson
git_last_commit: c71e337
git_last_commit_date: 2023-03-25 11:38:23 -0400
nebbiolo1Linux (Ubuntu 22.04.1 LTS) / x86_64  OK    OK    OK  UNNEEDED, same version is already published
palomino3Windows Server 2022 Datacenter / x64  ERROR    OK    ERROR    OK  
Package 5/14HostnameOS / ArchINSTALLBUILDCHECKBUILD BIN
GenomicInteractions 1.33.0  (landing page)
Liz Ing-Simmons
git_last_commit: 9a34ccf
git_last_commit_date: 2022-11-01 11:10:21 -0400
nebbiolo1Linux (Ubuntu 22.04.1 LTS) / x86_64  OK    OK    OK  UNNEEDED, same version is already published
palomino3Windows Server 2022 Datacenter / x64  OK    OK    OK    OK  UNNEEDED, same version is already published
Package 6/14HostnameOS / ArchINSTALLBUILDCHECKBUILD BIN
HiCcompare 1.21.0  (landing page)
John Stansfield , Mikhail Dozmorov
git_last_commit: e251280
git_last_commit_date: 2022-11-01 11:16:02 -0400
nebbiolo1Linux (Ubuntu 22.04.1 LTS) / x86_64  OK    OK    WARNINGS  UNNEEDED, same version is already published
palomino3Windows Server 2022 Datacenter / x64  OK    OK    WARNINGS    OK  UNNEEDED, same version is already published
Package 7/14HostnameOS / ArchINSTALLBUILDCHECKBUILD BIN
HiCDCPlus 1.7.0  (landing page)
Merve Sahin
git_last_commit: 2610977
git_last_commit_date: 2022-11-01 11:24:01 -0400
nebbiolo1Linux (Ubuntu 22.04.1 LTS) / x86_64  OK    OK    OK  UNNEEDED, same version is already published
palomino3Windows Server 2022 Datacenter / x64  OK    OK    OK    OK  UNNEEDED, same version is already published
Package 8/14HostnameOS / ArchINSTALLBUILDCHECKBUILD BIN
HiCDOC 1.1.1  (landing page)
Maign√© √Člise
git_last_commit: 317e301
git_last_commit_date: 2022-11-30 10:33:16 -0400
nebbiolo1Linux (Ubuntu 22.04.1 LTS) / x86_64  OK    OK    OK  UNNEEDED, same version is already published
palomino3Windows Server 2022 Datacenter / x64  OK    OK    ERROR    OK  
Package 9/14HostnameOS / ArchINSTALLBUILDCHECKBUILD BIN
HiCExperiment 0.99.11  (landing page)
Jacques Serizay
git_last_commit: b4055e8
git_last_commit_date: 2023-03-09 04:04:35 -0400
nebbiolo1Linux (Ubuntu 22.04.1 LTS) / x86_64  OK    ERROR  skipped
palomino3Windows Server 2022 Datacenter / x64  OK    ERROR  skippedskipped
Package 10/14HostnameOS / ArchINSTALLBUILDCHECKBUILD BIN
HiContacts 1.1.3  (landing page)
Jacques Serizay
git_last_commit: 625f84d
git_last_commit_date: 2023-03-22 12:03:15 -0400
nebbiolo1Linux (Ubuntu 22.04.1 LTS) / x86_64  OK    OK    OK  UNNEEDED, same version is already published
palomino3Windows Server 2022 Datacenter / x64  OK    OK    OK    OK  UNNEEDED, same version is already published
Package 11/14HostnameOS / ArchINSTALLBUILDCHECKBUILD BIN
HiCool 0.99.4  (landing page)
Jacques Serizay
git_last_commit: b492acd
git_last_commit_date: 2023-02-16 06:46:56 -0400
nebbiolo1Linux (Ubuntu 22.04.1 LTS) / x86_64  OK    OK    ERROR  
palomino3Windows Server 2022 Datacenter / x64  OK    ERROR  skippedskipped
Package 12/14HostnameOS / ArchINSTALLBUILDCHECKBUILD BIN
nullranges 1.5.18  (landing page)
Michael Love
git_last_commit: 47e426d
git_last_commit_date: 2023-03-22 08:17:41 -0400
nebbiolo1Linux (Ubuntu 22.04.1 LTS) / x86_64  OK    ERROR  skipped
palomino3Windows Server 2022 Datacenter / x64  OK    OK    OK    OK  UNNEEDED, same version is already published
Package 13/14HostnameOS / ArchINSTALLBUILDCHECKBUILD BIN
sevenC 1.19.0  (landing page)
Jonas Ibn-Salem
git_last_commit: 702f39d
git_last_commit_date: 2022-11-01 11:17:44 -0400
nebbiolo1Linux (Ubuntu 22.04.1 LTS) / x86_64  OK    OK    OK  UNNEEDED, same version is already published
palomino3Windows Server 2022 Datacenter / x64  OK    OK    OK    OK  UNNEEDED, same version is already published
Package 14/14HostnameOS / ArchINSTALLBUILDCHECKBUILD BIN
trackViewer 1.35.5  (landing page)
Jianhong Ou
git_last_commit: 23902fd
git_last_commit_date: 2023-03-22 17:17:57 -0400
nebbiolo1Linux (Ubuntu 22.04.1 LTS) / x86_64  OK    OK    OK  UNNEEDED, same version is already published
palomino3Windows Server 2022 Datacenter / x64  ERROR    ERROR  skippedskipped