Back to Multiple platform build/check report for BioC 3.16
ABCDEFGHIJKLMNO[P]QRSTUVWXYZ

This page was generated on 2022-06-24 11:05:41 -0400 (Fri, 24 Jun 2022).

HostnameOSArch (*)R versionInstalled pkgs
nebbiolo2Linux (Ubuntu 20.04.4 LTS)x86_644.2.0 Patched (2022-06-02 r82447) -- "Vigorous Calisthenics" 4331
palomino4Windows Server 2022 Datacenterx644.2.0 Patched (2022-06-02 r82447 ucrt) -- "Vigorous Calisthenics" 4136
lconwaymacOS 12.2.1 Montereyx86_644.2.0 Patched (2022-05-29 r82424) -- "Vigorous Calisthenics" 4147
Click on any hostname to see more info about the system (e.g. compilers)      (*) as reported by 'uname -p', except on Windows and Mac OS X

CHECK results for projectR on nebbiolo2


To the developers/maintainers of the projectR package:
- Please allow up to 24 hours (and sometimes 48 hours) for your latest push to git@git.bioconductor.org:packages/projectR.git to
reflect on this report. See How and When does the builder pull? When will my changes propagate? for more information.
- Make sure to use the following settings in order to reproduce any error or warning you see on this page.

raw results

Package 1488/2118HostnameOS / ArchINSTALLBUILDCHECKBUILD BIN
projectR 1.13.0  (landing page)
Genevieve Stein-O'Brien
Snapshot Date: 2022-06-23 14:00:04 -0400 (Thu, 23 Jun 2022)
git_url: https://git.bioconductor.org/packages/projectR
git_branch: master
git_last_commit: 8f9dc56
git_last_commit_date: 2022-04-26 11:54:02 -0400 (Tue, 26 Apr 2022)
nebbiolo2Linux (Ubuntu 20.04.4 LTS) / x86_64  OK    OK    OK  UNNEEDED, same version is already published
palomino4Windows Server 2022 Datacenter / x64  OK    OK    OK    OK  UNNEEDED, same version is already published
lconwaymacOS 12.2.1 Monterey / x86_64  OK    ERROR  skippedskipped

Summary

Package: projectR
Version: 1.13.0
Command: /home/biocbuild/bbs-3.16-bioc/R/bin/R CMD check --install=check:projectR.install-out.txt --library=/home/biocbuild/bbs-3.16-bioc/R/library --no-vignettes --timings projectR_1.13.0.tar.gz
StartedAt: 2022-06-23 21:17:22 -0400 (Thu, 23 Jun 2022)
EndedAt: 2022-06-23 21:21:36 -0400 (Thu, 23 Jun 2022)
EllapsedTime: 254.2 seconds
RetCode: 0
Status:   OK  
CheckDir: projectR.Rcheck
Warnings: 0

Command output

##############################################################################
##############################################################################
###
### Running command:
###
###   /home/biocbuild/bbs-3.16-bioc/R/bin/R CMD check --install=check:projectR.install-out.txt --library=/home/biocbuild/bbs-3.16-bioc/R/library --no-vignettes --timings projectR_1.13.0.tar.gz
###
##############################################################################
##############################################################################


* using log directory ‘/home/biocbuild/bbs-3.16-bioc/meat/projectR.Rcheck’
* using R version 4.2.0 Patched (2022-06-02 r82447)
* using platform: x86_64-pc-linux-gnu (64-bit)
* using session charset: UTF-8
* using option ‘--no-vignettes’
* checking for file ‘projectR/DESCRIPTION’ ... OK
* checking extension type ... Package
* this is package ‘projectR’ version ‘1.13.0’
* package encoding: UTF-8
* checking package namespace information ... OK
* checking package dependencies ... OK
* checking if this is a source package ... OK
* checking if there is a namespace ... OK
* checking for hidden files and directories ... NOTE
Found the following hidden files and directories:
  .travis.yml
These were most likely included in error. See section ‘Package
structure’ in the ‘Writing R Extensions’ manual.
* checking for portable file names ... OK
* checking for sufficient/correct file permissions ... OK
* checking whether package ‘projectR’ can be installed ... OK
* checking installed package size ... OK
* checking package directory ... OK
* checking ‘build’ directory ... OK
* checking DESCRIPTION meta-information ... OK
* checking top-level files ... NOTE
File
  LICENSE
is not mentioned in the DESCRIPTION file.
* checking for left-over files ... OK
* checking index information ... OK
* checking package subdirectories ... OK
* checking R files for non-ASCII characters ... OK
* checking R files for syntax errors ... OK
* checking whether the package can be loaded ... OK
* checking whether the package can be loaded with stated dependencies ... OK
* checking whether the package can be unloaded cleanly ... OK
* checking whether the namespace can be loaded with stated dependencies ... OK
* checking whether the namespace can be unloaded cleanly ... OK
* checking dependencies in R code ... OK
* checking S3 generic/method consistency ... OK
* checking replacement functions ... OK
* checking foreign function calls ... OK
* checking R code for possible problems ... NOTE
alluvialMat: no visible binding for global variable ‘celltype’
alluvialMat: no visible binding for global variable ‘variable’
alluvialMat: no visible binding for global variable ‘value’
alluvialMat: no visible binding for global variable ‘nCells’
alluvialMat: no visible binding for global variable ‘nCells_per_type’
alluvialMat: no visible binding for global variable
  ‘nCells_per_pattern’
alluvialMat: no visible binding for global variable ‘prop’
Undefined global functions or variables:
  celltype nCells nCells_per_pattern nCells_per_type prop value
  variable
* checking Rd files ... OK
* checking Rd metadata ... OK
* checking Rd cross-references ... OK
* checking for missing documentation entries ... OK
* checking for code/documentation mismatches ... OK
* checking Rd \usage sections ... OK
* checking Rd contents ... OK
* checking for unstated dependencies in examples ... OK
* checking contents of ‘data’ directory ... OK
* checking data for non-ASCII characters ... OK
* checking LazyData ... OK
* checking data for ASCII and uncompressed saves ... OK
* checking files in ‘vignettes’ ... OK
* checking examples ... OK
Examples with CPU (user + system) or elapsed time > 5s
                   user system elapsed
projectR-methods 32.207  0.076  32.282
* checking for unstated dependencies in ‘tests’ ... OK
* checking tests ...
  Running ‘testthat.R’
 OK
* checking for unstated dependencies in vignettes ... OK
* checking package vignettes in ‘inst/doc’ ... OK
* checking running R code from vignettes ... SKIPPED
* checking re-building of vignette outputs ... SKIPPED
* checking PDF version of manual ... OK
* DONE

Status: 3 NOTEs
See
  ‘/home/biocbuild/bbs-3.16-bioc/meat/projectR.Rcheck/00check.log’
for details.



Installation output

projectR.Rcheck/00install.out

##############################################################################
##############################################################################
###
### Running command:
###
###   /home/biocbuild/bbs-3.16-bioc/R/bin/R CMD INSTALL projectR
###
##############################################################################
##############################################################################


* installing to library ‘/home/biocbuild/bbs-3.16-bioc/R/library’
* installing *source* package ‘projectR’ ...
** using staged installation
** R
** data
*** moving datasets to lazyload DB
** byte-compile and prepare package for lazy loading
** help
*** installing help indices
** building package indices
** installing vignettes
** testing if installed package can be loaded from temporary location
** testing if installed package can be loaded from final location
** testing if installed package keeps a record of temporary installation path
* DONE (projectR)

Tests output

projectR.Rcheck/tests/testthat.Rout


R version 4.2.0 Patched (2022-06-02 r82447) -- "Vigorous Calisthenics"
Copyright (C) 2022 The R Foundation for Statistical Computing
Platform: x86_64-pc-linux-gnu (64-bit)

R is free software and comes with ABSOLUTELY NO WARRANTY.
You are welcome to redistribute it under certain conditions.
Type 'license()' or 'licence()' for distribution details.

R is a collaborative project with many contributors.
Type 'contributors()' for more information and
'citation()' on how to cite R or R packages in publications.

Type 'demo()' for some demos, 'help()' for on-line help, or
'help.start()' for an HTML browser interface to help.
Type 'q()' to quit R.

> library(testthat)
> library(projectR)
> 
> test_check("projectR")

This is CoGAPS version 3.17.0 
Running Standard CoGAPS on p.RNAseq6l3c3t (108 genes and 54 samples) with parameters:

-- Standard Parameters --
nPatterns            5 
nIterations          50000 
seed                 491 
sparseOptimization   FALSE 

-- Sparsity Parameters --
alpha          0.01 
maxGibbsMass   100 

Data Model: Dense, Normal
Sampler Type: Sequential
Loading Data...Done! (00:00:00)
-- Equilibration Phase --
1000 of 50000, Atoms: 203(A), 122(P), ChiSq: 50390, Time: 00:00:00 / 00:00:00
2000 of 50000, Atoms: 282(A), 152(P), ChiSq: 39000, Time: 00:00:00 / 00:00:00
3000 of 50000, Atoms: 306(A), 166(P), ChiSq: 34857, Time: 00:00:00 / 00:00:00
4000 of 50000, Atoms: 335(A), 179(P), ChiSq: 33830, Time: 00:00:00 / 00:00:00
5000 of 50000, Atoms: 359(A), 169(P), ChiSq: 32803, Time: 00:00:01 / 00:00:27
6000 of 50000, Atoms: 366(A), 185(P), ChiSq: 32068, Time: 00:00:01 / 00:00:22
7000 of 50000, Atoms: 375(A), 195(P), ChiSq: 31255, Time: 00:00:01 / 00:00:19
8000 of 50000, Atoms: 389(A), 193(P), ChiSq: 30964, Time: 00:00:02 / 00:00:32
9000 of 50000, Atoms: 388(A), 192(P), ChiSq: 30661, Time: 00:00:02 / 00:00:28
10000 of 50000, Atoms: 383(A), 208(P), ChiSq: 30609, Time: 00:00:02 / 00:00:25
11000 of 50000, Atoms: 384(A), 219(P), ChiSq: 30263, Time: 00:00:02 / 00:00:23
12000 of 50000, Atoms: 403(A), 236(P), ChiSq: 30137, Time: 00:00:03 / 00:00:31
13000 of 50000, Atoms: 409(A), 227(P), ChiSq: 29926, Time: 00:00:03 / 00:00:28
14000 of 50000, Atoms: 417(A), 221(P), ChiSq: 29914, Time: 00:00:03 / 00:00:26
15000 of 50000, Atoms: 418(A), 237(P), ChiSq: 29686, Time: 00:00:04 / 00:00:32
16000 of 50000, Atoms: 441(A), 229(P), ChiSq: 29589, Time: 00:00:04 / 00:00:30
17000 of 50000, Atoms: 424(A), 220(P), ChiSq: 29427, Time: 00:00:04 / 00:00:28
18000 of 50000, Atoms: 429(A), 225(P), ChiSq: 28804, Time: 00:00:05 / 00:00:33
19000 of 50000, Atoms: 455(A), 224(P), ChiSq: 28466, Time: 00:00:05 / 00:00:31
20000 of 50000, Atoms: 451(A), 224(P), ChiSq: 28425, Time: 00:00:05 / 00:00:29
21000 of 50000, Atoms: 450(A), 222(P), ChiSq: 28291, Time: 00:00:06 / 00:00:33
22000 of 50000, Atoms: 460(A), 243(P), ChiSq: 28304, Time: 00:00:06 / 00:00:31
23000 of 50000, Atoms: 433(A), 223(P), ChiSq: 28246, Time: 00:00:06 / 00:00:30
24000 of 50000, Atoms: 473(A), 239(P), ChiSq: 28175, Time: 00:00:06 / 00:00:28
25000 of 50000, Atoms: 463(A), 222(P), ChiSq: 28178, Time: 00:00:07 / 00:00:32
26000 of 50000, Atoms: 459(A), 245(P), ChiSq: 28223, Time: 00:00:07 / 00:00:30
27000 of 50000, Atoms: 478(A), 236(P), ChiSq: 28189, Time: 00:00:07 / 00:00:29
28000 of 50000, Atoms: 451(A), 234(P), ChiSq: 28204, Time: 00:00:08 / 00:00:32
29000 of 50000, Atoms: 464(A), 231(P), ChiSq: 28234, Time: 00:00:08 / 00:00:31
30000 of 50000, Atoms: 459(A), 234(P), ChiSq: 28223, Time: 00:00:08 / 00:00:30
31000 of 50000, Atoms: 474(A), 227(P), ChiSq: 28174, Time: 00:00:09 / 00:00:32
32000 of 50000, Atoms: 475(A), 231(P), ChiSq: 28157, Time: 00:00:09 / 00:00:31
33000 of 50000, Atoms: 458(A), 230(P), ChiSq: 28222, Time: 00:00:09 / 00:00:30
34000 of 50000, Atoms: 453(A), 251(P), ChiSq: 28226, Time: 00:00:10 / 00:00:32
35000 of 50000, Atoms: 469(A), 228(P), ChiSq: 28248, Time: 00:00:10 / 00:00:31
36000 of 50000, Atoms: 447(A), 235(P), ChiSq: 28224, Time: 00:00:10 / 00:00:30
37000 of 50000, Atoms: 459(A), 238(P), ChiSq: 28214, Time: 00:00:11 / 00:00:32
38000 of 50000, Atoms: 466(A), 228(P), ChiSq: 28251, Time: 00:00:11 / 00:00:31
39000 of 50000, Atoms: 475(A), 233(P), ChiSq: 28170, Time: 00:00:11 / 00:00:30
40000 of 50000, Atoms: 475(A), 228(P), ChiSq: 28186, Time: 00:00:12 / 00:00:32
41000 of 50000, Atoms: 453(A), 247(P), ChiSq: 28167, Time: 00:00:12 / 00:00:31
42000 of 50000, Atoms: 476(A), 231(P), ChiSq: 28187, Time: 00:00:12 / 00:00:31
43000 of 50000, Atoms: 476(A), 248(P), ChiSq: 28219, Time: 00:00:13 / 00:00:32
44000 of 50000, Atoms: 464(A), 235(P), ChiSq: 28218, Time: 00:00:13 / 00:00:32
45000 of 50000, Atoms: 458(A), 242(P), ChiSq: 28236, Time: 00:00:13 / 00:00:31
46000 of 50000, Atoms: 452(A), 241(P), ChiSq: 28223, Time: 00:00:14 / 00:00:32
47000 of 50000, Atoms: 468(A), 234(P), ChiSq: 28235, Time: 00:00:14 / 00:00:32
48000 of 50000, Atoms: 479(A), 233(P), ChiSq: 28189, Time: 00:00:14 / 00:00:31
49000 of 50000, Atoms: 484(A), 224(P), ChiSq: 28144, Time: 00:00:15 / 00:00:32
50000 of 50000, Atoms: 464(A), 223(P), ChiSq: 28210, Time: 00:00:15 / 00:00:32
-- Sampling Phase --
1000 of 50000, Atoms: 481(A), 237(P), ChiSq: 28152, Time: 00:00:15 / 00:00:31
2000 of 50000, Atoms: 467(A), 247(P), ChiSq: 28217, Time: 00:00:16 / 00:00:32
3000 of 50000, Atoms: 465(A), 235(P), ChiSq: 28124, Time: 00:00:16 / 00:00:32
4000 of 50000, Atoms: 479(A), 225(P), ChiSq: 28241, Time: 00:00:16 / 00:00:31
5000 of 50000, Atoms: 463(A), 234(P), ChiSq: 28202, Time: 00:00:17 / 00:00:32
6000 of 50000, Atoms: 451(A), 244(P), ChiSq: 28259, Time: 00:00:17 / 00:00:32
7000 of 50000, Atoms: 468(A), 247(P), ChiSq: 28192, Time: 00:00:17 / 00:00:31
8000 of 50000, Atoms: 476(A), 234(P), ChiSq: 28216, Time: 00:00:18 / 00:00:32
9000 of 50000, Atoms: 465(A), 240(P), ChiSq: 28226, Time: 00:00:18 / 00:00:32
10000 of 50000, Atoms: 473(A), 234(P), ChiSq: 28160, Time: 00:00:18 / 00:00:31
11000 of 50000, Atoms: 463(A), 236(P), ChiSq: 28273, Time: 00:00:19 / 00:00:32
12000 of 50000, Atoms: 471(A), 231(P), ChiSq: 28182, Time: 00:00:19 / 00:00:32
13000 of 50000, Atoms: 464(A), 232(P), ChiSq: 28196, Time: 00:00:19 / 00:00:31
14000 of 50000, Atoms: 474(A), 230(P), ChiSq: 28226, Time: 00:00:20 / 00:00:32
15000 of 50000, Atoms: 478(A), 222(P), ChiSq: 28173, Time: 00:00:20 / 00:00:32
16000 of 50000, Atoms: 464(A), 226(P), ChiSq: 28182, Time: 00:00:20 / 00:00:31
17000 of 50000, Atoms: 458(A), 222(P), ChiSq: 28262, Time: 00:00:21 / 00:00:32
18000 of 50000, Atoms: 474(A), 225(P), ChiSq: 28269, Time: 00:00:21 / 00:00:32
19000 of 50000, Atoms: 458(A), 235(P), ChiSq: 28191, Time: 00:00:21 / 00:00:31
20000 of 50000, Atoms: 465(A), 237(P), ChiSq: 28245, Time: 00:00:22 / 00:00:32
21000 of 50000, Atoms: 465(A), 244(P), ChiSq: 28255, Time: 00:00:22 / 00:00:32
22000 of 50000, Atoms: 465(A), 244(P), ChiSq: 28236, Time: 00:00:22 / 00:00:31
23000 of 50000, Atoms: 484(A), 236(P), ChiSq: 28201, Time: 00:00:23 / 00:00:32
24000 of 50000, Atoms: 475(A), 225(P), ChiSq: 28249, Time: 00:00:23 / 00:00:31
25000 of 50000, Atoms: 470(A), 221(P), ChiSq: 28186, Time: 00:00:23 / 00:00:31
26000 of 50000, Atoms: 480(A), 237(P), ChiSq: 28212, Time: 00:00:24 / 00:00:32
27000 of 50000, Atoms: 473(A), 242(P), ChiSq: 28219, Time: 00:00:24 / 00:00:31
28000 of 50000, Atoms: 456(A), 242(P), ChiSq: 28188, Time: 00:00:24 / 00:00:31
29000 of 50000, Atoms: 456(A), 244(P), ChiSq: 28234, Time: 00:00:25 / 00:00:32
30000 of 50000, Atoms: 471(A), 251(P), ChiSq: 28186, Time: 00:00:25 / 00:00:31
31000 of 50000, Atoms: 455(A), 232(P), ChiSq: 28242, Time: 00:00:25 / 00:00:31
32000 of 50000, Atoms: 498(A), 240(P), ChiSq: 28229, Time: 00:00:26 / 00:00:32
33000 of 50000, Atoms: 466(A), 244(P), ChiSq: 28154, Time: 00:00:26 / 00:00:31
34000 of 50000, Atoms: 459(A), 242(P), ChiSq: 28282, Time: 00:00:26 / 00:00:31
35000 of 50000, Atoms: 461(A), 243(P), ChiSq: 28269, Time: 00:00:27 / 00:00:32
36000 of 50000, Atoms: 484(A), 235(P), ChiSq: 28275, Time: 00:00:27 / 00:00:31
37000 of 50000, Atoms: 465(A), 239(P), ChiSq: 28272, Time: 00:00:28 / 00:00:32
38000 of 50000, Atoms: 482(A), 227(P), ChiSq: 28261, Time: 00:00:28 / 00:00:32
39000 of 50000, Atoms: 476(A), 235(P), ChiSq: 28291, Time: 00:00:28 / 00:00:31
40000 of 50000, Atoms: 464(A), 234(P), ChiSq: 28228, Time: 00:00:29 / 00:00:32
41000 of 50000, Atoms: 471(A), 223(P), ChiSq: 28245, Time: 00:00:29 / 00:00:32
42000 of 50000, Atoms: 441(A), 236(P), ChiSq: 28238, Time: 00:00:29 / 00:00:31
43000 of 50000, Atoms: 477(A), 221(P), ChiSq: 28196, Time: 00:00:30 / 00:00:32
44000 of 50000, Atoms: 476(A), 236(P), ChiSq: 28215, Time: 00:00:30 / 00:00:32
45000 of 50000, Atoms: 478(A), 238(P), ChiSq: 28133, Time: 00:00:30 / 00:00:31
46000 of 50000, Atoms: 474(A), 223(P), ChiSq: 28165, Time: 00:00:31 / 00:00:32
47000 of 50000, Atoms: 472(A), 227(P), ChiSq: 28225, Time: 00:00:31 / 00:00:32
48000 of 50000, Atoms: 470(A), 221(P), ChiSq: 28241, Time: 00:00:31 / 00:00:31
49000 of 50000, Atoms: 463(A), 221(P), ChiSq: 28230, Time: 00:00:32 / 00:00:32
50000 of 50000, Atoms: 491(A), 248(P), ChiSq: 28174, Time: 00:00:32 / 00:00:32
[1] "93 row names matched between data and loadings"
[1] "Updated dimension of data: 93 9"
[1] "93 row names matched between data and loadings"
[1] "Updated dimension of data: 93 9"
[1] "93 row names matched between data and loadings"
[1] "Updated dimension of data: 93 9"
[ FAIL 0 | WARN 13 | SKIP 0 | PASS 24 ]

[ FAIL 0 | WARN 13 | SKIP 0 | PASS 24 ]
> 
> proc.time()
   user  system elapsed 
 41.408   0.560  41.954 

Example timings

projectR.Rcheck/projectR-Ex.timings

nameusersystemelapsed
alluvialMat1.1290.0601.190
aucMat0.0520.0200.073
cluster2pattern-methods0.0700.0440.115
clusterPlotR-methods0.0000.0000.001
correlateR0.0980.0240.122
geneMatchR0.0190.0000.019
intersectoR-methods0.0580.0080.067
projectR-methods32.207 0.07632.282
rotatoR0.0040.0000.004