Back to Multiple platform build/check report for BioC 3.16 |
|
This page was generated on 2022-08-15 11:08:21 -0400 (Mon, 15 Aug 2022).
Hostname | OS | Arch (*) | R version | Installed pkgs |
---|---|---|---|---|
nebbiolo2 | Linux (Ubuntu 20.04.4 LTS) | x86_64 | 4.2.1 (2022-06-23) -- "Funny-Looking Kid" | 4378 |
palomino4 | Windows Server 2022 Datacenter | x64 | 4.2.1 (2022-06-23 ucrt) -- "Funny-Looking Kid" | 4161 |
lconway | macOS 12.2.1 Monterey | x86_64 | 4.2.1 Patched (2022-07-09 r82577) -- "Funny-Looking Kid" | 4169 |
Click on any hostname to see more info about the system (e.g. compilers) (*) as reported by 'uname -p', except on Windows and Mac OS X |
To the developers/maintainers of the sesame package: - Please allow up to 24 hours (and sometimes 48 hours) for your latest push to git@git.bioconductor.org:packages/sesame.git to reflect on this report. See How and When does the builder pull? When will my changes propagate? for more information. - Make sure to use the following settings in order to reproduce any error or warning you see on this page. |
Package 1820/2140 | Hostname | OS / Arch | INSTALL | BUILD | CHECK | BUILD BIN | ||||||||
sesame 1.15.6 (landing page) Wanding Zhou
| nebbiolo2 | Linux (Ubuntu 20.04.4 LTS) / x86_64 | OK | OK | OK | ![]() | ||||||||
palomino4 | Windows Server 2022 Datacenter / x64 | OK | OK | OK | OK | ![]() | ||||||||
lconway | macOS 12.2.1 Monterey / x86_64 | OK | OK | OK | OK | ![]() | ||||||||
Package: sesame |
Version: 1.15.6 |
Command: /Library/Frameworks/R.framework/Resources/bin/R CMD check --install=check:sesame.install-out.txt --library=/Library/Frameworks/R.framework/Resources/library --no-vignettes --timings sesame_1.15.6.tar.gz |
StartedAt: 2022-08-14 22:26:02 -0400 (Sun, 14 Aug 2022) |
EndedAt: 2022-08-14 22:40:44 -0400 (Sun, 14 Aug 2022) |
EllapsedTime: 882.7 seconds |
RetCode: 0 |
Status: OK |
CheckDir: sesame.Rcheck |
Warnings: 0 |
############################################################################## ############################################################################## ### ### Running command: ### ### /Library/Frameworks/R.framework/Resources/bin/R CMD check --install=check:sesame.install-out.txt --library=/Library/Frameworks/R.framework/Resources/library --no-vignettes --timings sesame_1.15.6.tar.gz ### ############################################################################## ############################################################################## * using log directory ‘/Users/biocbuild/bbs-3.16-bioc/meat/sesame.Rcheck’ * using R version 4.2.1 Patched (2022-07-09 r82577) * using platform: x86_64-apple-darwin17.0 (64-bit) * using session charset: UTF-8 * using option ‘--no-vignettes’ * checking for file ‘sesame/DESCRIPTION’ ... OK * checking extension type ... Package * this is package ‘sesame’ version ‘1.15.6’ * package encoding: UTF-8 * checking package namespace information ... OK * checking package dependencies ... OK * checking if this is a source package ... OK * checking if there is a namespace ... OK * checking for hidden files and directories ... OK * checking for portable file names ... OK * checking for sufficient/correct file permissions ... OK * checking whether package ‘sesame’ can be installed ... OK * checking installed package size ... OK * checking package directory ... OK * checking ‘build’ directory ... OK * checking DESCRIPTION meta-information ... OK * checking top-level files ... OK * checking for left-over files ... OK * checking index information ... OK * checking package subdirectories ... OK * checking R files for non-ASCII characters ... OK * checking R files for syntax errors ... OK * checking whether the package can be loaded ... OK * checking whether the package can be loaded with stated dependencies ... OK * checking whether the package can be unloaded cleanly ... OK * checking whether the namespace can be loaded with stated dependencies ... OK * checking whether the namespace can be unloaded cleanly ... OK * checking dependencies in R code ... OK * checking S3 generic/method consistency ... OK * checking replacement functions ... OK * checking foreign function calls ... OK * checking R code for possible problems ... OK * checking Rd files ... OK * checking Rd metadata ... OK * checking Rd cross-references ... OK * checking for missing documentation entries ... OK * checking for code/documentation mismatches ... OK * checking Rd \usage sections ... OK * checking Rd contents ... OK * checking for unstated dependencies in examples ... OK * checking files in ‘vignettes’ ... OK * checking examples ... OK Examples with CPU (user + system) or elapsed time > 5s user system elapsed sesameQC_calcStats 29.414 1.654 34.512 KYCG_plotEnrichAll 26.646 1.018 28.881 sesameQC_plotHeatSNPs 25.514 1.546 27.247 inferSpecies 21.689 0.757 22.911 dyeBiasCorrMostBalanced 17.711 0.560 18.606 sesameQC_plotBar 14.937 0.792 15.951 getSexInfo 14.838 0.700 15.945 KYCG_plotMeta 14.647 0.689 15.791 DMR 14.777 0.450 15.471 diffRefSet 13.710 0.625 14.546 probeSuccessRate 13.333 0.737 14.642 KYCG_plotMetaEnrichment 12.528 0.525 13.354 matchDesign 12.504 0.522 13.194 sesameQC_plotBetaByDesign 11.040 1.133 12.201 inferStrain 11.258 0.791 12.263 getRefSet 11.448 0.523 12.167 compareMouseStrainReference 11.465 0.378 12.062 KYCG_annoProbes 11.321 0.451 11.988 dyeBiasCorr 11.042 0.492 11.848 compareReference 10.108 0.549 10.839 KYCG_buildGeneDBs 10.164 0.404 10.757 testEnrichment 8.994 0.649 9.941 controls 9.114 0.417 9.943 dbStats 8.731 0.587 9.502 visualizeGene 8.831 0.481 9.646 detectionIB 8.167 1.098 9.375 testEnrichmentSEA 8.436 0.723 9.658 inferSex 7.909 0.521 8.610 prepSesame 7.821 0.469 8.541 DML 7.277 0.888 8.488 mapToMammal40 7.532 0.424 8.295 inferTissue 6.707 1.249 8.204 formatVCF 7.478 0.438 8.220 estimateLeukocyte 7.152 0.536 7.882 openSesame 6.811 0.609 7.621 detectionPnegEcdf 7.025 0.357 7.555 dyeBiasNL 6.390 0.469 6.980 noMasked 5.996 0.143 6.393 KYCG_plotSetEnrichment 5.411 0.395 5.958 openSesameToFile 5.686 0.077 5.782 reIdentify 5.212 0.396 5.703 bisConversionControl 5.364 0.210 5.733 createUCSCtrack 5.332 0.203 5.763 inferSexKaryotypes 5.218 0.276 5.586 sdf_read_table 5.139 0.244 5.504 deidentify 5.113 0.237 5.526 scrubSoft 4.576 0.545 5.143 * checking for unstated dependencies in ‘tests’ ... OK * checking tests ... Running ‘testthat.R’ OK * checking for unstated dependencies in vignettes ... OK * checking package vignettes in ‘inst/doc’ ... OK * checking running R code from vignettes ... SKIPPED * checking re-building of vignette outputs ... SKIPPED * checking PDF version of manual ... OK * DONE Status: OK
sesame.Rcheck/00install.out
############################################################################## ############################################################################## ### ### Running command: ### ### /Library/Frameworks/R.framework/Resources/bin/R CMD INSTALL sesame ### ############################################################################## ############################################################################## * installing to library ‘/Library/Frameworks/R.framework/Versions/4.2/Resources/library’ * installing *source* package ‘sesame’ ... ** using staged installation ** R ** inst ** byte-compile and prepare package for lazy loading ** help *** installing help indices ** building package indices ** installing vignettes ** testing if installed package can be loaded from temporary location ** testing if installed package can be loaded from final location ** testing if installed package keeps a record of temporary installation path * DONE (sesame)
sesame.Rcheck/tests/testthat.Rout
R version 4.2.1 Patched (2022-07-09 r82577) -- "Funny-Looking Kid" Copyright (C) 2022 The R Foundation for Statistical Computing Platform: x86_64-apple-darwin17.0 (64-bit) R is free software and comes with ABSOLUTELY NO WARRANTY. You are welcome to redistribute it under certain conditions. Type 'license()' or 'licence()' for distribution details. R is a collaborative project with many contributors. Type 'contributors()' for more information and 'citation()' on how to cite R or R packages in publications. Type 'demo()' for some demos, 'help()' for on-line help, or 'help.start()' for an HTML browser interface to help. Type 'q()' to quit R. > library(testthat) > library(sesame) Loading required package: sesameData Loading required package: ExperimentHub Loading required package: BiocGenerics Attaching package: 'BiocGenerics' The following objects are masked from 'package:stats': IQR, mad, sd, var, xtabs The following objects are masked from 'package:base': Filter, Find, Map, Position, Reduce, anyDuplicated, append, as.data.frame, basename, cbind, colnames, dirname, do.call, duplicated, eval, evalq, get, grep, grepl, intersect, is.unsorted, lapply, mapply, match, mget, order, paste, pmax, pmax.int, pmin, pmin.int, rank, rbind, rownames, sapply, setdiff, sort, table, tapply, union, unique, unsplit, which.max, which.min Loading required package: AnnotationHub Loading required package: BiocFileCache Loading required package: dbplyr Loading sesameData. ---------------------------------------------------------- | SEnsible Step-wise Analysis of DNA MEthylation (SeSAMe) | -------------------------------------------------------- | Please cache auxiliary data by "sesameDataCache()". | This needs to be done only once per SeSAMe installation. ---------------------------------------------------------- > > test_check("sesame") [ FAIL 0 | WARN 0 | SKIP 0 | PASS 1 ] > > proc.time() user system elapsed 30.467 1.738 32.803
sesame.Rcheck/sesame-Ex.timings
name | user | system | elapsed | |
BetaValueToMValue | 0 | 0 | 0 | |
DML | 7.277 | 0.888 | 8.488 | |
DMLpredict | 1.251 | 0.096 | 1.429 | |
DMR | 14.777 | 0.450 | 15.471 | |
KYCG_annoProbes | 11.321 | 0.451 | 11.988 | |
KYCG_buildGeneDBs | 10.164 | 0.404 | 10.757 | |
KYCG_getDBs | 2.749 | 0.186 | 3.309 | |
KYCG_listDBGroups | 0.027 | 0.001 | 0.028 | |
KYCG_plotBar | 0.239 | 0.006 | 0.245 | |
KYCG_plotDot | 0.243 | 0.005 | 0.248 | |
KYCG_plotEnrichAll | 26.646 | 1.018 | 28.881 | |
KYCG_plotLollipop | 0.117 | 0.006 | 0.124 | |
KYCG_plotManhattan | 1.286 | 0.097 | 1.384 | |
KYCG_plotMeta | 14.647 | 0.689 | 15.791 | |
KYCG_plotMetaEnrichment | 12.528 | 0.525 | 13.354 | |
KYCG_plotPointRange | 3.112 | 0.173 | 3.376 | |
KYCG_plotSetEnrichment | 5.411 | 0.395 | 5.958 | |
KYCG_plotVolcano | 0.154 | 0.005 | 0.161 | |
KYCG_plotWaterfall | 2.673 | 0.178 | 2.993 | |
MValueToBetaValue | 0.000 | 0.000 | 0.001 | |
SigDF | 0.230 | 0.034 | 0.331 | |
addMask | 0.075 | 0.001 | 0.076 | |
aggregateTestEnrichments | 2.436 | 0.136 | 2.583 | |
bisConversionControl | 5.364 | 0.210 | 5.733 | |
calcEffectSize | 0.977 | 0.088 | 1.136 | |
checkLevels | 3.027 | 0.275 | 3.390 | |
cnSegmentation | 0.220 | 0.040 | 0.325 | |
compareMouseStrainReference | 11.465 | 0.378 | 12.062 | |
compareMouseTissueReference | 0.000 | 0.000 | 0.001 | |
compareReference | 10.108 | 0.549 | 10.839 | |
controls | 9.114 | 0.417 | 9.943 | |
createUCSCtrack | 5.332 | 0.203 | 5.763 | |
dataFrame2sesameQC | 1.213 | 0.135 | 1.528 | |
dbStats | 8.731 | 0.587 | 9.502 | |
deidentify | 5.113 | 0.237 | 5.526 | |
detectionIB | 8.167 | 1.098 | 9.375 | |
detectionPnegEcdf | 7.025 | 0.357 | 7.555 | |
diffRefSet | 13.710 | 0.625 | 14.546 | |
dmContrasts | 1.790 | 0.184 | 2.054 | |
dyeBiasCorr | 11.042 | 0.492 | 11.848 | |
dyeBiasCorrMostBalanced | 17.711 | 0.560 | 18.606 | |
dyeBiasL | 2.420 | 0.116 | 2.606 | |
dyeBiasNL | 6.390 | 0.469 | 6.980 | |
estimateLeukocyte | 7.152 | 0.536 | 7.882 | |
formatVCF | 7.478 | 0.438 | 8.220 | |
getAFTypeIbySumAlleles | 1.338 | 0.138 | 1.627 | |
getAFs | 1.153 | 0.124 | 1.359 | |
getBetas | 0.958 | 0.142 | 1.179 | |
getRefSet | 11.448 | 0.523 | 12.167 | |
getSexInfo | 14.838 | 0.700 | 15.945 | |
inferEthnicity | 3.535 | 0.234 | 3.850 | |
inferInfiniumIChannel | 0.591 | 0.498 | 1.100 | |
inferSex | 7.909 | 0.521 | 8.610 | |
inferSexKaryotypes | 5.218 | 0.276 | 5.586 | |
inferSpecies | 21.689 | 0.757 | 22.911 | |
inferStrain | 11.258 | 0.791 | 12.263 | |
inferTissue | 6.707 | 1.249 | 8.204 | |
initFileSet | 1.001 | 0.190 | 1.267 | |
listAvailableMasks | 1.604 | 0.126 | 1.810 | |
mapFileSet | 0.040 | 0.003 | 0.043 | |
mapToMammal40 | 7.532 | 0.424 | 8.295 | |
matchDesign | 12.504 | 0.522 | 13.194 | |
meanIntensity | 2.802 | 0.367 | 3.320 | |
medianTotalIntensity | 0.984 | 0.056 | 1.110 | |
noMasked | 5.996 | 0.143 | 6.393 | |
noob | 4.107 | 0.431 | 4.563 | |
openSesame | 6.811 | 0.609 | 7.621 | |
openSesameToFile | 5.686 | 0.077 | 5.782 | |
pOOBAH | 3.463 | 0.429 | 3.930 | |
palgen | 0.052 | 0.009 | 0.063 | |
parseGEOsignalMU | 0.610 | 0.004 | 0.616 | |
predictAge | 2.313 | 0.139 | 2.535 | |
predictAgeHorvath353 | 0 | 0 | 0 | |
predictAgeSkinBlood | 0 | 0 | 0 | |
predictMouseAgeInMonth | 0.000 | 0.000 | 0.001 | |
prefixMask | 0.477 | 0.001 | 0.479 | |
prefixMaskButC | 0.132 | 0.000 | 0.132 | |
prefixMaskButCG | 0.066 | 0.001 | 0.069 | |
prepSesame | 7.821 | 0.469 | 8.541 | |
prepSesameList | 0.001 | 0.001 | 0.003 | |
print.DMLSummary | 2.899 | 0.696 | 3.788 | |
print.fileSet | 1.056 | 0.159 | 1.292 | |
probeID_designType | 0 | 0 | 0 | |
probeSuccessRate | 13.333 | 0.737 | 14.642 | |
qualityMask | 3.621 | 0.057 | 3.765 | |
reIdentify | 5.212 | 0.396 | 5.703 | |
readFileSet | 0.052 | 0.011 | 0.065 | |
readIDATpair | 0.133 | 0.003 | 0.137 | |
resetMask | 0.329 | 0.047 | 0.444 | |
scrub | 3.454 | 0.339 | 3.812 | |
scrubSoft | 4.576 | 0.545 | 5.143 | |
sdfPlatform | 1.243 | 0.068 | 1.388 | |
sdf_read_table | 5.139 | 0.244 | 5.504 | |
sdf_write_table | 2.250 | 0.127 | 2.515 | |
searchIDATprefixes | 0.003 | 0.002 | 0.005 | |
sesame-package | 3.507 | 0.359 | 4.053 | |
sesameAnno_download | 0 | 0 | 0 | |
sesameAnno_get | 0 | 0 | 0 | |
sesameData_getAnno | 0 | 0 | 0 | |
sesameQC_calcStats | 29.414 | 1.654 | 34.512 | |
sesameQC_getStats | 3.439 | 0.118 | 3.572 | |
sesameQC_plotBar | 14.937 | 0.792 | 15.951 | |
sesameQC_plotBetaByDesign | 11.040 | 1.133 | 12.201 | |
sesameQC_plotHeatSNPs | 25.514 | 1.546 | 27.247 | |
sesameQC_plotIntensVsBetas | 2.108 | 0.340 | 2.539 | |
sesameQC_plotRedGrnQQ | 1.046 | 0.082 | 1.197 | |
sesameQC_rankStats | 3.196 | 0.252 | 3.795 | |
setMask | 0.089 | 0.001 | 0.090 | |
signalMU | 0.955 | 0.211 | 1.277 | |
sliceFileSet | 0.033 | 0.003 | 0.035 | |
summaryExtractTest | 2.635 | 0.600 | 3.380 | |
testEnrichment | 8.994 | 0.649 | 9.941 | |
testEnrichmentSEA | 8.436 | 0.723 | 9.658 | |
totalIntensities | 4.188 | 0.488 | 4.829 | |
updateSigDF | 2.619 | 0.263 | 3.027 | |
visualizeGene | 8.831 | 0.481 | 9.646 | |
visualizeProbes | 4.358 | 0.226 | 4.664 | |
visualizeRegion | 0.377 | 0.003 | 0.380 | |
visualizeSegments | 1.783 | 0.375 | 2.233 | |