Back to Multiple platform build/check report for BioC 3.14
ABCDEFGHIJKLMNOPQR[S]TUVWXYZ

This page was generated on 2021-10-23 14:06:14 -0400 (Sat, 23 Oct 2021).

BUILD results for Spaniel on nebbiolo2

To the developers/maintainers of the Spaniel package:
- Please allow up to 24 hours (and sometimes 48 hours) for your latest push to git@git.bioconductor.org:packages/Spaniel.git to
reflect on this report. See How and When does the builder pull? When will my changes propagate? here for more information.
- Make sure to use the following settings in order to reproduce any error or warning you see on this page.

raw results

Package 1838/2083HostnameOS / ArchINSTALLBUILDCHECKBUILD BIN
Spaniel 1.7.0  (landing page)
Rachel Queen
Snapshot Date: 2021-10-22 14:50:11 -0400 (Fri, 22 Oct 2021)
git_url: https://git.bioconductor.org/packages/Spaniel
git_branch: master
git_last_commit: 19d86dc
git_last_commit_date: 2021-05-19 12:46:26 -0400 (Wed, 19 May 2021)
nebbiolo2Linux (Ubuntu 20.04.2 LTS) / x86_64  OK    OK    OK  UNNEEDED, same version is already published
riesling1Windows Server 2019 Standard / x64  OK    NA    OK    OK  
merida1macOS 10.14.6 Mojave / x86_64  OK    OK    OK    OK  UNNEEDED, same version is already published

Summary

Package: Spaniel
Version: 1.7.0
Command: /home/biocbuild/bbs-3.14-bioc/R/bin/R CMD build --keep-empty-dirs --no-resave-data Spaniel
StartedAt: 2021-10-22 18:42:26 -0400 (Fri, 22 Oct 2021)
EndedAt: 2021-10-22 18:44:41 -0400 (Fri, 22 Oct 2021)
EllapsedTime: 135.1 seconds
RetCode: 0
Status:   OK  
PackageFile: Spaniel_1.7.0.tar.gz
PackageFileSize: 3.886 MiB

Command output

##############################################################################
##############################################################################
###
### Running command:
###
###   /home/biocbuild/bbs-3.14-bioc/R/bin/R CMD build --keep-empty-dirs --no-resave-data Spaniel
###
##############################################################################
##############################################################################


* checking for file ‘Spaniel/DESCRIPTION’ ... OK
* preparing ‘Spaniel’:
* checking DESCRIPTION meta-information ... OK
* installing the package to build vignettes
* creating vignettes ... OK
* checking for LF line-endings in source and make files and shell scripts
* checking for empty or unneeded directories
Omitted ‘LazyData’ from DESCRIPTION
* building ‘Spaniel_1.7.0.tar.gz’