Back to Multiple platform build/check report for BioC 3.17:   simplified   long
ABCDEFGHIJKLMNOPQRSTU[V]WXYZ

This page was generated on 2023-03-20 11:04:51 -0400 (Mon, 20 Mar 2023).

HostnameOSArch (*)R versionInstalled pkgs
nebbiolo1Linux (Ubuntu 22.04.1 LTS)x86_64R Under development (unstable) (2023-03-16 r83996) -- "Unsuffered Consequences" 4297
palomino3Windows Server 2022 Datacenterx64R Under development (unstable) (2023-03-15 r83984 ucrt) -- "Unsuffered Consequences" 4286
merida1macOS 10.14.6 Mojavex86_64R Under development (unstable) (2023-03-16 r83985) -- "Unsuffered Consequences" 4150
Click on any hostname to see more info about the system (e.g. compilers)      (*) as reported by 'uname -p', except on Windows and Mac OS X

All results for package VariantAnnotation


To the developers/maintainers of the VariantAnnotation package:
- Please allow up to 24 hours (and sometimes 48 hours) for your latest push to git@git.bioconductor.org:packages/VariantAnnotation.git to
reflect on this report. See How and When does the builder pull? When will my changes propagate? for more information.
- Make sure to use the following settings in order to reproduce any error or warning you see on this page.

raw results

Package 2140/2189HostnameOS / ArchINSTALLBUILDCHECKBUILD BIN
VariantAnnotation 1.45.1  (landing page)
Bioconductor Package Maintainer
Snapshot Date: 2023-03-19 14:00:12 -0400 (Sun, 19 Mar 2023)
git_url: https://git.bioconductor.org/packages/VariantAnnotation
git_branch: master
git_last_commit: d006bb5
git_last_commit_date: 2023-02-14 16:02:56 -0400 (Tue, 14 Feb 2023)
nebbiolo1Linux (Ubuntu 22.04.1 LTS) / x86_64  OK    OK    WARNINGS  UNNEEDED, same version is already published
palomino3Windows Server 2022 Datacenter / x64  OK    OK    WARNINGS    OK  UNNEEDED, same version is already published
merida1macOS 10.14.6 Mojave / x86_64  OK    OK    WARNINGS    OK  UNNEEDED, same version is already published

Results for Bioconductor software packages that depend directly on package VariantAnnotation

QUICK STATSOS / ArchINSTALLBUILDCHECKBUILD BIN
nebbiolo1Linux (Ubuntu 22.04.1 LTS) / x86_64
0065
0164
041446
palomino3Windows Server 2022 Datacenter / x64
0060
0159
051242
0059
merida1macOS 10.14.6 Mojave / x86_64
0064
0262
141542
0062
Package 1/65HostnameOS / ArchINSTALLBUILDCHECKBUILD BIN
alabaster.vcf 0.99.1  (landing page)
Aaron Lun
git_last_commit: f4fc025
git_last_commit_date: 2023-02-28 15:06:53 -0400
nebbiolo1Linux (Ubuntu 22.04.1 LTS) / x86_64  OK    OK    OK  UNNEEDED, same version is already published
palomino3Windows Server 2022 Datacenter / x64  OK    OK    OK    OK  NO, package depends on 'alabaster.base' which is not available
merida1macOS 10.14.6 Mojave / x86_64  OK    OK    OK    OK  UNNEEDED, same version is already published
Package 2/65HostnameOS / ArchINSTALLBUILDCHECKBUILD BIN
AllelicImbalance 1.37.0  (landing page)
Jesper R Gadin
git_last_commit: 330d8ed
git_last_commit_date: 2022-11-01 11:08:46 -0400
nebbiolo1Linux (Ubuntu 22.04.1 LTS) / x86_64  OK    OK    OK  UNNEEDED, same version is already published
palomino3Windows Server 2022 Datacenter / x64  OK    OK    OK    OK  UNNEEDED, same version is already published
merida1macOS 10.14.6 Mojave / x86_64  OK    OK    OK    OK  UNNEEDED, same version is already published
Package 3/65HostnameOS / ArchINSTALLBUILDCHECKBUILD BIN
APAlyzer 1.13.0  (landing page)
Ruijia Wang
git_last_commit: 7ca6719
git_last_commit_date: 2022-11-01 11:20:19 -0400
nebbiolo1Linux (Ubuntu 22.04.1 LTS) / x86_64  OK    OK    WARNINGS  UNNEEDED, same version is already published
palomino3Windows Server 2022 Datacenter / x64  OK    OK    WARNINGS    OK  UNNEEDED, same version is already published
merida1macOS 10.14.6 Mojave / x86_64  OK    OK    WARNINGS    OK  UNNEEDED, same version is already published
Package 4/65HostnameOS / ArchINSTALLBUILDCHECKBUILD BIN
appreci8R 1.17.0  (landing page)
Sarah Sandmann
git_last_commit: dd2c123
git_last_commit_date: 2022-11-01 11:18:06 -0400
nebbiolo1Linux (Ubuntu 22.04.1 LTS) / x86_64  OK    OK    OK  UNNEEDED, same version is already published
palomino3Windows Server 2022 Datacenter / x64  OK    OK    OK    OK  UNNEEDED, same version is already published
merida1macOS 10.14.6 Mojave / x86_64  OK    OK    OK    OK  UNNEEDED, same version is already published
Package 5/65HostnameOS / ArchINSTALLBUILDCHECKBUILD BIN
BadRegionFinder 1.27.0  (landing page)
Sarah Sandmann
git_last_commit: 1b861d0
git_last_commit_date: 2022-11-01 11:13:25 -0400
nebbiolo1Linux (Ubuntu 22.04.1 LTS) / x86_64  OK    OK    OK  UNNEEDED, same version is already published
palomino3Windows Server 2022 Datacenter / x64  OK    OK    OK    OK  UNNEEDED, same version is already published
merida1macOS 10.14.6 Mojave / x86_64  OK    OK    OK    OK  UNNEEDED, same version is already published
Package 6/65HostnameOS / ArchINSTALLBUILDCHECKBUILD BIN
BBCAnalyzer 1.29.0  (landing page)
Sarah Sandmann
git_last_commit: 84a40f4
git_last_commit_date: 2022-11-01 11:12:03 -0400
nebbiolo1Linux (Ubuntu 22.04.1 LTS) / x86_64  OK    OK    OK  UNNEEDED, same version is already published
palomino3Windows Server 2022 Datacenter / x64  OK    OK    WARNINGS    OK  UNNEEDED, same version is already published
merida1macOS 10.14.6 Mojave / x86_64  OK    OK    OK    OK  UNNEEDED, same version is already published
Package 7/65HostnameOS / ArchINSTALLBUILDCHECKBUILD BIN
biovizBase 1.47.0  (landing page)
Michael Lawrence
git_last_commit: 73f68c1
git_last_commit_date: 2022-11-01 11:06:19 -0400
nebbiolo1Linux (Ubuntu 22.04.1 LTS) / x86_64  OK    OK    WARNINGS  UNNEEDED, same version is already published
palomino3Windows Server 2022 Datacenter / x64  OK    OK    WARNINGS    OK  UNNEEDED, same version is already published
merida1macOS 10.14.6 Mojave / x86_64  OK    OK    WARNINGS    OK  UNNEEDED, same version is already published
Package 8/65HostnameOS / ArchINSTALLBUILDCHECKBUILD BIN
biscuiteer 1.13.1  (landing page)
Jacob Morrison
git_last_commit: 2d14d1d
git_last_commit_date: 2023-02-21 14:41:27 -0400
nebbiolo1Linux (Ubuntu 22.04.1 LTS) / x86_64  OK    OK    WARNINGS  UNNEEDED, same version is already published
palomino3Windows Server 2022 Datacenter / x64  OK    OK    WARNINGS    OK  NO, package depends on 'bsseq' which is not available
merida1macOS 10.14.6 Mojave / x86_64  OK    OK    WARNINGS    OK  NO, package depends on 'bsseq' which is not available
Package 9/65HostnameOS / ArchINSTALLBUILDCHECKBUILD BIN
cardelino 1.1.1  (landing page)
Davis McCarthy
git_last_commit: 3d2d977
git_last_commit_date: 2022-11-09 23:02:09 -0400
nebbiolo1Linux (Ubuntu 22.04.1 LTS) / x86_64  OK    OK    OK  UNNEEDED, same version is already published
palomino3Windows Server 2022 Datacenter / x64  OK    OK    OK    OK  UNNEEDED, same version is already published
merida1macOS 10.14.6 Mojave / x86_64  OK    OK    OK    OK  UNNEEDED, same version is already published
Package 10/65HostnameOS / ArchINSTALLBUILDCHECKBUILD BIN
CNVfilteR 1.13.1  (landing page)
Jose Marcos Moreno-Cabrera
git_last_commit: 3806805
git_last_commit_date: 2022-12-02 01:27:17 -0400
nebbiolo1Linux (Ubuntu 22.04.1 LTS) / x86_64  OK    OK    OK  UNNEEDED, same version is already published
palomino3Windows Server 2022 Datacenter / x64  OK    OK    OK    OK  UNNEEDED, same version is already published
merida1macOS 10.14.6 Mojave / x86_64  OK    OK    OK    OK  UNNEEDED, same version is already published
Package 11/65HostnameOS / ArchINSTALLBUILDCHECKBUILD BIN
CNVrd2 1.37.0  (landing page)
Hoang Tan Nguyen
git_last_commit: 7d52a73
git_last_commit_date: 2022-11-01 11:08:58 -0400
nebbiolo1Linux (Ubuntu 22.04.1 LTS) / x86_64  OK    OK    OK  UNNEEDED, same version is already published
palomino3Windows Server 2022 Datacenter / x64  OK    OK    OK    OK  UNNEEDED, same version is already published
merida1macOS 10.14.6 Mojave / x86_64  OK    OK    OK    OK  UNNEEDED, same version is already published
Package 12/65HostnameOS / ArchINSTALLBUILDCHECKBUILD BIN
CopyNumberPlots 1.15.0  (landing page)
Bernat Gel
git_last_commit: a3d45ec
git_last_commit_date: 2022-11-01 11:19:46 -0400
nebbiolo1Linux (Ubuntu 22.04.1 LTS) / x86_64  OK    OK    OK  UNNEEDED, same version is already published
palomino3Windows Server 2022 Datacenter / x64  OK    OK    OK    OK  UNNEEDED, same version is already published
merida1macOS 10.14.6 Mojave / x86_64  OK    OK    OK    OK  UNNEEDED, same version is already published
Package 13/65HostnameOS / ArchINSTALLBUILDCHECKBUILD BIN
crisprDesign 1.1.24  (landing page)
Jean-Philippe Fortin
git_last_commit: a6826bc
git_last_commit_date: 2023-02-28 10:34:55 -0400
nebbiolo1Linux (Ubuntu 22.04.1 LTS) / x86_64  OK    OK    OK  UNNEEDED, same version is already published
palomino3Windows Server 2022 Datacenter / x64  OK    OK    OK    OK  UNNEEDED, same version is already published
merida1macOS 10.14.6 Mojave / x86_64  OK    OK    OK    OK  UNNEEDED, same version is already published
Package 14/65HostnameOS / ArchINSTALLBUILDCHECKBUILD BIN
customProDB 1.39.0  (landing page)
Xiaojing Wang
git_last_commit: 612f132
git_last_commit_date: 2022-11-01 11:08:20 -0400
nebbiolo1Linux (Ubuntu 22.04.1 LTS) / x86_64  OK    OK    OK  UNNEEDED, same version is already published
palomino3Windows Server 2022 Datacenter / x64  OK    OK    OK    OK  UNNEEDED, same version is already published
merida1macOS 10.14.6 Mojave / x86_64  OK    OK    OK    OK  UNNEEDED, same version is already published
Package 15/65HostnameOS / ArchINSTALLBUILDCHECKBUILD BIN
DAMEfinder 1.11.1  (landing page)
Stephany Orjuela
git_last_commit: 3f4d9bf
git_last_commit_date: 2022-12-06 08:46:37 -0400
nebbiolo1Linux (Ubuntu 22.04.1 LTS) / x86_64  OK    OK    OK  UNNEEDED, same version is already published
palomino3Windows Server 2022 Datacenter / x64  OK    OK    OK    OK  UNNEEDED, same version is already published
merida1macOS 10.14.6 Mojave / x86_64  OK    OK    OK    OK  UNNEEDED, same version is already published
Package 16/65HostnameOS / ArchINSTALLBUILDCHECKBUILD BIN
decompTumor2Sig 2.15.0  (landing page)
Rosario M. Piro
git_last_commit: f413c6a
git_last_commit_date: 2022-11-01 11:18:56 -0400
nebbiolo1Linux (Ubuntu 22.04.1 LTS) / x86_64  OK    OK    OK  UNNEEDED, same version is already published
palomino3Windows Server 2022 Datacenter / x64  OK    OK    OK    OK  UNNEEDED, same version is already published
merida1macOS 10.14.6 Mojave / x86_64  OK    OK    OK    OK  UNNEEDED, same version is already published
Package 17/65HostnameOS / ArchINSTALLBUILDCHECKBUILD BIN
deepSNV 1.45.0  (landing page)
Moritz Gerstung
git_last_commit: 4241cbc
git_last_commit_date: 2022-11-01 11:06:40 -0400
nebbiolo1Linux (Ubuntu 22.04.1 LTS) / x86_64  OK    OK    WARNINGS  UNNEEDED, same version is already published
palomino3Windows Server 2022 Datacenter / x64  OK    OK    OK    OK  UNNEEDED, same version is already published
merida1macOS 10.14.6 Mojave / x86_64  OK    OK    WARNINGS    OK  UNNEEDED, same version is already published
Package 18/65HostnameOS / ArchINSTALLBUILDCHECKBUILD BIN
DominoEffect 1.19.0  (landing page)
Marija Buljan
git_last_commit: ac67be0
git_last_commit_date: 2022-11-01 11:17:11 -0400
nebbiolo1Linux (Ubuntu 22.04.1 LTS) / x86_64  OK    OK    OK  UNNEEDED, same version is already published
palomino3Windows Server 2022 Datacenter / x64  OK    OK    ERROR    OK  
merida1macOS 10.14.6 Mojave / x86_64  OK    OK    OK    OK  UNNEEDED, same version is already published
Package 19/65HostnameOS / ArchINSTALLBUILDCHECKBUILD BIN
ensemblVEP 1.41.1  (landing page)
Bioconductor Package Maintainer
git_last_commit: af762fa
git_last_commit_date: 2022-11-28 21:19:59 -0400
nebbiolo1Linux (Ubuntu 22.04.1 LTS) / x86_64  OK    OK    OK  UNNEEDED, same version is already published
palomino3Windows Server 2022 Datacenter / x64... NOT SUPPORTED ...
merida1macOS 10.14.6 Mojave / x86_64  OK    ERROR  skippedskipped
Package 20/65HostnameOS / ArchINSTALLBUILDCHECKBUILD BIN
epialleleR 1.7.1  (landing page)
Oleksii Nikolaienko
git_last_commit: 24dc011
git_last_commit_date: 2023-02-19 09:54:38 -0400
nebbiolo1Linux (Ubuntu 22.04.1 LTS) / x86_64  OK    OK    WARNINGS  UNNEEDED, same version is already published
palomino3Windows Server 2022 Datacenter / x64  OK    OK    OK    OK  UNNEEDED, same version is already published
merida1macOS 10.14.6 Mojave / x86_64  OK    OK    WARNINGS    OK  UNNEEDED, same version is already published
Package 21/65HostnameOS / ArchINSTALLBUILDCHECKBUILD BIN
fcScan 1.13.0  (landing page)
Pierre Khoueiry Abdullah El-Kurdi
git_last_commit: 4f8702f
git_last_commit_date: 2022-11-01 11:20:20 -0400
nebbiolo1Linux (Ubuntu 22.04.1 LTS) / x86_64  OK    OK    OK  UNNEEDED, same version is already published
palomino3Windows Server 2022 Datacenter / x64  OK    OK    OK    OK  UNNEEDED, same version is already published
merida1macOS 10.14.6 Mojave / x86_64  OK    OK    OK    OK  UNNEEDED, same version is already published
Package 22/65HostnameOS / ArchINSTALLBUILDCHECKBUILD BIN
GA4GHclient 1.23.0  (landing page)
Welliton Souza
git_last_commit: 74319af
git_last_commit_date: 2022-11-01 11:15:24 -0400
nebbiolo1Linux (Ubuntu 22.04.1 LTS) / x86_64  OK    OK    OK  UNNEEDED, same version is already published
palomino3Windows Server 2022 Datacenter / x64  OK    OK    OK    OK  UNNEEDED, same version is already published
merida1macOS 10.14.6 Mojave / x86_64  OK    OK    OK    OK  UNNEEDED, same version is already published
Package 23/65HostnameOS / ArchINSTALLBUILDCHECKBUILD BIN
genbankr 1.27.1  (landing page)
Gabriel Becker
git_last_commit: 4954cb0
git_last_commit_date: 2023-02-27 17:41:01 -0400
nebbiolo1Linux (Ubuntu 22.04.1 LTS) / x86_64  OK    ERROR  skipped
palomino3Windows Server 2022 Datacenter / x64  OK    ERROR  skippedskipped
merida1macOS 10.14.6 Mojave / x86_64  OK    ERROR  skippedskipped
Package 24/65HostnameOS / ArchINSTALLBUILDCHECKBUILD BIN
GenomicFiles 1.35.1  (landing page)
Bioconductor Package Maintainer
git_last_commit: aeb833c
git_last_commit_date: 2023-03-17 15:01:20 -0400
nebbiolo1Linux (Ubuntu 22.04.1 LTS) / x86_64  OK    OK    WARNINGS  YES
palomino3Windows Server 2022 Datacenter / x64  OK    OK    WARNINGS    OK  YES
merida1macOS 10.14.6 Mojave / x86_64  OK    OK    WARNINGS    OK  YES
Package 25/65HostnameOS / ArchINSTALLBUILDCHECKBUILD BIN
genotypeeval 1.31.1  (landing page)
Jennifer Tom
git_last_commit: 579bec6
git_last_commit_date: 2023-02-08 10:31:28 -0400
nebbiolo1Linux (Ubuntu 22.04.1 LTS) / x86_64  OK    OK    ERROR  
palomino3Windows Server 2022 Datacenter / x64  OK    OK    ERROR    OK  
merida1macOS 10.14.6 Mojave / x86_64  OK    OK    ERROR    OK  
Package 26/65HostnameOS / ArchINSTALLBUILDCHECKBUILD BIN
GenVisR 1.31.1  (landing page)
Zachary Skidmore
git_last_commit: f65e33d
git_last_commit_date: 2023-01-16 15:04:04 -0400
nebbiolo1Linux (Ubuntu 22.04.1 LTS) / x86_64  OK    OK    ERROR  
palomino3Windows Server 2022 Datacenter / x64  OK    OK    ERROR    OK  
merida1macOS 10.14.6 Mojave / x86_64  OK    OK    ERROR    OK  
Package 27/65HostnameOS / ArchINSTALLBUILDCHECKBUILD BIN
ggbio 1.47.0  (landing page)
Michael Lawrence
git_last_commit: 45abc27
git_last_commit_date: 2022-11-01 11:06:25 -0400
nebbiolo1Linux (Ubuntu 22.04.1 LTS) / x86_64  OK    OK    WARNINGS  UNNEEDED, same version is already published
palomino3Windows Server 2022 Datacenter / x64  OK    OK    WARNINGS    OK  UNNEEDED, same version is already published
merida1macOS 10.14.6 Mojave / x86_64  OK    OK    WARNINGS    OK  UNNEEDED, same version is already published
Package 28/65HostnameOS / ArchINSTALLBUILDCHECKBUILD BIN
gmapR 1.41.0  (landing page)
Michael Lawrence
git_last_commit: a0fba74
git_last_commit_date: 2023-02-17 08:58:46 -0400
nebbiolo1Linux (Ubuntu 22.04.1 LTS) / x86_64  OK    OK    WARNINGS  UNNEEDED, same version is already published
palomino3Windows Server 2022 Datacenter / x64... NOT SUPPORTED ...
merida1macOS 10.14.6 Mojave / x86_64  OK    OK    WARNINGS    OK  UNNEEDED, same version is already published
Package 29/65HostnameOS / ArchINSTALLBUILDCHECKBUILD BIN
gwascat 2.31.0  (landing page)
VJ Carey
git_last_commit: 667130c
git_last_commit_date: 2022-11-01 11:06:43 -0400
nebbiolo1Linux (Ubuntu 22.04.1 LTS) / x86_64  OK    OK    OK  UNNEEDED, same version is already published
palomino3Windows Server 2022 Datacenter / x64  OK    OK    OK    OK  UNNEEDED, same version is already published
merida1macOS 10.14.6 Mojave / x86_64  OK    OK    OK    OK  UNNEEDED, same version is already published
Package 30/65HostnameOS / ArchINSTALLBUILDCHECKBUILD BIN
gwasurvivr 1.17.0  (landing page)
Abbas Rizvi
git_last_commit: d4f31e3
git_last_commit_date: 2022-11-01 11:18:00 -0400
nebbiolo1Linux (Ubuntu 22.04.1 LTS) / x86_64  OK    OK    OK  UNNEEDED, same version is already published
palomino3Windows Server 2022 Datacenter / x64  OK    OK    OK    OK  UNNEEDED, same version is already published
merida1macOS 10.14.6 Mojave / x86_64  OK    OK    OK    OK  UNNEEDED, same version is already published
Package 31/65HostnameOS / ArchINSTALLBUILDCHECKBUILD BIN
HelloRanges 1.25.0  (landing page)
Michael Lawrence
git_last_commit: cd2ba49
git_last_commit_date: 2022-11-01 11:14:42 -0400
nebbiolo1Linux (Ubuntu 22.04.1 LTS) / x86_64  OK    OK    OK  UNNEEDED, same version is already published
palomino3Windows Server 2022 Datacenter / x64  OK    OK    OK    OK  UNNEEDED, same version is already published
merida1macOS 10.14.6 Mojave / x86_64  OK    OK    OK    OK  UNNEEDED, same version is already published
Package 32/65HostnameOS / ArchINSTALLBUILDCHECKBUILD BIN
HTSeqGenie 4.29.1  (landing page)
Jens Reeder
git_last_commit: e9b146a
git_last_commit_date: 2023-01-20 12:47:05 -0400
nebbiolo1Linux (Ubuntu 22.04.1 LTS) / x86_64  OK    OK    OK  UNNEEDED, same version is already published
palomino3Windows Server 2022 Datacenter / x64... NOT SUPPORTED ...
merida1macOS 10.14.6 Mojave / x86_64... NOT SUPPORTED ...
Package 33/65HostnameOS / ArchINSTALLBUILDCHECKBUILD BIN
icetea 1.17.0  (landing page)
Vivek Bhardwaj
git_last_commit: 52ec073
git_last_commit_date: 2022-11-01 11:18:00 -0400
nebbiolo1Linux (Ubuntu 22.04.1 LTS) / x86_64  OK    OK    OK  UNNEEDED, same version is already published
palomino3Windows Server 2022 Datacenter / x64  OK    OK    OK    OK  UNNEEDED, same version is already published
merida1macOS 10.14.6 Mojave / x86_64  OK    OK    OK    OK  UNNEEDED, same version is already published
Package 34/65HostnameOS / ArchINSTALLBUILDCHECKBUILD BIN
igvR 1.19.7  (landing page)
Paul Shannon
git_last_commit: 26e99bd
git_last_commit_date: 2023-03-13 16:58:32 -0400
nebbiolo1Linux (Ubuntu 22.04.1 LTS) / x86_64  OK    OK    WARNINGS  UNNEEDED, same version is already published
palomino3Windows Server 2022 Datacenter / x64  OK    OK    WARNINGS    OK  UNNEEDED, same version is already published
merida1macOS 10.14.6 Mojave / x86_64  OK    OK    WARNINGS    OK  UNNEEDED, same version is already published
Package 35/65HostnameOS / ArchINSTALLBUILDCHECKBUILD BIN
karyoploteR 1.25.0  (landing page)
Bernat Gel
git_last_commit: 051aa8b
git_last_commit_date: 2022-11-01 11:15:07 -0400
nebbiolo1Linux (Ubuntu 22.04.1 LTS) / x86_64  OK    OK    OK  UNNEEDED, same version is already published
palomino3Windows Server 2022 Datacenter / x64  OK    OK    OK    OK  UNNEEDED, same version is already published
merida1macOS 10.14.6 Mojave / x86_64  OK    OK    OK    OK  UNNEEDED, same version is already published
Package 36/65HostnameOS / ArchINSTALLBUILDCHECKBUILD BIN
katdetectr 1.1.3  (landing page)
Daan Hazelaar
git_last_commit: ac76967
git_last_commit_date: 2023-03-13 13:01:09 -0400
nebbiolo1Linux (Ubuntu 22.04.1 LTS) / x86_64  OK    OK    OK  UNNEEDED, same version is already published
palomino3Windows Server 2022 Datacenter / x64  OK    OK    OK    OK  UNNEEDED, same version is already published
merida1macOS 10.14.6 Mojave / x86_64  OK    OK    OK    OK  UNNEEDED, same version is already published
Package 37/65HostnameOS / ArchINSTALLBUILDCHECKBUILD BIN
lineagespot 1.3.0  (landing page)
Nikolaos Pechlivanis
git_last_commit: 22347a2
git_last_commit_date: 2022-11-01 11:26:25 -0400
nebbiolo1Linux (Ubuntu 22.04.1 LTS) / x86_64  OK    OK    OK  UNNEEDED, same version is already published
palomino3Windows Server 2022 Datacenter / x64  OK    OK    OK    OK  UNNEEDED, same version is already published
merida1macOS 10.14.6 Mojave / x86_64  OK    OK    OK    OK  UNNEEDED, same version is already published
Package 38/65HostnameOS / ArchINSTALLBUILDCHECKBUILD BIN
MADSEQ 1.25.0  (landing page)
Yu Kong
git_last_commit: 3fde695
git_last_commit_date: 2022-11-01 11:13:50 -0400
nebbiolo1Linux (Ubuntu 22.04.1 LTS) / x86_64  OK    OK    OK  UNNEEDED, same version is already published
palomino3Windows Server 2022 Datacenter / x64  OK    OK    OK    OK  UNNEEDED, same version is already published
merida1macOS 10.14.6 Mojave / x86_64  OK    OK    OK    OK  UNNEEDED, same version is already published
Package 39/65HostnameOS / ArchINSTALLBUILDCHECKBUILD BIN
MMAPPR2 1.13.0  (landing page)
Jonathon Hill
git_last_commit: 3719f84
git_last_commit_date: 2022-11-01 11:20:05 -0400
nebbiolo1Linux (Ubuntu 22.04.1 LTS) / x86_64  OK    OK    OK  UNNEEDED, same version is already published
palomino3Windows Server 2022 Datacenter / x64... NOT SUPPORTED ...
merida1macOS 10.14.6 Mojave / x86_64  OK    OK    OK    OK  UNNEEDED, same version is already published
Package 40/65HostnameOS / ArchINSTALLBUILDCHECKBUILD BIN
motifbreakR 2.13.7  (landing page)
Simon Gert Coetzee
git_last_commit: 842b0f5
git_last_commit_date: 2023-03-06 13:26:43 -0400
nebbiolo1Linux (Ubuntu 22.04.1 LTS) / x86_64  OK    OK    OK  UNNEEDED, same version is already published
palomino3Windows Server 2022 Datacenter / x64  OK    OK    WARNINGS    OK  UNNEEDED, same version is already published
merida1macOS 10.14.6 Mojave / x86_64  OK    OK    OK    OK  UNNEEDED, same version is already published
Package 41/65HostnameOS / ArchINSTALLBUILDCHECKBUILD BIN
MungeSumstats 1.7.19  (landing page)
Alan Murphy
git_last_commit: e47b9b2
git_last_commit_date: 2023-02-21 12:29:32 -0400
nebbiolo1Linux (Ubuntu 22.04.1 LTS) / x86_64  OK    OK    OK  UNNEEDED, same version is already published
palomino3Windows Server 2022 Datacenter / x64  OK    OK    OK    OK  UNNEEDED, same version is already published
merida1macOS 10.14.6 Mojave / x86_64  OK    OK    OK    OK  UNNEEDED, same version is already published
Package 42/65HostnameOS / ArchINSTALLBUILDCHECKBUILD BIN
musicatk 1.9.0  (landing page)
Aaron Chevalier
git_last_commit: 69829e2
git_last_commit_date: 2022-11-01 11:23:15 -0400
nebbiolo1Linux (Ubuntu 22.04.1 LTS) / x86_64  OK    OK    OK  NO, package depends on 'TCGAbiolinks' which is not available
palomino3Windows Server 2022 Datacenter / x64  OK    OK    OK    OK  UNNEEDED, same version is already published
merida1macOS 10.14.6 Mojave / x86_64  OK    OK    OK    OK  UNNEEDED, same version is already published
Package 43/65HostnameOS / ArchINSTALLBUILDCHECKBUILD BIN
MutationalPatterns 3.9.1  (landing page)
Mark van Roosmalen
git_last_commit: b8898d2
git_last_commit_date: 2023-01-11 01:57:43 -0400
nebbiolo1Linux (Ubuntu 22.04.1 LTS) / x86_64  OK    OK    OK  UNNEEDED, same version is already published
palomino3Windows Server 2022 Datacenter / x64  OK    OK    OK    OK  UNNEEDED, same version is already published
merida1macOS 10.14.6 Mojave / x86_64  OK    OK    OK    OK  UNNEEDED, same version is already published
Package 44/65HostnameOS / ArchINSTALLBUILDCHECKBUILD BIN
myvariant 1.29.0  (landing page)
Adam Mark, Chunlei Wu
git_last_commit: 15fafd6
git_last_commit_date: 2022-11-01 11:12:05 -0400
nebbiolo1Linux (Ubuntu 22.04.1 LTS) / x86_64  OK    OK    OK  UNNEEDED, same version is already published
palomino3Windows Server 2022 Datacenter / x64  OK    OK    OK    OK  UNNEEDED, same version is already published
merida1macOS 10.14.6 Mojave / x86_64  OK    OK    OK    OK  UNNEEDED, same version is already published
Package 45/65HostnameOS / ArchINSTALLBUILDCHECKBUILD BIN
ProteoDisco 1.5.0  (landing page)
Job van Riet
git_last_commit: b1a2ab6
git_last_commit_date: 2022-11-01 11:25:34 -0400
nebbiolo1Linux (Ubuntu 22.04.1 LTS) / x86_64  OK    OK    WARNINGS  UNNEEDED, same version is already published
palomino3Windows Server 2022 Datacenter / x64  OK    OK    WARNINGS    OK  UNNEEDED, same version is already published
merida1macOS 10.14.6 Mojave / x86_64  OK    OK    WARNINGS    OK  UNNEEDED, same version is already published
Package 46/65HostnameOS / ArchINSTALLBUILDCHECKBUILD BIN
PureCN 2.5.0  (landing page)
Markus Riester
git_last_commit: 7d7d59b
git_last_commit_date: 2022-11-01 11:13:36 -0400
nebbiolo1Linux (Ubuntu 22.04.1 LTS) / x86_64  OK    OK    OK  UNNEEDED, same version is already published
palomino3Windows Server 2022 Datacenter / x64  OK    OK    OK    OK  UNNEEDED, same version is already published
merida1macOS 10.14.6 Mojave / x86_64  OK    OK    TIMEOUT    OK  
Package 47/65HostnameOS / ArchINSTALLBUILDCHECKBUILD BIN
R453Plus1Toolbox 1.49.0  (landing page)
Hans-Ulrich Klein
git_last_commit: 7b302c5
git_last_commit_date: 2022-11-01 11:05:23 -0400
nebbiolo1Linux (Ubuntu 22.04.1 LTS) / x86_64  OK    OK    OK  UNNEEDED, same version is already published
palomino3Windows Server 2022 Datacenter / x64  OK    OK    OK    OK  UNNEEDED, same version is already published
merida1macOS 10.14.6 Mojave / x86_64  OK    OK    OK    OK  UNNEEDED, same version is already published
Package 48/65HostnameOS / ArchINSTALLBUILDCHECKBUILD BIN
RareVariantVis 2.27.0  (landing page)
Tomasz Stokowy
git_last_commit: cf766a6
git_last_commit_date: 2022-11-01 11:11:46 -0400
nebbiolo1Linux (Ubuntu 22.04.1 LTS) / x86_64  OK    OK    OK  UNNEEDED, same version is already published
palomino3Windows Server 2022 Datacenter / x64  OK    OK    OK    OK  UNNEEDED, same version is already published
merida1macOS 10.14.6 Mojave / x86_64  OK    OK    OK    OK  UNNEEDED, same version is already published
Package 49/65HostnameOS / ArchINSTALLBUILDCHECKBUILD BIN
scoreInvHap 1.21.0  (landing page)
Dolors Pelegri-Siso
git_last_commit: 391aa10
git_last_commit_date: 2022-11-01 11:15:54 -0400
nebbiolo1Linux (Ubuntu 22.04.1 LTS) / x86_64  OK    OK    OK  UNNEEDED, same version is already published
palomino3Windows Server 2022 Datacenter / x64  OK    OK    OK    OK  UNNEEDED, same version is already published
merida1macOS 10.14.6 Mojave / x86_64  OK    OK    OK    OK  UNNEEDED, same version is already published
Package 50/65HostnameOS / ArchINSTALLBUILDCHECKBUILD BIN
seqCAT 1.21.0  (landing page)
Erik Fasterius
git_last_commit: f2a5e1b
git_last_commit_date: 2022-11-01 11:16:23 -0400
nebbiolo1Linux (Ubuntu 22.04.1 LTS) / x86_64  OK    OK    OK  UNNEEDED, same version is already published
palomino3Windows Server 2022 Datacenter / x64  OK    OK    OK    OK  UNNEEDED, same version is already published
merida1macOS 10.14.6 Mojave / x86_64  OK    OK    OK    OK  UNNEEDED, same version is already published
Package 51/65HostnameOS / ArchINSTALLBUILDCHECKBUILD BIN
signeR 2.1.0  (landing page)
Renan Valieris
git_last_commit: 6b1bbe2
git_last_commit_date: 2022-11-01 11:14:23 -0400
nebbiolo1Linux (Ubuntu 22.04.1 LTS) / x86_64  OK    OK    OK  UNNEEDED, same version is already published
palomino3Windows Server 2022 Datacenter / x64  OK    OK    OK    OK  UNNEEDED, same version is already published
merida1macOS 10.14.6 Mojave / x86_64  OK    OK    WARNINGS    OK  UNNEEDED, same version is already published
Package 52/65HostnameOS / ArchINSTALLBUILDCHECKBUILD BIN
SigsPack 1.13.0  (landing page)
Franziska Schumann
git_last_commit: 67c7ad0
git_last_commit_date: 2022-11-01 11:20:21 -0400
nebbiolo1Linux (Ubuntu 22.04.1 LTS) / x86_64  OK    OK    OK  UNNEEDED, same version is already published
palomino3Windows Server 2022 Datacenter / x64  OK    OK    OK    OK  UNNEEDED, same version is already published
merida1macOS 10.14.6 Mojave / x86_64  OK    OK    OK    OK  UNNEEDED, same version is already published
Package 53/65HostnameOS / ArchINSTALLBUILDCHECKBUILD BIN
SNPhood 1.29.0  (landing page)
Christian Arnold
git_last_commit: 4ae9902
git_last_commit_date: 2022-11-01 11:12:26 -0400
nebbiolo1Linux (Ubuntu 22.04.1 LTS) / x86_64  OK    OK    ERROR  
palomino3Windows Server 2022 Datacenter / x64  OK    OK    ERROR    OK  
merida1macOS 10.14.6 Mojave / x86_64  OK    OK    ERROR    OK  
Package 54/65HostnameOS / ArchINSTALLBUILDCHECKBUILD BIN
SomaticSignatures 2.35.0  (landing page)
Julian Gehring
git_last_commit: 4de401f
git_last_commit_date: 2022-11-01 11:09:11 -0400
nebbiolo1Linux (Ubuntu 22.04.1 LTS) / x86_64  OK    OK    OK  UNNEEDED, same version is already published
palomino3Windows Server 2022 Datacenter / x64  OK    OK    OK    OK  UNNEEDED, same version is already published
merida1macOS 10.14.6 Mojave / x86_64  OK    OK    OK    OK  UNNEEDED, same version is already published
Package 55/65HostnameOS / ArchINSTALLBUILDCHECKBUILD BIN
StructuralVariantAnnotation 1.15.0  (landing page)
Daniel Cameron
git_last_commit: e750b49
git_last_commit_date: 2023-01-28 21:51:31 -0400
nebbiolo1Linux (Ubuntu 22.04.1 LTS) / x86_64  OK    OK    OK  UNNEEDED, same version is already published
palomino3Windows Server 2022 Datacenter / x64  OK    OK    OK    OK  UNNEEDED, same version is already published
merida1macOS 10.14.6 Mojave / x86_64  OK    OK    OK    OK  UNNEEDED, same version is already published
Package 56/65HostnameOS / ArchINSTALLBUILDCHECKBUILD BIN
svaNUMT 1.5.0  (landing page)
Ruining Dong
git_last_commit: 95f8ec8
git_last_commit_date: 2022-11-01 11:25:17 -0400
nebbiolo1Linux (Ubuntu 22.04.1 LTS) / x86_64  OK    OK    OK  UNNEEDED, same version is already published
palomino3Windows Server 2022 Datacenter / x64  OK    OK    OK    OK  UNNEEDED, same version is already published
merida1macOS 10.14.6 Mojave / x86_64  OK    OK    OK    OK  UNNEEDED, same version is already published
Package 57/65HostnameOS / ArchINSTALLBUILDCHECKBUILD BIN
svaRetro 1.5.0  (landing page)
Ruining Dong
git_last_commit: afe429d
git_last_commit_date: 2022-11-01 11:25:33 -0400
nebbiolo1Linux (Ubuntu 22.04.1 LTS) / x86_64  OK    OK    OK  UNNEEDED, same version is already published
palomino3Windows Server 2022 Datacenter / x64  OK    OK    OK    OK  UNNEEDED, same version is already published
merida1macOS 10.14.6 Mojave / x86_64  OK    OK    OK    OK  UNNEEDED, same version is already published
Package 58/65HostnameOS / ArchINSTALLBUILDCHECKBUILD BIN
TitanCNA 1.37.0  (landing page)
Gavin Ha
git_last_commit: 5c82ab3
git_last_commit_date: 2022-11-01 11:09:35 -0400
nebbiolo1Linux (Ubuntu 22.04.1 LTS) / x86_64  OK    OK    WARNINGS  UNNEEDED, same version is already published
palomino3Windows Server 2022 Datacenter / x64  OK    OK    WARNINGS    OK  UNNEEDED, same version is already published
merida1macOS 10.14.6 Mojave / x86_64  OK    OK    WARNINGS    OK  UNNEEDED, same version is already published
Package 59/65HostnameOS / ArchINSTALLBUILDCHECKBUILD BIN
tLOH 1.7.0  (landing page)
Michelle Webb
git_last_commit: 73bffad
git_last_commit_date: 2022-11-01 11:24:47 -0400
nebbiolo1Linux (Ubuntu 22.04.1 LTS) / x86_64  OK    OK    OK  UNNEEDED, same version is already published
palomino3Windows Server 2022 Datacenter / x64  OK    OK    OK    OK  UNNEEDED, same version is already published
merida1macOS 10.14.6 Mojave / x86_64  OK    OK    OK    OK  UNNEEDED, same version is already published
Package 60/65HostnameOS / ArchINSTALLBUILDCHECKBUILD BIN
TVTB 1.25.0  (landing page)
Kevin Rue-Albrecht
git_last_commit: 29ddae8
git_last_commit_date: 2022-11-01 11:14:45 -0400
nebbiolo1Linux (Ubuntu 22.04.1 LTS) / x86_64  OK    OK    WARNINGS  UNNEEDED, same version is already published
palomino3Windows Server 2022 Datacenter / x64... NOT SUPPORTED ...
merida1macOS 10.14.6 Mojave / x86_64  OK    OK    WARNINGS    OK  UNNEEDED, same version is already published
Package 61/65HostnameOS / ArchINSTALLBUILDCHECKBUILD BIN
Uniquorn 2.19.0  (landing page)
'Raik Otto'
git_last_commit: f72547b
git_last_commit_date: 2022-11-01 11:13:05 -0400
nebbiolo1Linux (Ubuntu 22.04.1 LTS) / x86_64  OK    OK    OK  UNNEEDED, same version is already published
palomino3Windows Server 2022 Datacenter / x64  OK    OK    OK    OK  UNNEEDED, same version is already published
merida1macOS 10.14.6 Mojave / x86_64  OK    OK    OK    OK  UNNEEDED, same version is already published
Package 62/65HostnameOS / ArchINSTALLBUILDCHECKBUILD BIN
VariantFiltering 1.35.0  (landing page)
Robert Castelo
git_last_commit: 7638b6f
git_last_commit_date: 2022-11-01 11:09:33 -0400
nebbiolo1Linux (Ubuntu 22.04.1 LTS) / x86_64  OK    OK    WARNINGS  UNNEEDED, same version is already published
palomino3Windows Server 2022 Datacenter / x64  OK    OK    WARNINGS    OK  UNNEEDED, same version is already published
merida1macOS 10.14.6 Mojave / x86_64  OK    OK    WARNINGS    OK  UNNEEDED, same version is already published
Package 63/65HostnameOS / ArchINSTALLBUILDCHECKBUILD BIN
VariantTools 1.41.0  (landing page)
Michael Lawrence
git_last_commit: d61fc40
git_last_commit_date: 2022-11-01 11:07:33 -0400
nebbiolo1Linux (Ubuntu 22.04.1 LTS) / x86_64  OK    OK    WARNINGS  UNNEEDED, same version is already published
palomino3Windows Server 2022 Datacenter / x64  OK    OK    WARNINGS    OK  UNNEEDED, same version is already published
merida1macOS 10.14.6 Mojave / x86_64  OK    OK    WARNINGS    OK  UNNEEDED, same version is already published
Package 64/65HostnameOS / ArchINSTALLBUILDCHECKBUILD BIN
VCFArray 1.15.0  (landing page)
Qian Liu
git_last_commit: e5d8b6e
git_last_commit_date: 2022-11-01 11:19:00 -0400
nebbiolo1Linux (Ubuntu 22.04.1 LTS) / x86_64  OK    OK    OK  UNNEEDED, same version is already published
palomino3Windows Server 2022 Datacenter / x64  OK    OK    OK    OK  UNNEEDED, same version is already published
merida1macOS 10.14.6 Mojave / x86_64  OK    OK    OK    OK  UNNEEDED, same version is already published
Package 65/65HostnameOS / ArchINSTALLBUILDCHECKBUILD BIN
YAPSA 1.25.0  (landing page)
Daniel Huebschmann
git_last_commit: 68115ee
git_last_commit_date: 2022-11-01 11:14:20 -0400
nebbiolo1Linux (Ubuntu 22.04.1 LTS) / x86_64  OK    OK    ERROR  
palomino3Windows Server 2022 Datacenter / x64  OK    OK    ERROR    OK  
merida1macOS 10.14.6 Mojave / x86_64  OK    OK    ERROR    OK