Back to Multiple platform build/check report for BioC 3.16
ABCDEFGHIJKLMNOPQRS[T]UVWXYZ

This page was generated on 2022-08-11 11:09:08 -0400 (Thu, 11 Aug 2022).

HostnameOSArch (*)R versionInstalled pkgs
nebbiolo2Linux (Ubuntu 20.04.4 LTS)x86_644.2.1 (2022-06-23) -- "Funny-Looking Kid" 4375
palomino4Windows Server 2022 Datacenterx644.2.1 (2022-06-23 ucrt) -- "Funny-Looking Kid" 4159
lconwaymacOS 12.2.1 Montereyx86_644.2.1 Patched (2022-07-09 r82577) -- "Funny-Looking Kid" 4165
Click on any hostname to see more info about the system (e.g. compilers)      (*) as reported by 'uname -p', except on Windows and Mac OS X

BUILD results for traviz on lconway


To the developers/maintainers of the traviz package:
- Please allow up to 24 hours (and sometimes 48 hours) for your latest push to git@git.bioconductor.org:packages/traviz.git to
reflect on this report. See How and When does the builder pull? When will my changes propagate? for more information.
- Make sure to use the following settings in order to reproduce any error or warning you see on this page.

raw results

Package 2045/2139HostnameOS / ArchINSTALLBUILDCHECKBUILD BIN
traviz 1.3.0  (landing page)
Koen Van den Berge
Snapshot Date: 2022-08-10 14:00:02 -0400 (Wed, 10 Aug 2022)
git_url: https://git.bioconductor.org/packages/traviz
git_branch: master
git_last_commit: a7d34ef
git_last_commit_date: 2022-04-26 12:17:44 -0400 (Tue, 26 Apr 2022)
nebbiolo2Linux (Ubuntu 20.04.4 LTS) / x86_64  OK    OK    OK  UNNEEDED, same version is already published
palomino4Windows Server 2022 Datacenter / x64  OK    OK    OK    OK  UNNEEDED, same version is already published
lconwaymacOS 12.2.1 Monterey / x86_64  ERROR    ERROR  skippedskipped

Summary

Package: traviz
Version: 1.3.0
Command: /Library/Frameworks/R.framework/Resources/bin/R CMD build --keep-empty-dirs --no-resave-data traviz
StartedAt: 2022-08-10 18:16:26 -0400 (Wed, 10 Aug 2022)
EndedAt: 2022-08-10 18:16:33 -0400 (Wed, 10 Aug 2022)
EllapsedTime: 7.6 seconds
RetCode: 1
Status:   ERROR  
PackageFile: None
PackageFileSize: NA

Command output

##############################################################################
##############################################################################
###
### Running command:
###
###   /Library/Frameworks/R.framework/Resources/bin/R CMD build --keep-empty-dirs --no-resave-data traviz
###
##############################################################################
##############################################################################


* checking for file ‘traviz/DESCRIPTION’ ... OK
* preparing ‘traviz’:
* checking DESCRIPTION meta-information ... OK
* installing the package to build vignettes
      -----------------------------------
* installing *source* package ‘traviz’ ...
** using staged installation
** R
** data
** byte-compile and prepare package for lazy loading
ERROR: lazy loading failed for package ‘traviz’
* removing ‘/private/tmp/RtmpNJFuvd/Rinst73e67ae5ea84/traviz’
      -----------------------------------
ERROR: package installation failed