Back to Multiple platform build/check report for BioC 3.11
ABCDEFGHIJKLMNOPQRSTUV[W]XYZ

Multiple platform build/check report for BioC 3.11

Results for Wrench

This page was generated on 2020-04-06 13:19:54 -0400 (Mon, 06 Apr 2020).

Package 1841/1857HostnameOS / ArchINSTALLBUILDCHECKBUILD BIN
Wrench 1.5.0
Hector Corrada Bravo
Snapshot Date: 2020-04-05 16:45:17 -0400 (Sun, 05 Apr 2020)
URL: https://git.bioconductor.org/packages/Wrench
Branch: master
Last Commit: f9ef411
Last Changed Date: 2019-10-29 13:43:21 -0400 (Tue, 29 Oct 2019)
malbec2 Linux (Ubuntu 18.04.4 LTS) / x86_64  OK  OK  OK UNNEEDED, same version exists in internal repository
tokay2 Windows Server 2012 R2 Standard / x64  OK  OK  OK  NA