Back to Multiple platform build/check report for BioC 3.18:   simplified   long
ABCDEFGHIJKLMNOPQR[S]TUVWXYZ

This page was generated on 2023-06-01 11:30:31 -0400 (Thu, 01 Jun 2023).

HostnameOSArch (*)R versionInstalled pkgs
nebbiolo2Linux (Ubuntu 22.04.2 LTS)x86_644.3.0 RC (2023-04-18 r84287) -- "Already Tomorrow" 4588
palomino4Windows Server 2022 Datacenterx644.3.0 RC (2023-04-18 r84287 ucrt) -- "Already Tomorrow" 4337
lconwaymacOS 12.6.5 Montereyx86_644.3.0 RC (2023-04-13 r84266) -- "Already Tomorrow" 4338
Click on any hostname to see more info about the system (e.g. compilers)      (*) as reported by 'uname -p', except on Windows and Mac OS X

All results for package SeqVarTools


To the developers/maintainers of the SeqVarTools package:
- Allow up to 24 hours (and sometimes 48 hours) for your latest push to git@git.bioconductor.org:packages/SeqVarTools.git to reflect on this report. See Troubleshooting Build Report for more information.

- Use the following Renviron settings to reproduce errors and warnings.

Note: If "R CMD check" recently failed on the Linux builder over a missing dependency, add the missing dependency to "Suggests" in your DESCRIPTION file. See the Renviron.bioc for details.

raw results

Package 1867/2197HostnameOS / ArchINSTALLBUILDCHECKBUILD BIN
SeqVarTools 1.39.0  (landing page)
Stephanie M. Gogarten
Snapshot Date: 2023-05-31 14:00:03 -0400 (Wed, 31 May 2023)
git_url: https://git.bioconductor.org/packages/SeqVarTools
git_branch: devel
git_last_commit: fa2a136
git_last_commit_date: 2023-04-25 10:28:13 -0400 (Tue, 25 Apr 2023)
nebbiolo2Linux (Ubuntu 22.04.2 LTS) / x86_64  OK    OK    OK  UNNEEDED, same version is already published
palomino4Windows Server 2022 Datacenter / x64  OK    OK    OK    OK  
lconwaymacOS 12.6.5 Monterey / x86_64  OK    OK    OK    OK  

Results for Bioconductor software packages that depend directly on package SeqVarTools

QUICK STATSOS / ArchINSTALLBUILDCHECKBUILD BIN
nebbiolo2Linux (Ubuntu 22.04.2 LTS) / x86_64
001
001
0001
palomino4Windows Server 2022 Datacenter / x64
001
001
0001
001
lconwaymacOS 12.6.5 Monterey / x86_64
001
001
0001
001
Package 1/1HostnameOS / ArchINSTALLBUILDCHECKBUILD BIN
GENESIS 2.31.0  (landing page)
Stephanie M. Gogarten
git_last_commit: 47ed382
git_last_commit_date: 2023-04-25 10:38:20 -0400
nebbiolo2Linux (Ubuntu 22.04.2 LTS) / x86_64  OK    OK    OK  UNNEEDED, same version is already published
palomino4Windows Server 2022 Datacenter / x64  OK    OK    OK    OK  
lconwaymacOS 12.6.5 Monterey / x86_64  OK    OK    OK    OK