Back to Multiple platform build/check report for BioC 3.14
ABCDEFGHIJKL[M]NOPQRSTUVWXYZ

This page was generated on 2021-10-23 14:06:05 -0400 (Sat, 23 Oct 2021).

BUILD results for moanin on nebbiolo2

To the developers/maintainers of the moanin package:
- Please allow up to 24 hours (and sometimes 48 hours) for your latest push to git@git.bioconductor.org:packages/moanin.git to
reflect on this report. See How and When does the builder pull? When will my changes propagate? here for more information.
- Make sure to use the following settings in order to reproduce any error or warning you see on this page.

raw results

Package 1186/2083HostnameOS / ArchINSTALLBUILDCHECKBUILD BIN
moanin 1.1.2  (landing page)
Nelle Varoquaux
Snapshot Date: 2021-10-22 14:50:11 -0400 (Fri, 22 Oct 2021)
git_url: https://git.bioconductor.org/packages/moanin
git_branch: master
git_last_commit: accf927
git_last_commit_date: 2021-07-28 03:11:56 -0400 (Wed, 28 Jul 2021)
nebbiolo2Linux (Ubuntu 20.04.2 LTS) / x86_64  OK    OK    OK  UNNEEDED, same version is already published
riesling1Windows Server 2019 Standard / x64  OK    OK    OK    OK  UNNEEDED, same version is already published
merida1macOS 10.14.6 Mojave / x86_64  OK    OK    OK    OK  UNNEEDED, same version is already published

Summary

Package: moanin
Version: 1.1.2
Command: /home/biocbuild/bbs-3.14-bioc/R/bin/R CMD build --keep-empty-dirs --no-resave-data moanin
StartedAt: 2021-10-22 17:48:30 -0400 (Fri, 22 Oct 2021)
EndedAt: 2021-10-22 17:49:43 -0400 (Fri, 22 Oct 2021)
EllapsedTime: 73.6 seconds
RetCode: 0
Status:   OK  
PackageFile: moanin_1.1.2.tar.gz
PackageFileSize: 522.4 KiB

Command output

##############################################################################
##############################################################################
###
### Running command:
###
###   /home/biocbuild/bbs-3.14-bioc/R/bin/R CMD build --keep-empty-dirs --no-resave-data moanin
###
##############################################################################
##############################################################################


* checking for file ‘moanin/DESCRIPTION’ ... OK
* preparing ‘moanin’:
* checking DESCRIPTION meta-information ... OK
* installing the package to build vignettes
* creating vignettes ... OK
* checking for LF line-endings in source and make files and shell scripts
* checking for empty or unneeded directories
* looking to see if a ‘data/datalist’ file should be added
* building ‘moanin_1.1.2.tar.gz’