Back to Multiple platform build/check report for BioC 3.18:   simplified   long
ABCDEFGHIJKLMNOPQ[R]STUVWXYZ

This page was generated on 2023-09-21 11:35:55 -0400 (Thu, 21 Sep 2023).

HostnameOSArch (*)R versionInstalled pkgs
nebbiolo2Linux (Ubuntu 22.04.2 LTS)x86_644.3.1 (2023-06-16) -- "Beagle Scouts" 4654
palomino4Windows Server 2022 Datacenterx644.3.1 (2023-06-16 ucrt) -- "Beagle Scouts" 4388
lconwaymacOS 12.6.5 Montereyx86_644.3.1 Patched (2023-06-17 r84564) -- "Beagle Scouts" 4402
kunpeng2Linux (openEuler 22.03 LTS-SP1)aarch644.3.1 (2023-06-16) -- "Beagle Scouts" 4391
Click on any hostname to see more info about the system (e.g. compilers)      (*) as reported by 'uname -p', except on Windows and Mac OS X

All results for package rhdf5


To the developers/maintainers of the rhdf5 package:
- Allow up to 24 hours (and sometimes 48 hours) for your latest push to git@git.bioconductor.org:packages/rhdf5.git to reflect on this report. See Troubleshooting Build Report for more information.
- Use the following Renviron settings to reproduce errors and warnings.
- If 'R CMD check' started to fail recently on the Linux builder(s) over a missing dependency, add the missing dependency to 'Suggests:' in your DESCRIPTION file. See Renviron.bioc for more information.

raw results

Package 1710/2229HostnameOS / ArchINSTALLBUILDCHECKBUILD BIN
rhdf5 2.45.1  (landing page)
Mike Smith
Snapshot Date: 2023-09-20 14:05:05 -0400 (Wed, 20 Sep 2023)
git_url: https://git.bioconductor.org/packages/rhdf5
git_branch: devel
git_last_commit: 377ccdd
git_last_commit_date: 2023-07-10 05:37:33 -0400 (Mon, 10 Jul 2023)
nebbiolo2Linux (Ubuntu 22.04.2 LTS) / x86_64  OK    OK    WARNINGS  UNNEEDED, same version is already published
palomino4Windows Server 2022 Datacenter / x64  OK    OK    OK    OK  UNNEEDED, same version is already published
lconwaymacOS 12.6.5 Monterey / x86_64  OK    OK    WARNINGS    OK  UNNEEDED, same version is already published
kunpeng2Linux (openEuler 22.03 LTS-SP1) / aarch64  OK    OK    WARNINGS  

Results for Bioconductor software packages that depend directly on package rhdf5

QUICK STATSOS / ArchINSTALLBUILDCHECKBUILD BIN
nebbiolo2Linux (Ubuntu 22.04.2 LTS) / x86_64
0046
0046
02935
palomino4Windows Server 2022 Datacenter / x64
0046
0145
01539
0045
lconwaymacOS 12.6.5 Monterey / x86_64
0046
0046
011035
0046
kunpeng2Linux (openEuler 22.03 LTS-SP1) / aarch64
0046
0145
16731
Package 1/46HostnameOS / ArchINSTALLBUILDCHECKBUILD BIN
alabaster.base 1.1.2  (landing page)
Aaron Lun
git_last_commit: 8d50faf
git_last_commit_date: 2023-08-15 01:18:06 -0400
nebbiolo2Linux (Ubuntu 22.04.2 LTS) / x86_64  OK    OK    WARNINGS  UNNEEDED, same version is already published
palomino4Windows Server 2022 Datacenter / x64  OK    OK    OK    OK  UNNEEDED, same version is already published
lconwaymacOS 12.6.5 Monterey / x86_64  OK    OK    WARNINGS    OK  UNNEEDED, same version is already published
kunpeng2Linux (openEuler 22.03 LTS-SP1) / aarch64  OK    OK    WARNINGS  
Package 2/46HostnameOS / ArchINSTALLBUILDCHECKBUILD BIN
alabaster.matrix 1.1.4  (landing page)
Aaron Lun
git_last_commit: f600ac6
git_last_commit_date: 2023-07-10 15:29:00 -0400
nebbiolo2Linux (Ubuntu 22.04.2 LTS) / x86_64  OK    OK    OK  UNNEEDED, same version is already published
palomino4Windows Server 2022 Datacenter / x64  OK    OK    OK    OK  UNNEEDED, same version is already published
lconwaymacOS 12.6.5 Monterey / x86_64  OK    OK    OK    OK  UNNEEDED, same version is already published
kunpeng2Linux (openEuler 22.03 LTS-SP1) / aarch64  OK    OK    OK  
Package 3/46HostnameOS / ArchINSTALLBUILDCHECKBUILD BIN
BayesSpace 1.11.0  (landing page)
Matt Stone
git_last_commit: 628a1b8
git_last_commit_date: 2023-04-25 11:23:28 -0400
nebbiolo2Linux (Ubuntu 22.04.2 LTS) / x86_64  OK    OK    OK  UNNEEDED, same version is already published
palomino4Windows Server 2022 Datacenter / x64  OK    OK    OK    OK  UNNEEDED, same version is already published
lconwaymacOS 12.6.5 Monterey / x86_64  OK    OK    OK    OK  UNNEEDED, same version is already published
kunpeng2Linux (openEuler 22.03 LTS-SP1) / aarch64  OK    OK    OK  
Package 4/46HostnameOS / ArchINSTALLBUILDCHECKBUILD BIN
BgeeCall 1.17.0  (landing page)
Julien Wollbrett
git_last_commit: 2a21090
git_last_commit_date: 2023-04-25 11:14:49 -0400
nebbiolo2Linux (Ubuntu 22.04.2 LTS) / x86_64  OK    OK    OK  UNNEEDED, same version is already published
palomino4Windows Server 2022 Datacenter / x64  OK    OK    OK    OK  UNNEEDED, same version is already published
lconwaymacOS 12.6.5 Monterey / x86_64  OK    OK    OK    OK  UNNEEDED, same version is already published
kunpeng2Linux (openEuler 22.03 LTS-SP1) / aarch64  OK    OK    OK  
Package 5/46HostnameOS / ArchINSTALLBUILDCHECKBUILD BIN
biomformat 1.29.1  (landing page)
Paul J. McMurdie
git_last_commit: 0de05b1
git_last_commit_date: 2023-08-01 19:49:07 -0400
nebbiolo2Linux (Ubuntu 22.04.2 LTS) / x86_64  OK    OK    WARNINGS  UNNEEDED, same version is already published
palomino4Windows Server 2022 Datacenter / x64  OK    OK    WARNINGS    OK  UNNEEDED, same version is already published
lconwaymacOS 12.6.5 Monterey / x86_64  OK    OK    WARNINGS    OK  UNNEEDED, same version is already published
kunpeng2Linux (openEuler 22.03 LTS-SP1) / aarch64  OK    OK    WARNINGS  
Package 6/46HostnameOS / ArchINSTALLBUILDCHECKBUILD BIN
bnbc 1.23.0  (landing page)
Kipper Fletez-Brant
git_last_commit: f056b4b
git_last_commit_date: 2023-07-22 10:57:45 -0400
nebbiolo2Linux (Ubuntu 22.04.2 LTS) / x86_64  OK    OK    ERROR  
palomino4Windows Server 2022 Datacenter / x64  OK    OK    WARNINGS    OK  UNNEEDED, same version is already published
lconwaymacOS 12.6.5 Monterey / x86_64  OK    OK    WARNINGS    OK  UNNEEDED, same version is already published
kunpeng2Linux (openEuler 22.03 LTS-SP1) / aarch64  OK    OK    ERROR  
Package 7/46HostnameOS / ArchINSTALLBUILDCHECKBUILD BIN
bsseq 1.37.0  (landing page)
Kasper Daniel Hansen
git_last_commit: c70d385
git_last_commit_date: 2023-04-25 10:23:31 -0400
nebbiolo2Linux (Ubuntu 22.04.2 LTS) / x86_64  OK    OK    OK  UNNEEDED, same version is already published
palomino4Windows Server 2022 Datacenter / x64  OK    OK    OK    OK  UNNEEDED, same version is already published
lconwaymacOS 12.6.5 Monterey / x86_64  OK    OK    OK    OK  UNNEEDED, same version is already published
kunpeng2Linux (openEuler 22.03 LTS-SP1) / aarch64  OK    OK    OK  
Package 8/46HostnameOS / ArchINSTALLBUILDCHECKBUILD BIN
chihaya 1.1.1  (landing page)
Aaron Lun
git_last_commit: d59ff43
git_last_commit_date: 2023-07-23 01:35:26 -0400
nebbiolo2Linux (Ubuntu 22.04.2 LTS) / x86_64  OK    OK    WARNINGS  UNNEEDED, same version is already published
palomino4Windows Server 2022 Datacenter / x64  OK    OK    OK    OK  UNNEEDED, same version is already published
lconwaymacOS 12.6.5 Monterey / x86_64  OK    OK    WARNINGS    OK  UNNEEDED, same version is already published
kunpeng2Linux (openEuler 22.03 LTS-SP1) / aarch64  OK    OK    WARNINGS  
Package 9/46HostnameOS / ArchINSTALLBUILDCHECKBUILD BIN
CiteFuse 1.13.0  (landing page)
Yingxin Lin
git_last_commit: 0aece63
git_last_commit_date: 2023-04-25 11:17:18 -0400
nebbiolo2Linux (Ubuntu 22.04.2 LTS) / x86_64  OK    OK    OK  UNNEEDED, same version is already published
palomino4Windows Server 2022 Datacenter / x64  OK    OK    OK    OK  UNNEEDED, same version is already published
lconwaymacOS 12.6.5 Monterey / x86_64  OK    OK    OK    OK  UNNEEDED, same version is already published
kunpeng2Linux (openEuler 22.03 LTS-SP1) / aarch64  OK    OK    OK  
Package 10/46HostnameOS / ArchINSTALLBUILDCHECKBUILD BIN
cmapR 1.13.0  (landing page)
Ted Natoli
git_last_commit: 828fc9c
git_last_commit_date: 2023-04-25 11:16:20 -0400
nebbiolo2Linux (Ubuntu 22.04.2 LTS) / x86_64  OK    OK    OK  UNNEEDED, same version is already published
palomino4Windows Server 2022 Datacenter / x64  OK    OK    OK    OK  UNNEEDED, same version is already published
lconwaymacOS 12.6.5 Monterey / x86_64  OK    OK    OK    OK  UNNEEDED, same version is already published
kunpeng2Linux (openEuler 22.03 LTS-SP1) / aarch64  OK    OK    OK  
Package 11/46HostnameOS / ArchINSTALLBUILDCHECKBUILD BIN
CoGAPS 3.21.1  (landing page)
Elana J. Fertig
git_last_commit: 93f8732
git_last_commit_date: 2023-09-19 18:53:20 -0400
nebbiolo2Linux (Ubuntu 22.04.2 LTS) / x86_64  OK    OK    WARNINGS  YES
palomino4Windows Server 2022 Datacenter / x64  OK    OK    WARNINGS    OK  YES
lconwaymacOS 12.6.5 Monterey / x86_64  OK    OK    WARNINGS    OK  YES
kunpeng2Linux (openEuler 22.03 LTS-SP1) / aarch64  OK    OK    WARNINGS  
Package 12/46HostnameOS / ArchINSTALLBUILDCHECKBUILD BIN
CopyNumberPlots 1.17.1  (landing page)
Bernat Gel
git_last_commit: f477c95
git_last_commit_date: 2023-09-20 04:59:37 -0400
nebbiolo2Linux (Ubuntu 22.04.2 LTS) / x86_64  OK    OK    OK  YES
palomino4Windows Server 2022 Datacenter / x64  OK    OK    OK    OK  YES
lconwaymacOS 12.6.5 Monterey / x86_64  OK    OK    OK    OK  YES
kunpeng2Linux (openEuler 22.03 LTS-SP1) / aarch64  OK    OK    OK  
Package 13/46HostnameOS / ArchINSTALLBUILDCHECKBUILD BIN
CRISPRseek 1.41.0  (landing page)
Lihua Julie Zhu
git_last_commit: 90cf280
git_last_commit_date: 2023-04-25 10:29:39 -0400
nebbiolo2Linux (Ubuntu 22.04.2 LTS) / x86_64  OK    OK    OK  UNNEEDED, same version is already published
palomino4Windows Server 2022 Datacenter / x64  OK    OK    OK    OK  UNNEEDED, same version is already published
lconwaymacOS 12.6.5 Monterey / x86_64  OK    OK    OK    OK  UNNEEDED, same version is already published
kunpeng2Linux (openEuler 22.03 LTS-SP1) / aarch64  OK    OK    TIMEOUT  
Package 14/46HostnameOS / ArchINSTALLBUILDCHECKBUILD BIN
cTRAP 1.19.0  (landing page)
Nuno Saraiva-Agostinho
git_last_commit: 9db66f4
git_last_commit_date: 2023-04-25 11:05:43 -0400
nebbiolo2Linux (Ubuntu 22.04.2 LTS) / x86_64  OK    OK    OK  UNNEEDED, same version is already published
palomino4Windows Server 2022 Datacenter / x64  OK    OK    OK    OK  UNNEEDED, same version is already published
lconwaymacOS 12.6.5 Monterey / x86_64  OK    OK    OK    OK  UNNEEDED, same version is already published
kunpeng2Linux (openEuler 22.03 LTS-SP1) / aarch64  OK    OK    OK  
Package 15/46HostnameOS / ArchINSTALLBUILDCHECKBUILD BIN
cytomapper 1.13.0  (landing page)
Nils Eling
git_last_commit: c565e2d
git_last_commit_date: 2023-04-25 11:16:41 -0400
nebbiolo2Linux (Ubuntu 22.04.2 LTS) / x86_64  OK    OK    OK  UNNEEDED, same version is already published
palomino4Windows Server 2022 Datacenter / x64  OK    OK    OK    OK  UNNEEDED, same version is already published
lconwaymacOS 12.6.5 Monterey / x86_64  OK    OK    OK    OK  UNNEEDED, same version is already published
kunpeng2Linux (openEuler 22.03 LTS-SP1) / aarch64  OK    OK    OK  
Package 16/46HostnameOS / ArchINSTALLBUILDCHECKBUILD BIN
diffHic 1.33.0  (landing page)
Aaron Lun
git_last_commit: 8da9340
git_last_commit_date: 2023-04-25 10:39:29 -0400
nebbiolo2Linux (Ubuntu 22.04.2 LTS) / x86_64  OK    OK    WARNINGS  UNNEEDED, same version is already published
palomino4Windows Server 2022 Datacenter / x64  OK    OK    WARNINGS    OK  UNNEEDED, same version is already published
lconwaymacOS 12.6.5 Monterey / x86_64  OK    OK    WARNINGS    OK  UNNEEDED, same version is already published
kunpeng2Linux (openEuler 22.03 LTS-SP1) / aarch64  OK    OK    WARNINGS  
Package 17/46HostnameOS / ArchINSTALLBUILDCHECKBUILD BIN
DropletUtils 1.21.0  (landing page)
Jonathan Griffiths
git_last_commit: 015252e
git_last_commit_date: 2023-04-25 10:58:49 -0400
nebbiolo2Linux (Ubuntu 22.04.2 LTS) / x86_64  OK    OK    WARNINGS  UNNEEDED, same version is already published
palomino4Windows Server 2022 Datacenter / x64  OK    OK    OK    OK  UNNEEDED, same version is already published
lconwaymacOS 12.6.5 Monterey / x86_64  OK    OK    WARNINGS    OK  UNNEEDED, same version is already published
kunpeng2Linux (openEuler 22.03 LTS-SP1) / aarch64  OK    OK    ERROR  
Package 18/46HostnameOS / ArchINSTALLBUILDCHECKBUILD BIN
epigraHMM 1.9.1  (landing page)
Pedro Baldoni
git_last_commit: dccc60a
git_last_commit_date: 2023-05-18 02:12:15 -0400
nebbiolo2Linux (Ubuntu 22.04.2 LTS) / x86_64  OK    OK    WARNINGS  UNNEEDED, same version is already published
palomino4Windows Server 2022 Datacenter / x64  OK    OK    OK    OK  UNNEEDED, same version is already published
lconwaymacOS 12.6.5 Monterey / x86_64  OK    OK    WARNINGS    OK  UNNEEDED, same version is already published
kunpeng2Linux (openEuler 22.03 LTS-SP1) / aarch64  OK    OK    WARNINGS  
Package 19/46HostnameOS / ArchINSTALLBUILDCHECKBUILD BIN
EventPointer 3.9.0  (landing page)
Juan A. Ferrer-Bonsoms
git_last_commit: 1c1a467
git_last_commit_date: 2023-04-25 10:52:37 -0400
nebbiolo2Linux (Ubuntu 22.04.2 LTS) / x86_64  OK    OK    OK  UNNEEDED, same version is already published
palomino4Windows Server 2022 Datacenter / x64  OK    OK    OK    OK  UNNEEDED, same version is already published
lconwaymacOS 12.6.5 Monterey / x86_64  OK    OK    OK    OK  UNNEEDED, same version is already published
kunpeng2Linux (openEuler 22.03 LTS-SP1) / aarch64  OK    OK    OK  
Package 20/46HostnameOS / ArchINSTALLBUILDCHECKBUILD BIN
FRASER 1.13.0  (landing page)
Christian Mertes
git_last_commit: bb07dd3
git_last_commit_date: 2023-04-25 11:17:40 -0400
nebbiolo2Linux (Ubuntu 22.04.2 LTS) / x86_64  OK    OK    OK  UNNEEDED, same version is already published
palomino4Windows Server 2022 Datacenter / x64  OK    OK    OK    OK  UNNEEDED, same version is already published
lconwaymacOS 12.6.5 Monterey / x86_64  OK    OK    OK    OK  UNNEEDED, same version is already published
kunpeng2Linux (openEuler 22.03 LTS-SP1) / aarch64  OK    OK    ERROR  
Package 21/46HostnameOS / ArchINSTALLBUILDCHECKBUILD BIN
GenomicScores 2.13.0  (landing page)
Robert Castelo
git_last_commit: 111e891
git_last_commit_date: 2023-04-25 10:53:43 -0400
nebbiolo2Linux (Ubuntu 22.04.2 LTS) / x86_64  OK    OK    OK  UNNEEDED, same version is already published
palomino4Windows Server 2022 Datacenter / x64  OK    OK    OK    OK  UNNEEDED, same version is already published
lconwaymacOS 12.6.5 Monterey / x86_64  OK    OK    OK    OK  UNNEEDED, same version is already published
kunpeng2Linux (openEuler 22.03 LTS-SP1) / aarch64  OK    OK    OK  
Package 22/46HostnameOS / ArchINSTALLBUILDCHECKBUILD BIN
gep2pep 1.21.0  (landing page)
Francesco Napolitano
git_last_commit: 1ae4039
git_last_commit_date: 2023-04-25 10:58:13 -0400
nebbiolo2Linux (Ubuntu 22.04.2 LTS) / x86_64  OK    OK    OK  UNNEEDED, same version is already published
palomino4Windows Server 2022 Datacenter / x64  OK    OK    OK    OK  UNNEEDED, same version is already published
lconwaymacOS 12.6.5 Monterey / x86_64  OK    OK    OK    OK  UNNEEDED, same version is already published
kunpeng2Linux (openEuler 22.03 LTS-SP1) / aarch64  OK    OK    OK  
Package 23/46HostnameOS / ArchINSTALLBUILDCHECKBUILD BIN
GSCA 2.31.0  (landing page)
Zhicheng Ji
git_last_commit: 3a5d95d
git_last_commit_date: 2023-04-25 10:30:29 -0400
nebbiolo2Linux (Ubuntu 22.04.2 LTS) / x86_64  OK    OK    OK  UNNEEDED, same version is already published
palomino4Windows Server 2022 Datacenter / x64  OK    OK    OK    OK  UNNEEDED, same version is already published
lconwaymacOS 12.6.5 Monterey / x86_64  OK    OK    OK    OK  UNNEEDED, same version is already published
kunpeng2Linux (openEuler 22.03 LTS-SP1) / aarch64  OK    OK    OK  
Package 24/46HostnameOS / ArchINSTALLBUILDCHECKBUILD BIN
h5vc 2.35.0  (landing page)
Paul Theodor Pyl
git_last_commit: e9c4809
git_last_commit_date: 2023-04-25 10:29:31 -0400
nebbiolo2Linux (Ubuntu 22.04.2 LTS) / x86_64  OK    OK    WARNINGS  UNNEEDED, same version is already published
palomino4Windows Server 2022 Datacenter / x64  OK    OK    WARNINGS    OK  UNNEEDED, same version is already published
lconwaymacOS 12.6.5 Monterey / x86_64  OK    OK    WARNINGS    OK  UNNEEDED, same version is already published
kunpeng2Linux (openEuler 22.03 LTS-SP1) / aarch64  OK    OK    WARNINGS  
Package 25/46HostnameOS / ArchINSTALLBUILDCHECKBUILD BIN
HDF5Array 1.29.3  (landing page)
Hervé Pagès
git_last_commit: 41fe4b1
git_last_commit_date: 2023-05-04 16:27:16 -0400
nebbiolo2Linux (Ubuntu 22.04.2 LTS) / x86_64  OK    OK    WARNINGS  UNNEEDED, same version is already published
palomino4Windows Server 2022 Datacenter / x64  OK    OK    OK    OK  UNNEEDED, same version is already published
lconwaymacOS 12.6.5 Monterey / x86_64  OK    OK    WARNINGS    OK  UNNEEDED, same version is already published
kunpeng2Linux (openEuler 22.03 LTS-SP1) / aarch64  OK    OK    ERROR  
Package 26/46HostnameOS / ArchINSTALLBUILDCHECKBUILD BIN
HiCBricks 1.19.0  (landing page)
Koustav Pal
git_last_commit: 127412f
git_last_commit_date: 2023-04-25 11:05:30 -0400
nebbiolo2Linux (Ubuntu 22.04.2 LTS) / x86_64  OK    OK    OK  UNNEEDED, same version is already published
palomino4Windows Server 2022 Datacenter / x64  OK    OK    OK    OK  UNNEEDED, same version is already published
lconwaymacOS 12.6.5 Monterey / x86_64  OK    OK    OK    OK  UNNEEDED, same version is already published
kunpeng2Linux (openEuler 22.03 LTS-SP1) / aarch64  OK    OK    OK  
Package 27/46HostnameOS / ArchINSTALLBUILDCHECKBUILD BIN
HiCcompare 1.23.1  (landing page)
Mikhail Dozmorov
git_last_commit: 595e4ef
git_last_commit_date: 2023-06-04 07:35:24 -0400
nebbiolo2Linux (Ubuntu 22.04.2 LTS) / x86_64  OK    OK    OK  UNNEEDED, same version is already published
palomino4Windows Server 2022 Datacenter / x64  OK    OK    OK    OK  UNNEEDED, same version is already published
lconwaymacOS 12.6.5 Monterey / x86_64  OK    OK    OK    OK  UNNEEDED, same version is already published
kunpeng2Linux (openEuler 22.03 LTS-SP1) / aarch64  OK    OK    OK  
Package 28/46HostnameOS / ArchINSTALLBUILDCHECKBUILD BIN
HiCExperiment 1.1.2  (landing page)
Jacques Serizay
git_last_commit: 423aa9e
git_last_commit_date: 2023-09-04 05:40:22 -0400
nebbiolo2Linux (Ubuntu 22.04.2 LTS) / x86_64  OK    OK    OK  UNNEEDED, same version is already published
palomino4Windows Server 2022 Datacenter / x64  OK    OK    OK    OK  UNNEEDED, same version is already published
lconwaymacOS 12.6.5 Monterey / x86_64  OK    OK    OK    OK  UNNEEDED, same version is already published
kunpeng2Linux (openEuler 22.03 LTS-SP1) / aarch64  OK    OK    OK  
Package 29/46HostnameOS / ArchINSTALLBUILDCHECKBUILD BIN
IONiseR 2.25.0  (landing page)
Mike Smith
git_last_commit: 71b83fa
git_last_commit_date: 2023-04-25 10:40:11 -0400
nebbiolo2Linux (Ubuntu 22.04.2 LTS) / x86_64  OK    OK    OK  UNNEEDED, same version is already published
palomino4Windows Server 2022 Datacenter / x64  OK    OK    OK    OK  UNNEEDED, same version is already published
lconwaymacOS 12.6.5 Monterey / x86_64  OK    OK    OK    OK  UNNEEDED, same version is already published
kunpeng2Linux (openEuler 22.03 LTS-SP1) / aarch64  OK    OK    OK  
Package 30/46HostnameOS / ArchINSTALLBUILDCHECKBUILD BIN
LoomExperiment 1.19.0  (landing page)
Bioconductor Package Maintainer
git_last_commit: c702f74
git_last_commit_date: 2023-04-25 11:06:18 -0400
nebbiolo2Linux (Ubuntu 22.04.2 LTS) / x86_64  OK    OK    OK  UNNEEDED, same version is already published
palomino4Windows Server 2022 Datacenter / x64  OK    OK    OK    OK  UNNEEDED, same version is already published
lconwaymacOS 12.6.5 Monterey / x86_64  OK    OK    OK    OK  UNNEEDED, same version is already published
kunpeng2Linux (openEuler 22.03 LTS-SP1) / aarch64  OK    OK    OK  
Package 31/46HostnameOS / ArchINSTALLBUILDCHECKBUILD BIN
mariner 1.1.0  (landing page)
Eric Davis
git_last_commit: f4548dd
git_last_commit_date: 2023-04-25 11:44:50 -0400
nebbiolo2Linux (Ubuntu 22.04.2 LTS) / x86_64  OK    OK    OK  UNNEEDED, same version is already published
palomino4Windows Server 2022 Datacenter / x64  OK    OK    OK    OK  UNNEEDED, same version is already published
lconwaymacOS 12.6.5 Monterey / x86_64  OK    OK    OK    OK  UNNEEDED, same version is already published
kunpeng2Linux (openEuler 22.03 LTS-SP1) / aarch64  OK    OK    OK  
Package 32/46HostnameOS / ArchINSTALLBUILDCHECKBUILD BIN
MOFA2 1.11.0  (landing page)
Ricard Argelaguet
git_last_commit: 15df5e3
git_last_commit_date: 2023-04-25 11:23:55 -0400
nebbiolo2Linux (Ubuntu 22.04.2 LTS) / x86_64  OK    OK    OK  UNNEEDED, same version is already published
palomino4Windows Server 2022 Datacenter / x64  OK    OK    OK    OK  UNNEEDED, same version is already published
lconwaymacOS 12.6.5 Monterey / x86_64  OK    OK    OK    OK  UNNEEDED, same version is already published
kunpeng2Linux (openEuler 22.03 LTS-SP1) / aarch64  OK    OK    OK  
Package 33/46HostnameOS / ArchINSTALLBUILDCHECKBUILD BIN
MoleculeExperiment 1.1.2  (landing page)
Shila Ghazanfar
git_last_commit: ffdd8d0
git_last_commit_date: 2023-07-26 01:51:12 -0400
nebbiolo2Linux (Ubuntu 22.04.2 LTS) / x86_64  OK    OK    OK  UNNEEDED, same version is already published
palomino4Windows Server 2022 Datacenter / x64  OK    OK    OK    OK  UNNEEDED, same version is already published
lconwaymacOS 12.6.5 Monterey / x86_64  OK    OK    OK    OK  UNNEEDED, same version is already published
kunpeng2Linux (openEuler 22.03 LTS-SP1) / aarch64  OK    OK    OK  
Package 34/46HostnameOS / ArchINSTALLBUILDCHECKBUILD BIN
MuData 1.5.0  (landing page)
Danila Bredikhin
git_last_commit: 56a886e
git_last_commit_date: 2023-04-25 11:36:12 -0400
nebbiolo2Linux (Ubuntu 22.04.2 LTS) / x86_64  OK    OK    OK  UNNEEDED, same version is already published
palomino4Windows Server 2022 Datacenter / x64  OK    OK    OK    OK  UNNEEDED, same version is already published
lconwaymacOS 12.6.5 Monterey / x86_64  OK    OK    OK    OK  UNNEEDED, same version is already published
kunpeng2Linux (openEuler 22.03 LTS-SP1) / aarch64  OK    OK    OK  
Package 35/46HostnameOS / ArchINSTALLBUILDCHECKBUILD BIN
octad 1.3.0  (landing page)
E. Chekalin
git_last_commit: fe2cbc2
git_last_commit_date: 2023-04-25 11:41:23 -0400
nebbiolo2Linux (Ubuntu 22.04.2 LTS) / x86_64  OK    OK    OK  UNNEEDED, same version is already published
palomino4Windows Server 2022 Datacenter / x64  OK    OK    OK    OK  UNNEEDED, same version is already published
lconwaymacOS 12.6.5 Monterey / x86_64  OK    OK    OK    OK  UNNEEDED, same version is already published
kunpeng2Linux (openEuler 22.03 LTS-SP1) / aarch64  OK    ERROR  skipped
Package 36/46HostnameOS / ArchINSTALLBUILDCHECKBUILD BIN
phantasus 1.21.4  (landing page)
Alexey Sergushichev
git_last_commit: 882d3b8
git_last_commit_date: 2023-08-29 16:12:32 -0400
nebbiolo2Linux (Ubuntu 22.04.2 LTS) / x86_64  OK    OK    ERROR  
palomino4Windows Server 2022 Datacenter / x64  OK    OK    ERROR    OK  
lconwaymacOS 12.6.5 Monterey / x86_64  OK    OK    ERROR    OK  
kunpeng2Linux (openEuler 22.03 LTS-SP1) / aarch64  OK    OK    ERROR  
Package 37/46HostnameOS / ArchINSTALLBUILDCHECKBUILD BIN
ptairMS 1.9.0  (landing page)
camille Roquencourt
git_last_commit: d87f9ca
git_last_commit_date: 2023-04-25 11:28:24 -0400
nebbiolo2Linux (Ubuntu 22.04.2 LTS) / x86_64  OK    OK    OK  UNNEEDED, same version is already published
palomino4Windows Server 2022 Datacenter / x64  OK    ERROR  skippedskipped
lconwaymacOS 12.6.5 Monterey / x86_64  OK    OK    OK    OK  UNNEEDED, same version is already published
kunpeng2Linux (openEuler 22.03 LTS-SP1) / aarch64  OK    OK    OK  
Package 38/46HostnameOS / ArchINSTALLBUILDCHECKBUILD BIN
PureCN 2.7.11  (landing page)
Markus Riester
git_last_commit: d90f3f0
git_last_commit_date: 2023-07-05 12:57:51 -0400
nebbiolo2Linux (Ubuntu 22.04.2 LTS) / x86_64  OK    OK    OK  UNNEEDED, same version is already published
palomino4Windows Server 2022 Datacenter / x64  OK    OK    OK    OK  UNNEEDED, same version is already published
lconwaymacOS 12.6.5 Monterey / x86_64  OK    OK    OK    OK  UNNEEDED, same version is already published
kunpeng2Linux (openEuler 22.03 LTS-SP1) / aarch64  OK    OK    OK  
Package 39/46HostnameOS / ArchINSTALLBUILDCHECKBUILD BIN
recountmethylation 1.11.1  (landing page)
Sean K Maden
git_last_commit: be0a705
git_last_commit_date: 2023-05-26 19:07:55 -0400
nebbiolo2Linux (Ubuntu 22.04.2 LTS) / x86_64  OK    OK    OK  UNNEEDED, same version is already published
palomino4Windows Server 2022 Datacenter / x64  OK    OK    OK    OK  UNNEEDED, same version is already published
lconwaymacOS 12.6.5 Monterey / x86_64  OK    OK    OK    OK  UNNEEDED, same version is already published
kunpeng2Linux (openEuler 22.03 LTS-SP1) / aarch64  OK    OK    OK  
Package 40/46HostnameOS / ArchINSTALLBUILDCHECKBUILD BIN
ribor 1.13.0  (landing page)
Michael Geng
git_last_commit: 955a720
git_last_commit_date: 2023-04-25 11:15:55 -0400
nebbiolo2Linux (Ubuntu 22.04.2 LTS) / x86_64  OK    OK    OK  UNNEEDED, same version is already published
palomino4Windows Server 2022 Datacenter / x64  OK    OK    OK    OK  UNNEEDED, same version is already published
lconwaymacOS 12.6.5 Monterey / x86_64  OK    OK    OK    OK  UNNEEDED, same version is already published
kunpeng2Linux (openEuler 22.03 LTS-SP1) / aarch64  OK    OK    OK  
Package 41/46HostnameOS / ArchINSTALLBUILDCHECKBUILD BIN
scCB2 1.11.0  (landing page)
Zijian Ni
git_last_commit: db845e9
git_last_commit_date: 2023-04-25 11:20:27 -0400
nebbiolo2Linux (Ubuntu 22.04.2 LTS) / x86_64  OK    OK    OK  UNNEEDED, same version is already published
palomino4Windows Server 2022 Datacenter / x64  OK    OK    OK    OK  UNNEEDED, same version is already published
lconwaymacOS 12.6.5 Monterey / x86_64  OK    OK    OK    OK  UNNEEDED, same version is already published
kunpeng2Linux (openEuler 22.03 LTS-SP1) / aarch64  OK    OK    OK  
Package 42/46HostnameOS / ArchINSTALLBUILDCHECKBUILD BIN
scone 1.25.0  (landing page)
Davide Risso
git_last_commit: e34d20e
git_last_commit_date: 2023-04-25 10:51:39 -0400
nebbiolo2Linux (Ubuntu 22.04.2 LTS) / x86_64  OK    OK    OK  UNNEEDED, same version is already published
palomino4Windows Server 2022 Datacenter / x64  OK    OK    OK    OK  UNNEEDED, same version is already published
lconwaymacOS 12.6.5 Monterey / x86_64  OK    OK    OK    OK  UNNEEDED, same version is already published
kunpeng2Linux (openEuler 22.03 LTS-SP1) / aarch64  OK    OK    OK  
Package 43/46HostnameOS / ArchINSTALLBUILDCHECKBUILD BIN
signatureSearch 1.15.0  (landing page)
Brendan Gongol
git_last_commit: 9adea8b
git_last_commit_date: 2023-04-25 11:14:11 -0400
nebbiolo2Linux (Ubuntu 22.04.2 LTS) / x86_64  OK    OK    OK  UNNEEDED, same version is already published
palomino4Windows Server 2022 Datacenter / x64  OK    OK    OK    OK  UNNEEDED, same version is already published
lconwaymacOS 12.6.5 Monterey / x86_64  OK    OK    OK    OK  UNNEEDED, same version is already published
kunpeng2Linux (openEuler 22.03 LTS-SP1) / aarch64  OK    OK    OK  
Package 44/46HostnameOS / ArchINSTALLBUILDCHECKBUILD BIN
SpliceWiz 1.3.3  (landing page)
Alex Chit Hei Wong
git_last_commit: 93f8147
git_last_commit_date: 2023-07-26 20:24:12 -0400
nebbiolo2Linux (Ubuntu 22.04.2 LTS) / x86_64  OK    OK    OK  UNNEEDED, same version is already published
palomino4Windows Server 2022 Datacenter / x64  OK    OK    OK    OK  UNNEEDED, same version is already published
lconwaymacOS 12.6.5 Monterey / x86_64  OK    OK    OK    OK  UNNEEDED, same version is already published
kunpeng2Linux (openEuler 22.03 LTS-SP1) / aarch64  OK    OK    ERROR  
Package 45/46HostnameOS / ArchINSTALLBUILDCHECKBUILD BIN
SpotClean 1.3.0  (landing page)
Zijian Ni
git_last_commit: 9481f72
git_last_commit_date: 2023-04-25 11:38:24 -0400
nebbiolo2Linux (Ubuntu 22.04.2 LTS) / x86_64  OK    OK    OK  UNNEEDED, same version is already published
palomino4Windows Server 2022 Datacenter / x64  OK    OK    OK    OK  UNNEEDED, same version is already published
lconwaymacOS 12.6.5 Monterey / x86_64  OK    OK    OK    OK  UNNEEDED, same version is already published
kunpeng2Linux (openEuler 22.03 LTS-SP1) / aarch64  OK    OK    OK  
Package 46/46HostnameOS / ArchINSTALLBUILDCHECKBUILD BIN
trackViewer 1.37.14  (landing page)
Jianhong Ou
git_last_commit: 104ab29
git_last_commit_date: 2023-07-14 09:50:48 -0400
nebbiolo2Linux (Ubuntu 22.04.2 LTS) / x86_64  OK    OK    OK  UNNEEDED, same version is already published
palomino4Windows Server 2022 Datacenter / x64  OK    OK    OK    OK  UNNEEDED, same version is already published
lconwaymacOS 12.6.5 Monterey / x86_64  OK    OK    OK    OK  UNNEEDED, same version is already published
kunpeng2Linux (openEuler 22.03 LTS-SP1) / aarch64  OK    OK    OK