Back to Build/check report for BioC 3.15
ABCDEFGHIJKLM[N]OPQRSTUVWXYZ

This page was generated on 2021-12-06 12:31:51 -0500 (Mon, 06 Dec 2021).

All results for package nucleR

To the developers/maintainers of the nucleR package:
- Please allow up to 24 hours (and sometimes 48 hours) for your latest push to git@git.bioconductor.org:packages/nucleR.git to
reflect on this report. See How and When does the builder pull? When will my changes propagate? here for more information.
- Make sure to use the following settings in order to reproduce any error or warning you see on this page.

raw results

Package 1298/2068HostnameOS / ArchINSTALLBUILDCHECKBUILD BIN
nucleR 2.27.1  (landing page)
Alba Sala
Snapshot Date: 2021-12-05 13:55:08 -0500 (Sun, 05 Dec 2021)
git_url: https://git.bioconductor.org/packages/nucleR
git_branch: master
git_last_commit: 7bdabfa
git_last_commit_date: 2021-11-21 00:39:12 -0500 (Sun, 21 Nov 2021)
nebbiolo1Linux (Ubuntu 20.04.3 LTS) / x86_64  OK    OK    WARNINGS  UNNEEDED, same version is already published