Back to Multiple platform build/check report for BioC 3.18:   simplified   long
ABCDEFGHIJKL[M]NOPQRSTUVWXYZ

This page was generated on 2023-09-21 11:35:45 -0400 (Thu, 21 Sep 2023).

HostnameOSArch (*)R versionInstalled pkgs
nebbiolo2Linux (Ubuntu 22.04.2 LTS)x86_644.3.1 (2023-06-16) -- "Beagle Scouts" 4654
palomino4Windows Server 2022 Datacenterx644.3.1 (2023-06-16 ucrt) -- "Beagle Scouts" 4388
lconwaymacOS 12.6.5 Montereyx86_644.3.1 Patched (2023-06-17 r84564) -- "Beagle Scouts" 4402
kunpeng2Linux (openEuler 22.03 LTS-SP1)aarch644.3.1 (2023-06-16) -- "Beagle Scouts" 4391
Click on any hostname to see more info about the system (e.g. compilers)      (*) as reported by 'uname -p', except on Windows and Mac OS X

All results for package Mfuzz


To the developers/maintainers of the Mfuzz package:
- Allow up to 24 hours (and sometimes 48 hours) for your latest push to git@git.bioconductor.org:packages/Mfuzz.git to reflect on this report. See Troubleshooting Build Report for more information.
- Use the following Renviron settings to reproduce errors and warnings.
- If 'R CMD check' started to fail recently on the Linux builder(s) over a missing dependency, add the missing dependency to 'Suggests:' in your DESCRIPTION file. See Renviron.bioc for more information.

raw results

Package 1219/2229HostnameOS / ArchINSTALLBUILDCHECKBUILD BIN
Mfuzz 2.61.0  (landing page)
Matthias Futschik
Snapshot Date: 2023-09-20 14:05:05 -0400 (Wed, 20 Sep 2023)
git_url: https://git.bioconductor.org/packages/Mfuzz
git_branch: devel
git_last_commit: 4ee4add
git_last_commit_date: 2023-04-25 09:43:10 -0400 (Tue, 25 Apr 2023)
nebbiolo2Linux (Ubuntu 22.04.2 LTS) / x86_64  OK    OK    WARNINGS  UNNEEDED, same version is already published
palomino4Windows Server 2022 Datacenter / x64  OK    OK    WARNINGS    OK  UNNEEDED, same version is already published
lconwaymacOS 12.6.5 Monterey / x86_64  OK    OK    WARNINGS    OK  UNNEEDED, same version is already published
kunpeng2Linux (openEuler 22.03 LTS-SP1) / aarch64  OK    OK    WARNINGS  

Results for Bioconductor software packages that depend directly on package Mfuzz

QUICK STATSOS / ArchINSTALLBUILDCHECKBUILD BIN
nebbiolo2Linux (Ubuntu 22.04.2 LTS) / x86_64
003
012
0002
palomino4Windows Server 2022 Datacenter / x64
003
012
0002
002
lconwaymacOS 12.6.5 Monterey / x86_64
003
012
0002
002
kunpeng2Linux (openEuler 22.03 LTS-SP1) / aarch64
003
012
0002
Package 1/3HostnameOS / ArchINSTALLBUILDCHECKBUILD BIN
cycle 1.55.0  (landing page)
Matthias Futschik
git_last_commit: 94967bd
git_last_commit_date: 2023-04-25 09:49:35 -0400
nebbiolo2Linux (Ubuntu 22.04.2 LTS) / x86_64  OK    OK    OK  UNNEEDED, same version is already published
palomino4Windows Server 2022 Datacenter / x64  OK    OK    OK    OK  UNNEEDED, same version is already published
lconwaymacOS 12.6.5 Monterey / x86_64  OK    OK    OK    OK  UNNEEDED, same version is already published
kunpeng2Linux (openEuler 22.03 LTS-SP1) / aarch64  OK    OK    OK  
Package 2/3HostnameOS / ArchINSTALLBUILDCHECKBUILD BIN
MultiRNAflow 0.99.9  (landing page)
Rodolphe Loubaton
git_last_commit: 2694d81
git_last_commit_date: 2023-08-21 10:38:49 -0400
nebbiolo2Linux (Ubuntu 22.04.2 LTS) / x86_64  OK    OK    OK  UNNEEDED, same version is already published
palomino4Windows Server 2022 Datacenter / x64  OK    OK    OK    OK  UNNEEDED, same version is already published
lconwaymacOS 12.6.5 Monterey / x86_64  OK    OK    OK    OK  UNNEEDED, same version is already published
kunpeng2Linux (openEuler 22.03 LTS-SP1) / aarch64  OK    OK    OK  
Package 3/3HostnameOS / ArchINSTALLBUILDCHECKBUILD BIN
TimiRGeN 1.11.0  (landing page)
Krutik Patel
git_last_commit: d232241
git_last_commit_date: 2023-04-25 11:22:28 -0400
nebbiolo2Linux (Ubuntu 22.04.2 LTS) / x86_64  OK    ERROR  skipped
palomino4Windows Server 2022 Datacenter / x64  OK    ERROR  skippedskipped
lconwaymacOS 12.6.5 Monterey / x86_64  OK    ERROR  skippedskipped
kunpeng2Linux (openEuler 22.03 LTS-SP1) / aarch64  OK    ERROR  skipped