Back to Multiple platform build/check report for BioC 3.14
ABCDEFGHIJKLMNOPQR[S]TUVWXYZ

This page was generated on 2021-10-22 12:04:14 -0400 (Fri, 22 Oct 2021).

BUILD results for srnadiff on nebbiolo2

To the developers/maintainers of the srnadiff package:
- Please allow up to 24 hours (and sometimes 48 hours) for your latest push to git@git.bioconductor.org:packages/srnadiff.git to
reflect on this report. See How and When does the builder pull? When will my changes propagate? here for more information.
- Make sure to use the following settings in order to reproduce any error or warning you see on this page.

raw results

Package 1868/2075HostnameOS / ArchINSTALLBUILDCHECKBUILD BIN
srnadiff 1.13.2  (landing page)
Zytnicki Matthias
Snapshot Date: 2021-10-21 14:50:08 -0400 (Thu, 21 Oct 2021)
git_url: https://git.bioconductor.org/packages/srnadiff
git_branch: master
git_last_commit: bfc5dc4
git_last_commit_date: 2021-09-13 05:43:40 -0400 (Mon, 13 Sep 2021)
nebbiolo2Linux (Ubuntu 20.04.2 LTS) / x86_64  OK    OK    OK  UNNEEDED, same version is already published
riesling1Windows Server 2019 Standard / x64  OK    OK    ERROR    OK  
merida1macOS 10.14.6 Mojave / x86_64  OK    OK    OK    NA  

Summary

Package: srnadiff
Version: 1.13.2
Command: /home/biocbuild/bbs-3.14-bioc/R/bin/R CMD build --keep-empty-dirs --no-resave-data srnadiff
StartedAt: 2021-10-21 18:45:45 -0400 (Thu, 21 Oct 2021)
EndedAt: 2021-10-21 18:48:20 -0400 (Thu, 21 Oct 2021)
EllapsedTime: 154.8 seconds
RetCode: 0
Status:   OK  
PackageFile: srnadiff_1.13.2.tar.gz
PackageFileSize: 2.278 MiB

Command output

##############################################################################
##############################################################################
###
### Running command:
###
###   /home/biocbuild/bbs-3.14-bioc/R/bin/R CMD build --keep-empty-dirs --no-resave-data srnadiff
###
##############################################################################
##############################################################################


* checking for file ‘srnadiff/DESCRIPTION’ ... OK
* preparing ‘srnadiff’:
* checking DESCRIPTION meta-information ... OK
* cleaning src
* installing the package to build vignettes
* creating vignettes ... OK
* cleaning src
* checking for LF line-endings in source and make files and shell scripts
* checking for empty or unneeded directories
Omitted ‘LazyData’ from DESCRIPTION
* building ‘srnadiff_1.13.2.tar.gz’