Back to Multiple platform build/check report for BioC 3.16
ABCDE[F]GHIJKLMNOPQRSTUVWXYZ

This page was generated on 2022-07-20 11:07:28 -0400 (Wed, 20 Jul 2022).

HostnameOSArch (*)R versionInstalled pkgs
nebbiolo2Linux (Ubuntu 20.04.4 LTS)x86_644.2.1 (2022-06-23) -- "Funny-Looking Kid" 4335
palomino4Windows Server 2022 Datacenterx644.2.1 (2022-06-23 ucrt) -- "Funny-Looking Kid" 4145
lconwaymacOS 12.2.1 Montereyx86_644.2.0 Patched (2022-05-29 r82424) -- "Vigorous Calisthenics" 4177
Click on any hostname to see more info about the system (e.g. compilers)      (*) as reported by 'uname -p', except on Windows and Mac OS X

BUILD BIN results for famat on lconway


To the developers/maintainers of the famat package:
- Please allow up to 24 hours (and sometimes 48 hours) for your latest push to git@git.bioconductor.org:packages/famat.git to
reflect on this report. See How and When does the builder pull? When will my changes propagate? for more information.
- Make sure to use the following settings in order to reproduce any error or warning you see on this page.

raw results

Package 643/2134HostnameOS / ArchINSTALLBUILDCHECKBUILD BIN
famat 1.7.0  (landing page)
Mathieu Charles
Snapshot Date: 2022-07-19 14:00:04 -0400 (Tue, 19 Jul 2022)
git_url: https://git.bioconductor.org/packages/famat
git_branch: master
git_last_commit: 866d8a4
git_last_commit_date: 2022-04-26 12:10:11 -0400 (Tue, 26 Apr 2022)
nebbiolo2Linux (Ubuntu 20.04.4 LTS) / x86_64  ERROR    ERROR  skipped
palomino4Windows Server 2022 Datacenter / x64  ERROR    ERROR  skippedskipped
lconwaymacOS 12.2.1 Monterey / x86_64  OK    OK    OK    OK  NO, package depends on 'MPINet' which is not available

Summary

Package: famat
Version: 1.7.0
Command: rm -rf famat.buildbin-libdir && mkdir famat.buildbin-libdir && /Users/biocbuild/BBS/utils/build-universal.sh famat_1.7.0.tar.gz /Library/Frameworks/R.framework/Resources/bin/R famat.buildbin-libdir
StartedAt: 2022-07-19 23:30:11 -0400 (Tue, 19 Jul 2022)
EndedAt: 2022-07-19 23:31:14 -0400 (Tue, 19 Jul 2022)
EllapsedTime: 63.8 seconds
RetCode: 0
Status:   OK  
PackageFile: famat_1.7.0.tgz
PackageFileSize: 3.505 MiB

Command output

##############################################################################
##############################################################################
###
### Running command:
###
###   rm -rf famat.buildbin-libdir && mkdir famat.buildbin-libdir && /Users/biocbuild/BBS/utils/build-universal.sh famat_1.7.0.tar.gz /Library/Frameworks/R.framework/Resources/bin/R famat.buildbin-libdir
###
##############################################################################
##############################################################################


>>>>>>> 
>>>>>>> INSTALLATION WITH 'R CMD INSTALL --preclean --no-multiarch --library=famat.buildbin-libdir famat_1.7.0.tar.gz'
>>>>>>> 

* installing *source* package ‘famat’ ...
** using staged installation
** R
** data
** inst
** byte-compile and prepare package for lazy loading
** help
*** installing help indices
** building package indices
** installing vignettes
** testing if installed package can be loaded from temporary location
** testing if installed package can be loaded from final location
** testing if installed package keeps a record of temporary installation path
* DONE (famat)