Back to Build/check report for BioC 3.13
ABCDEFGHIJK[L]MNOPQRSTUVWXYZ

Build/check report for BioC 3.13

Results for LoomExperiment

This page was generated on 2020-10-29 10:59:24 -0400 (Thu, 29 Oct 2020).

Package 940/1906HostnameOS / ArchINSTALLBUILDCHECKBUILD BIN
LoomExperiment 1.9.0
Bioconductor Package Maintainer
Snapshot Date: 2020-10-28 14:40:04 -0400 (Wed, 28 Oct 2020)
URL: https://git.bioconductor.org/packages/LoomExperiment
Branch: master
Last Commit: f54eed7
Last Changed Date: 2020-10-27 11:40:42 -0400 (Tue, 27 Oct 2020)
malbec2 Linux (Ubuntu 18.04.4 LTS) / x86_64  OK  OK  OK UNNEEDED, same version exists in internal repository