Back to Multiple platform build/check report for BioC 3.18:   simplified   long
ABCD[E]FGHIJKLMNOPQRSTUVWXYZ

This page was generated on 2023-09-30 11:34:51 -0400 (Sat, 30 Sep 2023).

HostnameOSArch (*)R versionInstalled pkgs
nebbiolo2Linux (Ubuntu 22.04.2 LTS)x86_644.3.1 (2023-06-16) -- "Beagle Scouts" 4660
palomino4Windows Server 2022 Datacenterx644.3.1 (2023-06-16 ucrt) -- "Beagle Scouts" 4396
lconwaymacOS 12.6.5 Montereyx86_644.3.1 Patched (2023-06-17 r84564) -- "Beagle Scouts" 4416
kunpeng2Linux (openEuler 22.03 LTS-SP1)aarch644.3.1 (2023-06-16) -- "Beagle Scouts" 4401
Click on any hostname to see more info about the system (e.g. compilers)      (*) as reported by 'uname -p', except on Windows and Mac OS X

All results for package ensembldb


To the developers/maintainers of the ensembldb package:
- Allow up to 24 hours (and sometimes 48 hours) for your latest push to git@git.bioconductor.org:packages/ensembldb.git to reflect on this report. See Troubleshooting Build Report for more information.
- Use the following Renviron settings to reproduce errors and warnings.
- If 'R CMD check' started to fail recently on the Linux builder(s) over a missing dependency, add the missing dependency to 'Suggests:' in your DESCRIPTION file. See Renviron.bioc for more information.

raw results

Package 638/2233HostnameOS / ArchINSTALLBUILDCHECKBUILD BIN
ensembldb 2.25.1  (landing page)
Johannes Rainer
Snapshot Date: 2023-09-29 14:05:07 -0400 (Fri, 29 Sep 2023)
git_url: https://git.bioconductor.org/packages/ensembldb
git_branch: devel
git_last_commit: 9243d0e
git_last_commit_date: 2023-09-21 10:38:47 -0400 (Thu, 21 Sep 2023)
nebbiolo2Linux (Ubuntu 22.04.2 LTS) / x86_64  OK    OK    OK  UNNEEDED, same version is already published
palomino4Windows Server 2022 Datacenter / x64  OK    OK    OK    OK  UNNEEDED, same version is already published
lconwaymacOS 12.6.5 Monterey / x86_64  OK    OK    OK    OK  UNNEEDED, same version is already published
kunpeng2Linux (openEuler 22.03 LTS-SP1) / aarch64  OK    OK    OK  

Results for Bioconductor software packages that depend directly on package ensembldb

QUICK STATSOS / ArchINSTALLBUILDCHECKBUILD BIN
nebbiolo2Linux (Ubuntu 22.04.2 LTS) / x86_64
0022
0022
02515
palomino4Windows Server 2022 Datacenter / x64
0021
0120
00614
0020
lconwaymacOS 12.6.5 Monterey / x86_64
0022
0022
01516
0022
kunpeng2Linux (openEuler 22.03 LTS-SP1) / aarch64
0022
0022
03514
Package 1/22HostnameOS / ArchINSTALLBUILDCHECKBUILD BIN
biovizBase 1.49.0  (landing page)
Michael Lawrence
git_last_commit: dd93783
git_last_commit_date: 2023-04-25 10:21:06 -0400
nebbiolo2Linux (Ubuntu 22.04.2 LTS) / x86_64  OK    OK    WARNINGS  UNNEEDED, same version is already published
palomino4Windows Server 2022 Datacenter / x64  OK    OK    WARNINGS    OK  UNNEEDED, same version is already published
lconwaymacOS 12.6.5 Monterey / x86_64  OK    OK    WARNINGS    OK  UNNEEDED, same version is already published
kunpeng2Linux (openEuler 22.03 LTS-SP1) / aarch64  OK    OK    WARNINGS  
Package 2/22HostnameOS / ArchINSTALLBUILDCHECKBUILD BIN
BUSpaRse 1.15.0  (landing page)
Lambda Moses
git_last_commit: 52dbef5
git_last_commit_date: 2023-04-25 11:11:59 -0400
nebbiolo2Linux (Ubuntu 22.04.2 LTS) / x86_64  OK    OK    OK  UNNEEDED, same version is already published
palomino4Windows Server 2022 Datacenter / x64  OK    OK    OK    OK  UNNEEDED, same version is already published
lconwaymacOS 12.6.5 Monterey / x86_64  OK    OK    OK    OK  UNNEEDED, same version is already published
kunpeng2Linux (openEuler 22.03 LTS-SP1) / aarch64  OK    OK    OK  
Package 3/22HostnameOS / ArchINSTALLBUILDCHECKBUILD BIN
chimeraviz 1.27.0  (landing page)
Stian Lågstad
git_last_commit: 2d0306e
git_last_commit_date: 2023-07-31 03:41:51 -0400
nebbiolo2Linux (Ubuntu 22.04.2 LTS) / x86_64  OK    OK    OK  UNNEEDED, same version is already published
palomino4Windows Server 2022 Datacenter / x64  OK    OK    OK    OK  UNNEEDED, same version is already published
lconwaymacOS 12.6.5 Monterey / x86_64  OK    OK    OK    OK  UNNEEDED, same version is already published
kunpeng2Linux (openEuler 22.03 LTS-SP1) / aarch64  OK    OK    OK  
Package 4/22HostnameOS / ArchINSTALLBUILDCHECKBUILD BIN
ChIPpeakAnno 3.35.3  (landing page)
Jianhong Ou
git_last_commit: d213653
git_last_commit_date: 2023-07-25 10:57:28 -0400
nebbiolo2Linux (Ubuntu 22.04.2 LTS) / x86_64  OK    OK    OK  UNNEEDED, same version is already published
palomino4Windows Server 2022 Datacenter / x64  OK    OK    OK    OK  UNNEEDED, same version is already published
lconwaymacOS 12.6.5 Monterey / x86_64  OK    OK    OK    OK  UNNEEDED, same version is already published
kunpeng2Linux (openEuler 22.03 LTS-SP1) / aarch64  OK    OK    OK  
Package 5/22HostnameOS / ArchINSTALLBUILDCHECKBUILD BIN
consensusDE 1.19.0  (landing page)
Ashley J. Waardenberg
git_last_commit: 53e3824
git_last_commit_date: 2023-04-25 11:05:52 -0400
nebbiolo2Linux (Ubuntu 22.04.2 LTS) / x86_64  OK    OK    OK  UNNEEDED, same version is already published
palomino4Windows Server 2022 Datacenter / x64  OK    OK    OK    OK  UNNEEDED, same version is already published
lconwaymacOS 12.6.5 Monterey / x86_64  OK    OK    OK    OK  UNNEEDED, same version is already published
kunpeng2Linux (openEuler 22.03 LTS-SP1) / aarch64  OK    OK    OK  
Package 6/22HostnameOS / ArchINSTALLBUILDCHECKBUILD BIN
demuxSNP 0.99.15  (landing page)
Michael Lynch
git_last_commit: d76fd26
git_last_commit_date: 2023-05-04 06:16:08 -0400
nebbiolo2Linux (Ubuntu 22.04.2 LTS) / x86_64  OK    OK    OK  UNNEEDED, same version is already published
palomino4Windows Server 2022 Datacenter / x64  OK    OK    OK    OK  UNNEEDED, same version is already published
lconwaymacOS 12.6.5 Monterey / x86_64  OK    OK    OK    OK  UNNEEDED, same version is already published
kunpeng2Linux (openEuler 22.03 LTS-SP1) / aarch64  OK    OK    OK  
Package 7/22HostnameOS / ArchINSTALLBUILDCHECKBUILD BIN
diffUTR 1.9.0  (landing page)
Pierre-Luc Germain
git_last_commit: bef6bc7
git_last_commit_date: 2023-04-25 11:29:40 -0400
nebbiolo2Linux (Ubuntu 22.04.2 LTS) / x86_64  OK    OK    OK  NO, package depends on 'DEXSeq' which is not available
palomino4Windows Server 2022 Datacenter / x64  OK    OK    OK    OK  UNNEEDED, same version is already published
lconwaymacOS 12.6.5 Monterey / x86_64  OK    OK    OK    OK  UNNEEDED, same version is already published
kunpeng2Linux (openEuler 22.03 LTS-SP1) / aarch64  OK    OK    OK  
Package 8/22HostnameOS / ArchINSTALLBUILDCHECKBUILD BIN
drugTargetInteractions 1.9.0  (landing page)
Thomas Girke
git_last_commit: 3577ab5
git_last_commit_date: 2023-04-25 11:27:59 -0400
nebbiolo2Linux (Ubuntu 22.04.2 LTS) / x86_64  OK    OK    OK  UNNEEDED, same version is already published
palomino4Windows Server 2022 Datacenter / x64  OK    OK    OK    OK  UNNEEDED, same version is already published
lconwaymacOS 12.6.5 Monterey / x86_64  OK    OK    OK    OK  UNNEEDED, same version is already published
kunpeng2Linux (openEuler 22.03 LTS-SP1) / aarch64  OK    OK    OK  
Package 9/22HostnameOS / ArchINSTALLBUILDCHECKBUILD BIN
epimutacions 1.5.3  (landing page)
Dolors Pelegri-Siso
git_last_commit: 7ac9459
git_last_commit_date: 2023-05-30 04:05:27 -0400
nebbiolo2Linux (Ubuntu 22.04.2 LTS) / x86_64  OK    OK    OK  UNNEEDED, same version is already published
palomino4Windows Server 2022 Datacenter / x64  OK    ERROR  skippedskipped
lconwaymacOS 12.6.5 Monterey / x86_64  OK    OK    OK    OK  UNNEEDED, same version is already published
kunpeng2Linux (openEuler 22.03 LTS-SP1) / aarch64  OK    OK    OK  
Package 10/22HostnameOS / ArchINSTALLBUILDCHECKBUILD BIN
epivizrData 1.29.0  (landing page)
Hector Corrada Bravo
git_last_commit: f19a3c3
git_last_commit_date: 2023-04-25 10:46:48 -0400
nebbiolo2Linux (Ubuntu 22.04.2 LTS) / x86_64  OK    OK    OK  UNNEEDED, same version is already published
palomino4Windows Server 2022 Datacenter / x64  OK    OK    OK    OK  UNNEEDED, same version is already published
lconwaymacOS 12.6.5 Monterey / x86_64  OK    OK    OK    OK  UNNEEDED, same version is already published
kunpeng2Linux (openEuler 22.03 LTS-SP1) / aarch64  OK    OK    OK  
Package 11/22HostnameOS / ArchINSTALLBUILDCHECKBUILD BIN
ggbio 1.49.0  (landing page)
Michael Lawrence
git_last_commit: 3a00da4
git_last_commit_date: 2023-04-25 10:21:27 -0400
nebbiolo2Linux (Ubuntu 22.04.2 LTS) / x86_64  OK    OK    WARNINGS  UNNEEDED, same version is already published
palomino4Windows Server 2022 Datacenter / x64  OK    OK    WARNINGS    OK  UNNEEDED, same version is already published
lconwaymacOS 12.6.5 Monterey / x86_64  OK    OK    WARNINGS    OK  UNNEEDED, same version is already published
kunpeng2Linux (openEuler 22.03 LTS-SP1) / aarch64  OK    OK    WARNINGS  
Package 12/22HostnameOS / ArchINSTALLBUILDCHECKBUILD BIN
GRaNIE 1.5.3  (landing page)
Christian Arnold
git_last_commit: 0a46b81
git_last_commit_date: 2023-08-22 08:07:51 -0400
nebbiolo2Linux (Ubuntu 22.04.2 LTS) / x86_64  OK    OK    OK  UNNEEDED, same version is already published
palomino4Windows Server 2022 Datacenter / x64  OK    OK    WARNINGS    OK  UNNEEDED, same version is already published
lconwaymacOS 12.6.5 Monterey / x86_64  OK    OK    OK    OK  UNNEEDED, same version is already published
kunpeng2Linux (openEuler 22.03 LTS-SP1) / aarch64  OK    OK    ERROR  
Package 13/22HostnameOS / ArchINSTALLBUILDCHECKBUILD BIN
Gviz 1.45.2  (landing page)
Robert Ivanek
git_last_commit: c566d51
git_last_commit_date: 2023-09-28 05:40:39 -0400
nebbiolo2Linux (Ubuntu 22.04.2 LTS) / x86_64  OK    OK    OK  YES
palomino4Windows Server 2022 Datacenter / x64  OK    OK    OK    OK  YES
lconwaymacOS 12.6.5 Monterey / x86_64  OK    OK    OK    OK  YES
kunpeng2Linux (openEuler 22.03 LTS-SP1) / aarch64  OK    OK    OK  
Package 14/22HostnameOS / ArchINSTALLBUILDCHECKBUILD BIN
metagene 2.33.0  (landing page)
Charles Joly Beauparlant
git_last_commit: 8aa1fa4
git_last_commit_date: 2023-04-25 10:33:38 -0400
nebbiolo2Linux (Ubuntu 22.04.2 LTS) / x86_64  OK    OK    ERROR  
palomino4Windows Server 2022 Datacenter / x64  OK    OK    WARNINGS    OK  UNNEEDED, same version is already published
lconwaymacOS 12.6.5 Monterey / x86_64  OK    OK    ERROR    OK  
kunpeng2Linux (openEuler 22.03 LTS-SP1) / aarch64  OK    OK    ERROR  
Package 15/22HostnameOS / ArchINSTALLBUILDCHECKBUILD BIN
proteasy 1.3.0  (landing page)
Martin Rydén
git_last_commit: 654aeaa
git_last_commit_date: 2023-04-25 11:39:00 -0400
nebbiolo2Linux (Ubuntu 22.04.2 LTS) / x86_64  OK    OK    ERROR  
palomino4Windows Server 2022 Datacenter / x64  OK    OK    OK    OK  UNNEEDED, same version is already published
lconwaymacOS 12.6.5 Monterey / x86_64  OK    OK    OK    OK  UNNEEDED, same version is already published
kunpeng2Linux (openEuler 22.03 LTS-SP1) / aarch64  OK    OK    ERROR  
Package 16/22HostnameOS / ArchINSTALLBUILDCHECKBUILD BIN
RITAN 1.25.0  (landing page)
Michael Zimmermann
git_last_commit: 3d1eccb
git_last_commit_date: 2023-04-25 10:54:17 -0400
nebbiolo2Linux (Ubuntu 22.04.2 LTS) / x86_64  OK    OK    WARNINGS  UNNEEDED, same version is already published
palomino4Windows Server 2022 Datacenter / x64  OK    OK    WARNINGS    OK  UNNEEDED, same version is already published
lconwaymacOS 12.6.5 Monterey / x86_64  OK    OK    WARNINGS    OK  UNNEEDED, same version is already published
kunpeng2Linux (openEuler 22.03 LTS-SP1) / aarch64  OK    OK    WARNINGS  
Package 17/22HostnameOS / ArchINSTALLBUILDCHECKBUILD BIN
scanMiRApp 1.7.0  (landing page)
Pierre-Luc Germain
git_last_commit: 09cb29e
git_last_commit_date: 2023-04-25 11:31:44 -0400
nebbiolo2Linux (Ubuntu 22.04.2 LTS) / x86_64  OK    OK    WARNINGS  UNNEEDED, same version is already published
palomino4Windows Server 2022 Datacenter / x64  OK    OK    WARNINGS    OK  UNNEEDED, same version is already published
lconwaymacOS 12.6.5 Monterey / x86_64  OK    OK    WARNINGS    OK  UNNEEDED, same version is already published
kunpeng2Linux (openEuler 22.03 LTS-SP1) / aarch64  OK    OK    WARNINGS  
Package 18/22HostnameOS / ArchINSTALLBUILDCHECKBUILD BIN
scFeatures 1.1.0  (landing page)
Yue Cao
git_last_commit: f69d79c
git_last_commit_date: 2023-04-25 11:42:27 -0400
nebbiolo2Linux (Ubuntu 22.04.2 LTS) / x86_64  OK    OK    OK  UNNEEDED, same version is already published
palomino4Windows Server 2022 Datacenter / x64  OK    OK    OK    OK  UNNEEDED, same version is already published
lconwaymacOS 12.6.5 Monterey / x86_64  OK    OK    OK    OK  UNNEEDED, same version is already published
kunpeng2Linux (openEuler 22.03 LTS-SP1) / aarch64  OK    OK    OK  
Package 19/22HostnameOS / ArchINSTALLBUILDCHECKBUILD BIN
signifinder 1.3.1  (landing page)
Stefania Pirrotta
git_last_commit: e6b79cc
git_last_commit_date: 2023-05-10 10:20:28 -0400
nebbiolo2Linux (Ubuntu 22.04.2 LTS) / x86_64  OK    OK    OK  UNNEEDED, same version is already published
palomino4Windows Server 2022 Datacenter / x64  OK    OK    OK    OK  UNNEEDED, same version is already published
lconwaymacOS 12.6.5 Monterey / x86_64  OK    OK    OK    OK  UNNEEDED, same version is already published
kunpeng2Linux (openEuler 22.03 LTS-SP1) / aarch64  OK    OK    OK  
Package 20/22HostnameOS / ArchINSTALLBUILDCHECKBUILD BIN
singleCellTK 2.11.0  (landing page)
Yichen Wang
git_last_commit: bce567d2
git_last_commit_date: 2023-04-25 11:01:21 -0400
nebbiolo2Linux (Ubuntu 22.04.2 LTS) / x86_64  OK    OK    OK  UNNEEDED, same version is already published
palomino4Windows Server 2022 Datacenter / x64  OK    OK    OK    OK  UNNEEDED, same version is already published
lconwaymacOS 12.6.5 Monterey / x86_64  OK    OK    OK    OK  UNNEEDED, same version is already published
kunpeng2Linux (openEuler 22.03 LTS-SP1) / aarch64  OK    OK    OK  
Package 21/22HostnameOS / ArchINSTALLBUILDCHECKBUILD BIN
TVTB 1.27.0  (landing page)
Kevin Rue-Albrecht
git_last_commit: 082ad90
git_last_commit_date: 2023-04-25 10:50:43 -0400
nebbiolo2Linux (Ubuntu 22.04.2 LTS) / x86_64  OK    OK    WARNINGS  NO, package depends on 'ensemblVEP' which is not available
palomino4Windows Server 2022 Datacenter / x64... NOT SUPPORTED ...
lconwaymacOS 12.6.5 Monterey / x86_64  OK    OK    WARNINGS    OK  NO, package depends on 'ensemblVEP' which is not available
kunpeng2Linux (openEuler 22.03 LTS-SP1) / aarch64  OK    OK    WARNINGS  
Package 22/22HostnameOS / ArchINSTALLBUILDCHECKBUILD BIN
tximeta 1.19.7  (landing page)
Michael Love
git_last_commit: 81849da
git_last_commit_date: 2023-09-15 15:19:52 -0400
nebbiolo2Linux (Ubuntu 22.04.2 LTS) / x86_64  OK    OK    OK  UNNEEDED, same version is already published
palomino4Windows Server 2022 Datacenter / x64  OK    OK    OK    OK  UNNEEDED, same version is already published
lconwaymacOS 12.6.5 Monterey / x86_64  OK    OK    OK    OK  UNNEEDED, same version is already published
kunpeng2Linux (openEuler 22.03 LTS-SP1) / aarch64  OK    OK    OK