Back to Multiple platform build/check report for BioC 3.16

This page was generated on 2022-06-29 11:05:48 -0400 (Wed, 29 Jun 2022).

More about lconway


Hostname: lconway
OS: macOS 12.2.1 Monterey
Arch: x86_64
Platform: x86_64-apple-darwin21.3.0
R version: 4.2.0 Patched (2022-05-29 r82424) -- "Vigorous Calisthenics"
R environment variables: Renviron.bioc

C compiler

R variable (VAR)Value ('R CMD config <VAR>' output)
CCclang -mmacosx-version-min=10.13
CFLAGS-Wall -g -O2
CPICFLAGS-fPIC
Please refer to 'R CMD config -h' for the meaning of these variables

Compiler version ('clang -mmacosx-version-min=10.13 --version' output):

Apple clang version 13.1.6 (clang-1316.0.21.2.5)
Target: x86_64-apple-darwin21.4.0
Thread model: posix
InstalledDir: /Library/Developer/CommandLineTools/usr/bin

C++ compiler

R variable (VAR)Value ('R CMD config <VAR>' output)
CXXclang++ -mmacosx-version-min=10.13 -std=gnu++14
CXXFLAGS-Wall -g -O2
CXXPICFLAGS-fPIC
Please refer to 'R CMD config -h' for the meaning of these variables

Compiler version ('clang++ -mmacosx-version-min=10.13 -std=gnu++14 --version' output):

Apple clang version 13.1.6 (clang-1316.0.21.2.5)
Target: x86_64-apple-darwin21.4.0
Thread model: posix
InstalledDir: /Library/Developer/CommandLineTools/usr/bin

C++11 compiler

R variable (VAR)Value ('R CMD config <VAR>' output)
CXX11clang++ -mmacosx-version-min=10.13
CXX11FLAGS-Wall -g -O2
CXX11PICFLAGS-fPIC
CXX11STD-std=gnu++11
Please refer to 'R CMD config -h' for the meaning of these variables

Compiler version ('clang++ -mmacosx-version-min=10.13 --version' output):

Apple clang version 13.1.6 (clang-1316.0.21.2.5)
Target: x86_64-apple-darwin21.4.0
Thread model: posix
InstalledDir: /Library/Developer/CommandLineTools/usr/bin

C++14 compiler

R variable (VAR)Value ('R CMD config <VAR>' output)
CXX14clang++ -mmacosx-version-min=10.13
CXX14FLAGS-Wall -g -O2
CXX14PICFLAGS-fPIC
CXX14STD-std=gnu++14
Please refer to 'R CMD config -h' for the meaning of these variables

Compiler version ('clang++ -mmacosx-version-min=10.13 --version' output):

Apple clang version 13.1.6 (clang-1316.0.21.2.5)
Target: x86_64-apple-darwin21.4.0
Thread model: posix
InstalledDir: /Library/Developer/CommandLineTools/usr/bin

C++17 compiler

R variable (VAR)Value ('R CMD config <VAR>' output)
CXX17clang++ -mmacosx-version-min=10.13
CXX17FLAGS-Wall -g -O2
CXX17PICFLAGS-fPIC
CXX17STD-std=gnu++17
Please refer to 'R CMD config -h' for the meaning of these variables

Compiler version ('clang++ -mmacosx-version-min=10.13 --version' output):

Apple clang version 13.1.6 (clang-1316.0.21.2.5)
Target: x86_64-apple-darwin21.4.0
Thread model: posix
InstalledDir: /Library/Developer/CommandLineTools/usr/bin

More information might be added in the future...