Back to Multiple platform build/check report for BioC 3.18:   simplified   long
ABCDEFGHIJKLMNO[P]QRSTUVWXYZ

This page was generated on 2023-09-21 11:35:51 -0400 (Thu, 21 Sep 2023).

HostnameOSArch (*)R versionInstalled pkgs
nebbiolo2Linux (Ubuntu 22.04.2 LTS)x86_644.3.1 (2023-06-16) -- "Beagle Scouts" 4654
palomino4Windows Server 2022 Datacenterx644.3.1 (2023-06-16 ucrt) -- "Beagle Scouts" 4388
lconwaymacOS 12.6.5 Montereyx86_644.3.1 Patched (2023-06-17 r84564) -- "Beagle Scouts" 4402
kunpeng2Linux (openEuler 22.03 LTS-SP1)aarch644.3.1 (2023-06-16) -- "Beagle Scouts" 4391
Click on any hostname to see more info about the system (e.g. compilers)      (*) as reported by 'uname -p', except on Windows and Mac OS X

All results for package PICS


To the developers/maintainers of the PICS package:
- Allow up to 24 hours (and sometimes 48 hours) for your latest push to git@git.bioconductor.org:packages/PICS.git to reflect on this report. See Troubleshooting Build Report for more information.
- Use the following Renviron settings to reproduce errors and warnings.
- If 'R CMD check' started to fail recently on the Linux builder(s) over a missing dependency, add the missing dependency to 'Suggests:' in your DESCRIPTION file. See Renviron.bioc for more information.

raw results

Package 1526/2229HostnameOS / ArchINSTALLBUILDCHECKBUILD BIN
PICS 2.45.0  (landing page)
Renan Sauteraud
Snapshot Date: 2023-09-20 14:05:05 -0400 (Wed, 20 Sep 2023)
git_url: https://git.bioconductor.org/packages/PICS
git_branch: devel
git_last_commit: 56e266f
git_last_commit_date: 2023-04-25 09:50:48 -0400 (Tue, 25 Apr 2023)
nebbiolo2Linux (Ubuntu 22.04.2 LTS) / x86_64  OK    OK    OK  UNNEEDED, same version is already published
palomino4Windows Server 2022 Datacenter / x64  OK    OK    OK    OK  UNNEEDED, same version is already published
lconwaymacOS 12.6.5 Monterey / x86_64  OK    OK    OK    OK  UNNEEDED, same version is already published
kunpeng2Linux (openEuler 22.03 LTS-SP1) / aarch64  OK    OK    OK  

Results for Bioconductor software packages that depend directly on package PICS

QUICK STATSOS / ArchINSTALLBUILDCHECKBUILD BIN
nebbiolo2Linux (Ubuntu 22.04.2 LTS) / x86_64
001
001
0010
palomino4Windows Server 2022 Datacenter / x64
001
001
0010
001
lconwaymacOS 12.6.5 Monterey / x86_64
001
001
0010
001
kunpeng2Linux (openEuler 22.03 LTS-SP1) / aarch64
001
001
0010
Package 1/1HostnameOS / ArchINSTALLBUILDCHECKBUILD BIN
PING 2.45.0  (landing page)
Renan Sauteraud
git_last_commit: 6138311
git_last_commit_date: 2023-04-25 10:22:26 -0400
nebbiolo2Linux (Ubuntu 22.04.2 LTS) / x86_64  OK    OK    WARNINGS  UNNEEDED, same version is already published
palomino4Windows Server 2022 Datacenter / x64  OK    OK    WARNINGS    OK  UNNEEDED, same version is already published
lconwaymacOS 12.6.5 Monterey / x86_64  OK    OK    WARNINGS    OK  UNNEEDED, same version is already published
kunpeng2Linux (openEuler 22.03 LTS-SP1) / aarch64  OK    OK    WARNINGS