This page was generated on 2024-03-28 11:39:44 -0400 (Thu, 28 Mar 2024).
Hostname | OS | Arch (*) | R version | Installed pkgs |
nebbiolo1 | Linux (Ubuntu 22.04.3 LTS) | x86_64 | R Under development (unstable) (2024-03-18 r86148) -- "Unsuffered Consequences"
| 4708 |
palomino3 | Windows Server 2022 Datacenter | x64 | R Under development (unstable) (2024-03-16 r86144 ucrt) -- "Unsuffered Consequences"
| 4446 |
lconway | macOS 12.7.1 Monterey | x86_64 | R Under development (unstable) (2024-03-18 r86148) -- "Unsuffered Consequences"
| 4471 |
kunpeng2 | Linux (openEuler 22.03 LTS-SP1) | aarch64 | R Under development (unstable) (2024-03-19 r86153) -- "Unsuffered Consequences"
| 4426 |
Click on any hostname to see more info about the system (e.g. compilers) (*) as reported by 'uname -p', except on Windows and Mac OS X |
##############################################################################
##############################################################################
###
### Running command:
###
### /Library/Frameworks/R.framework/Resources/bin/R CMD build --keep-empty-dirs --no-resave-data pareg
###
##############################################################################
##############################################################################
* checking for file ‘pareg/DESCRIPTION’ ... OK
* preparing ‘pareg’:
* checking DESCRIPTION meta-information ... OK
* installing the package to build vignettes
* creating vignettes ... OK
* checking for LF line-endings in source and make files and shell scripts
* checking for empty or unneeded directories
* looking to see if a ‘data/datalist’ file should be added
* building ‘pareg_1.7.0.tar.gz’
Warning in utils::tar(filepath, pkgname, compression = compression, compression_level = 9L, :
storing paths of more than 100 bytes is not portable:
‘pareg/inst/scripts/synthetic_benchmark/resources/multi_config_workflow/config_ablation_study/config.yaml’
Warning in utils::tar(filepath, pkgname, compression = compression, compression_level = 9L, :
storing paths of more than 100 bytes is not portable:
‘pareg/inst/scripts/synthetic_benchmark/resources/multi_config_workflow/config_ablation_study/params.csv’
Warning in utils::tar(filepath, pkgname, compression = compression, compression_level = 9L, :
storing paths of more than 100 bytes is not portable:
‘pareg/inst/scripts/synthetic_benchmark/resources/multi_config_workflow/config_dispersion_fitting/config.yaml’
Warning in utils::tar(filepath, pkgname, compression = compression, compression_level = 9L, :
storing paths of more than 100 bytes is not portable:
‘pareg/inst/scripts/synthetic_benchmark/resources/multi_config_workflow/config_dispersion_fitting/params.csv’
Warning in utils::tar(filepath, pkgname, compression = compression, compression_level = 9L, :
storing paths of more than 100 bytes is not portable:
‘pareg/inst/scripts/synthetic_benchmark/resources/multi_config_workflow/config_real_datasets/config.yaml’
Warning in utils::tar(filepath, pkgname, compression = compression, compression_level = 9L, :
storing paths of more than 100 bytes is not portable:
‘pareg/inst/scripts/synthetic_benchmark/resources/multi_config_workflow/config_real_datasets/params.csv’
Warning in utils::tar(filepath, pkgname, compression = compression, compression_level = 9L, :
storing paths of more than 100 bytes is not portable:
‘pareg/inst/scripts/synthetic_benchmark/resources/multi_config_workflow/config_regularization_effect/config.yaml’
Warning in utils::tar(filepath, pkgname, compression = compression, compression_level = 9L, :
storing paths of more than 100 bytes is not portable:
‘pareg/inst/scripts/synthetic_benchmark/resources/multi_config_workflow/config_regularization_effect/params.csv’
Warning in utils::tar(filepath, pkgname, compression = compression, compression_level = 9L, :
storing paths of more than 100 bytes is not portable:
‘pareg/inst/scripts/synthetic_benchmark/resources/multi_config_workflow/config_regularization_parameter/’
Warning in utils::tar(filepath, pkgname, compression = compression, compression_level = 9L, :
storing paths of more than 100 bytes is not portable:
‘pareg/inst/scripts/synthetic_benchmark/resources/multi_config_workflow/config_regularization_parameter/config.yaml’
Warning in utils::tar(filepath, pkgname, compression = compression, compression_level = 9L, :
storing paths of more than 100 bytes is not portable:
‘pareg/inst/scripts/synthetic_benchmark/resources/multi_config_workflow/config_regularization_parameter/params.csv’
Warning in utils::tar(filepath, pkgname, compression = compression, compression_level = 9L, :
storing paths of more than 100 bytes is not portable:
‘pareg/inst/scripts/synthetic_benchmark/resources/multi_config_workflow/config_response_distribution/config.yaml’
Warning in utils::tar(filepath, pkgname, compression = compression, compression_level = 9L, :
storing paths of more than 100 bytes is not portable:
‘pareg/inst/scripts/synthetic_benchmark/resources/multi_config_workflow/config_response_distribution/params.csv’
Warning in utils::tar(filepath, pkgname, compression = compression, compression_level = 9L, :
storing paths of more than 100 bytes is not portable:
‘pareg/inst/scripts/synthetic_benchmark/resources/multi_config_workflow/config_similarity_measures/config.yaml’
Warning in utils::tar(filepath, pkgname, compression = compression, compression_level = 9L, :
storing paths of more than 100 bytes is not portable:
‘pareg/inst/scripts/synthetic_benchmark/resources/multi_config_workflow/config_similarity_measures/params.csv’
Warning in utils::tar(filepath, pkgname, compression = compression, compression_level = 9L, :
storing paths of more than 100 bytes is not portable:
‘pareg/inst/scripts/synthetic_benchmark/resources/multi_config_workflow/workflow/scripts/compare_rocauc_vs_loss.R’