Back to Build/check report for BioC 3.15
ABCDEFGHIJKL[M]NOPQRSTUVWXYZ

This page was generated on 2021-12-06 12:31:51 -0500 (Mon, 06 Dec 2021).

All results for package musicatk

To the developers/maintainers of the musicatk package:
- Please allow up to 24 hours (and sometimes 48 hours) for your latest push to git@git.bioconductor.org:packages/musicatk.git to
reflect on this report. See How and When does the builder pull? When will my changes propagate? here for more information.
- Make sure to use the following settings in order to reproduce any error or warning you see on this page.

raw results

Package 1244/2068HostnameOS / ArchINSTALLBUILDCHECKBUILD BIN
musicatk 1.5.0  (landing page)
Aaron Chevalier
Snapshot Date: 2021-12-05 13:55:08 -0500 (Sun, 05 Dec 2021)
git_url: https://git.bioconductor.org/packages/musicatk
git_branch: master
git_last_commit: ab8dbf0
git_last_commit_date: 2021-10-26 13:04:15 -0500 (Tue, 26 Oct 2021)
nebbiolo1Linux (Ubuntu 20.04.3 LTS) / x86_64  OK    OK    OK  UNNEEDED, same version is already published