Back to Multiple platform build/check report for BioC 3.15
A[B]CDEFGHIJKLMNOPQRSTUVWXYZ

This page was generated on 2021-11-25 14:03:59 -0500 (Thu, 25 Nov 2021).

All results for package BioNERO

To the developers/maintainers of the BioNERO package:
- Please allow up to 24 hours (and sometimes 48 hours) for your latest push to git@git.bioconductor.org:packages/BioNERO.git to
reflect on this report. See How and When does the builder pull? When will my changes propagate? here for more information.
- Make sure to use the following settings in order to reproduce any error or warning you see on this page.

raw results

Package 184/2068HostnameOS / ArchINSTALLBUILDCHECKBUILD BIN
BioNERO 1.3.0  (landing page)
Fabricio Almeida-Silva
Snapshot Date: 2021-11-24 14:50:13 -0500 (Wed, 24 Nov 2021)
git_url: https://git.bioconductor.org/packages/BioNERO
git_branch: master
git_last_commit: 47d4c2a
git_last_commit_date: 2021-10-26 13:08:05 -0500 (Tue, 26 Oct 2021)
nebbiolo1Linux (Ubuntu 20.04.3 LTS) / x86_64  OK    OK    OK  UNNEEDED, same version is already published
riesling1Windows Server 2019 Standard / x64  OK    OK    OK    OK  
merida1macOS 10.14.6 Mojave / x86_64  OK    OK    OK    OK  UNNEEDED, same version is already published

Results for Bioconductor software packages that depend directly on package BioNERO

QUICK STATSOS / ArchINSTALLBUILDCHECKBUILD BIN
nebbiolo1Linux (Ubuntu 20.04.3 LTS) / x86_64
001
001
0001
riesling1Windows Server 2019 Standard / x64
001
001
0001
001
merida1macOS 10.14.6 Mojave / x86_64
001
001
0001
001
Package 1/1HostnameOS / ArchINSTALLBUILDCHECKBUILD BIN
cageminer 1.1.0  (landing page)
Fabrício Almeida-Silva
git_last_commit: 55c80b9
git_last_commit_date: 2021-10-26 13:11:21 -0500
nebbiolo1Linux (Ubuntu 20.04.3 LTS) / x86_64  OK    OK    OK  UNNEEDED, same version is already published
riesling1Windows Server 2019 Standard / x64  OK    OK    OK    OK  
merida1macOS 10.14.6 Mojave / x86_64  OK    OK    OK    OK  UNNEEDED, same version is already published