Back to Multiple platform build/check report for BioC 3.16
ABCDEFGHIJKLMNOPQRSTU[V]WXYZ

This page was generated on 2022-07-01 11:05:41 -0400 (Fri, 01 Jul 2022).

HostnameOSArch (*)R versionInstalled pkgs
nebbiolo2Linux (Ubuntu 20.04.4 LTS)x86_644.2.0 Patched (2022-06-02 r82447) -- "Vigorous Calisthenics" 4343
palomino4Windows Server 2022 Datacenterx644.2.0 Patched (2022-06-02 r82447 ucrt) -- "Vigorous Calisthenics" 4147
lconwaymacOS 12.2.1 Montereyx86_644.2.0 Patched (2022-05-29 r82424) -- "Vigorous Calisthenics" 4159
Click on any hostname to see more info about the system (e.g. compilers)      (*) as reported by 'uname -p', except on Windows and Mac OS X

BUILD results for velociraptor on nebbiolo2


To the developers/maintainers of the velociraptor package:
- Please allow up to 24 hours (and sometimes 48 hours) for your latest push to git@git.bioconductor.org:packages/velociraptor.git to
reflect on this report. See How and When does the builder pull? When will my changes propagate? for more information.
- Make sure to use the following settings in order to reproduce any error or warning you see on this page.

raw results

Package 2086/2124HostnameOS / ArchINSTALLBUILDCHECKBUILD BIN
velociraptor 1.7.0  (landing page)
Kevin Rue-Albrecht
Snapshot Date: 2022-06-30 14:00:04 -0400 (Thu, 30 Jun 2022)
git_url: https://git.bioconductor.org/packages/velociraptor
git_branch: master
git_last_commit: 0ee7651
git_last_commit_date: 2022-04-26 12:08:47 -0400 (Tue, 26 Apr 2022)
nebbiolo2Linux (Ubuntu 20.04.4 LTS) / x86_64  OK    OK    OK  UNNEEDED, same version is already published
palomino4Windows Server 2022 Datacenter / x64  OK    OK    OK    OK  UNNEEDED, same version is already published
lconwaymacOS 12.2.1 Monterey / x86_64  OK    OK    OK    OK  UNNEEDED, same version is already published

Summary

Package: velociraptor
Version: 1.7.0
Command: /home/biocbuild/bbs-3.16-bioc/R/bin/R CMD build --keep-empty-dirs --no-resave-data velociraptor
StartedAt: 2022-06-30 18:09:50 -0400 (Thu, 30 Jun 2022)
EndedAt: 2022-06-30 18:11:31 -0400 (Thu, 30 Jun 2022)
EllapsedTime: 100.5 seconds
RetCode: 0
Status:   OK  
PackageFile: velociraptor_1.7.0.tar.gz
PackageFileSize: 796.8 KiB

Command output

##############################################################################
##############################################################################
###
### Running command:
###
###   /home/biocbuild/bbs-3.16-bioc/R/bin/R CMD build --keep-empty-dirs --no-resave-data velociraptor
###
##############################################################################
##############################################################################


* checking for file ‘velociraptor/DESCRIPTION’ ... OK
* preparing ‘velociraptor’:
* checking DESCRIPTION meta-information ... OK
* installing the package to build vignettes
* creating vignettes ... OK
* checking for LF line-endings in source and make files and shell scripts
* checking for empty or unneeded directories
* building ‘velociraptor_1.7.0.tar.gz’