Back to Multiple platform build/check report for BioC 3.13
ABCDEFGH[I]JKLMNOPQRSTUVWXYZ

Multiple platform build/check report for BioC 3.13

Results for ipdDb

This page was generated on 2020-11-30 12:16:56 -0500 (Mon, 30 Nov 2020).

Package 884/1914HostnameOS / ArchINSTALLBUILDCHECKBUILD BIN
ipdDb 1.9.0
Steffen Klasberg
Snapshot Date: 2020-11-29 14:40:27 -0500 (Sun, 29 Nov 2020)
URL: https://git.bioconductor.org/packages/ipdDb
Branch: master
Last Commit: 5e14bbf
Last Changed Date: 2020-10-27 11:36:44 -0500 (Tue, 27 Oct 2020)
malbec2 Linux (Ubuntu 20.04.1 LTS) / x86_64  OK  OK  OK UNNEEDED, same version exists in internal repository
tokay2 Windows Server 2012 R2 Standard / x64  OK  OK  OK  OK UNNEEDED, same version exists in internal repository
riesling1 Windows Server 2019 Standard / x64  OK  OK  OK  OK 
machv2 macOS 10.14.6 Mojave / x86_64  OK  OK  OK  OK UNNEEDED, same version exists in internal repository