Back to Multiple platform build/check report for BioC 3.15
[A]BCDEFGHIJKLMNOPQRSTUVWXYZ

This page was generated on 2022-01-25 11:04:07 -0500 (Tue, 25 Jan 2022).

HostnameOSArch (*)R versionInstalled pkgs
nebbiolo1Linux (Ubuntu 20.04.4 LTS)x86_64R Under development (unstable) (2022-01-05 r81451) -- "Unsuffered Consequences" 4164
riesling1Windows Server 2019 Standardx64R Under development (unstable) (2021-11-21 r81221) -- "Unsuffered Consequences" 4059
palomino3Windows Server 2022 Datacenterx64R Under development (unstable) (2021-12-21 r81400 ucrt) -- "Unsuffered Consequences" 4001
merida1macOS 10.14.6 Mojavex86_64R Under development (unstable) (2022-01-05 r81451) -- "Unsuffered Consequences" 4118
Click on any hostname to see more info about the system (e.g. compilers)      (*) as reported by 'uname -p', except on Windows and Mac OS X

All results for package annotate


To the developers/maintainers of the annotate package:
- Please allow up to 24 hours (and sometimes 48 hours) for your latest push to git@git.bioconductor.org:packages/annotate.git to
reflect on this report. See How and When does the builder pull? When will my changes propagate? here for more information.
- Make sure to use the following settings in order to reproduce any error or warning you see on this page.

raw results

Package 56/2075HostnameOS / ArchINSTALLBUILDCHECKBUILD BIN
annotate 1.73.0  (landing page)
Bioconductor Package Maintainer
Snapshot Date: 2022-01-24 13:55:18 -0500 (Mon, 24 Jan 2022)
git_url: https://git.bioconductor.org/packages/annotate
git_branch: master
git_last_commit: bd601f0
git_last_commit_date: 2021-10-26 11:45:29 -0500 (Tue, 26 Oct 2021)
nebbiolo1Linux (Ubuntu 20.04.4 LTS) / x86_64  OK    OK    OK  UNNEEDED, same version is already published
riesling1Windows Server 2019 Standard / x64  OK    OK    OK    OK  
palomino3Windows Server 2022 Datacenter / x64  OK    OK    OK    OK  NO, package depends on 'AnnotationDbi' which is not available
merida1macOS 10.14.6 Mojave / x86_64  OK    OK    OK    OK  UNNEEDED, same version is already published

Results for Bioconductor software packages that depend directly on package annotate

QUICK STATSOS / ArchINSTALLBUILDCHECKBUILD BIN
nebbiolo1Linux (Ubuntu 20.04.4 LTS) / x86_64
0033
0132
00824
riesling1Windows Server 2019 Standard / x64
0033
0132
00923
0032
palomino3Windows Server 2022 Datacenter / x64
0033
0132
00923
0032
merida1macOS 10.14.6 Mojave / x86_64
0033
0231
00724
0031
Package 1/33HostnameOS / ArchINSTALLBUILDCHECKBUILD BIN
CAFE 1.31.0  (landing page)
Sander Bollen
git_last_commit: 24b7cec
git_last_commit_date: 2021-10-26 12:12:15 -0500
nebbiolo1Linux (Ubuntu 20.04.4 LTS) / x86_64  OK    OK    WARNINGS  UNNEEDED, same version is already published
riesling1Windows Server 2019 Standard / x64  OK    OK    WARNINGS    OK  
palomino3Windows Server 2022 Datacenter / x64  OK    OK    WARNINGS    OK  NO, package depends on 'biovizBase' which is not available
merida1macOS 10.14.6 Mojave / x86_64  OK    OK    WARNINGS    OK  UNNEEDED, same version is already published
Package 2/33HostnameOS / ArchINSTALLBUILDCHECKBUILD BIN
Category 2.61.0  (landing page)
Bioconductor Package Maintainer
git_last_commit: e64ddb1
git_last_commit_date: 2021-10-26 11:48:11 -0500
nebbiolo1Linux (Ubuntu 20.04.4 LTS) / x86_64  OK    OK    OK  UNNEEDED, same version is already published
riesling1Windows Server 2019 Standard / x64  OK    OK    OK    OK  
palomino3Windows Server 2022 Datacenter / x64  OK    OK    OK    OK  NO, package depends on 'BiocGenerics' which is not available
merida1macOS 10.14.6 Mojave / x86_64  OK    OK    OK    OK  UNNEEDED, same version is already published
Package 3/33HostnameOS / ArchINSTALLBUILDCHECKBUILD BIN
categoryCompare 1.39.0  (landing page)
Robert M. Flight
git_last_commit: b76dc35
git_last_commit_date: 2021-10-26 12:03:05 -0500
nebbiolo1Linux (Ubuntu 20.04.4 LTS) / x86_64  OK    OK    OK  UNNEEDED, same version is already published
riesling1Windows Server 2019 Standard / x64  OK    OK    OK    OK  
palomino3Windows Server 2022 Datacenter / x64  OK    OK    OK    OK  NO, package depends on 'Biobase' which is not available
merida1macOS 10.14.6 Mojave / x86_64  OK    OK    OK    OK  UNNEEDED, same version is already published
Package 4/33HostnameOS / ArchINSTALLBUILDCHECKBUILD BIN
ChromHeatMap 1.49.0  (landing page)
Tim F. Rayner
git_last_commit: 6b6da2c
git_last_commit_date: 2021-10-26 11:54:52 -0500
nebbiolo1Linux (Ubuntu 20.04.4 LTS) / x86_64  OK    OK    OK  UNNEEDED, same version is already published
riesling1Windows Server 2019 Standard / x64  OK    OK    OK    OK  
palomino3Windows Server 2022 Datacenter / x64  OK    OK    OK    OK  NO, package depends on 'BiocGenerics' which is not available
merida1macOS 10.14.6 Mojave / x86_64  OK    OK    OK    OK  UNNEEDED, same version is already published
Package 5/33HostnameOS / ArchINSTALLBUILDCHECKBUILD BIN
CNEr 1.31.1  (landing page)
Ge Tan
git_last_commit: 0643f08
git_last_commit_date: 2021-11-20 03:55:18 -0500
nebbiolo1Linux (Ubuntu 20.04.4 LTS) / x86_64  OK    OK    OK  UNNEEDED, same version is already published
riesling1Windows Server 2019 Standard / x64  OK    OK    WARNINGS    OK  
palomino3Windows Server 2022 Datacenter / x64  OK    OK    WARNINGS    OK  NO, package depends on 'Biostrings' which is not available
merida1macOS 10.14.6 Mojave / x86_64  OK    OK    WARNINGS    OK  UNNEEDED, same version is already published
Package 6/33HostnameOS / ArchINSTALLBUILDCHECKBUILD BIN
codelink 1.63.0  (landing page)
Diego Diez
git_last_commit: 1117cc8
git_last_commit_date: 2021-10-26 11:49:04 -0500
nebbiolo1Linux (Ubuntu 20.04.4 LTS) / x86_64  OK    OK    OK  UNNEEDED, same version is already published
riesling1Windows Server 2019 Standard / x64  OK    OK    OK    OK  
palomino3Windows Server 2022 Datacenter / x64  OK    OK    OK    OK  NO, package depends on 'BiocGenerics' which is not available
merida1macOS 10.14.6 Mojave / x86_64  OK    OK    OK    OK  UNNEEDED, same version is already published
Package 7/33HostnameOS / ArchINSTALLBUILDCHECKBUILD BIN
debrowser 1.23.4  (landing page)
Alper Kucukural
git_last_commit: 0dcdc76
git_last_commit_date: 2021-12-15 18:12:31 -0500
nebbiolo1Linux (Ubuntu 20.04.4 LTS) / x86_64  OK    OK    OK  UNNEEDED, same version is already published
riesling1Windows Server 2019 Standard / x64  OK    OK    OK    OK  
palomino3Windows Server 2022 Datacenter / x64  OK    OK    OK    OK  NO, package depends on 'annotate' which is not available
merida1macOS 10.14.6 Mojave / x86_64  OK    OK    OK    OK  NO, package depends on 'DOSE' which is not available
Package 8/33HostnameOS / ArchINSTALLBUILDCHECKBUILD BIN
DrugVsDisease 2.37.0  (landing page)
j. Saez-Rodriguez
git_last_commit: 0de3be5
git_last_commit_date: 2021-10-26 12:06:31 -0500
nebbiolo1Linux (Ubuntu 20.04.4 LTS) / x86_64  OK    OK    OK  UNNEEDED, same version is already published
riesling1Windows Server 2019 Standard / x64  OK    OK    OK    OK  
palomino3Windows Server 2022 Datacenter / x64  OK    OK    OK    OK  NO, package depends on 'affy' which is not available
merida1macOS 10.14.6 Mojave / x86_64  OK    OK    OK    OK  UNNEEDED, same version is already published
Package 9/33HostnameOS / ArchINSTALLBUILDCHECKBUILD BIN
genefilter 1.77.0  (landing page)
Bioconductor Package Maintainer
git_last_commit: 7911602
git_last_commit_date: 2021-10-26 11:45:31 -0500
nebbiolo1Linux (Ubuntu 20.04.4 LTS) / x86_64  OK    OK    WARNINGS  UNNEEDED, same version is already published
riesling1Windows Server 2019 Standard / x64  OK    OK    WARNINGS    OK  
palomino3Windows Server 2022 Datacenter / x64  OK    OK    WARNINGS    OK  NO, package depends on 'BiocGenerics' which is not available
merida1macOS 10.14.6 Mojave / x86_64  OK    OK    OK    OK  UNNEEDED, same version is already published
Package 10/33HostnameOS / ArchINSTALLBUILDCHECKBUILD BIN
geneplotter 1.73.0  (landing page)
Bioconductor Package Maintainer
git_last_commit: a1bbcd2
git_last_commit_date: 2021-10-26 11:45:33 -0500
nebbiolo1Linux (Ubuntu 20.04.4 LTS) / x86_64  OK    OK    OK  UNNEEDED, same version is already published
riesling1Windows Server 2019 Standard / x64  OK    OK    OK    OK  
palomino3Windows Server 2022 Datacenter / x64  OK    OK    OK    OK  NO, package depends on 'Biobase' which is not available
merida1macOS 10.14.6 Mojave / x86_64  OK    OK    OK    OK  UNNEEDED, same version is already published
Package 11/33HostnameOS / ArchINSTALLBUILDCHECKBUILD BIN
GlobalAncova 4.13.0  (landing page)
Manuela Hummel
git_last_commit: 5ed28f4
git_last_commit_date: 2021-10-26 11:48:41 -0500
nebbiolo1Linux (Ubuntu 20.04.4 LTS) / x86_64  OK    OK    OK  UNNEEDED, same version is already published
riesling1Windows Server 2019 Standard / x64  OK    OK    OK    OK  
palomino3Windows Server 2022 Datacenter / x64  OK    OK    OK    OK  NO, package depends on 'globaltest' which is not available
merida1macOS 10.14.6 Mojave / x86_64  OK    OK    OK    OK  UNNEEDED, same version is already published
Package 12/33HostnameOS / ArchINSTALLBUILDCHECKBUILD BIN
globaltest 5.49.1  (landing page)
Jelle Goeman
git_last_commit: 23729c6
git_last_commit_date: 2021-12-17 07:30:30 -0500
nebbiolo1Linux (Ubuntu 20.04.4 LTS) / x86_64  OK    OK    OK  UNNEEDED, same version is already published
riesling1Windows Server 2019 Standard / x64  OK    OK    OK    OK  
palomino3Windows Server 2022 Datacenter / x64  OK    OK    OK    OK  NO, package depends on 'Biobase' which is not available
merida1macOS 10.14.6 Mojave / x86_64  OK    OK    OK    OK  UNNEEDED, same version is already published
Package 13/33HostnameOS / ArchINSTALLBUILDCHECKBUILD BIN
GOSim 1.33.0  (landing page)
Holger Froehlich
git_last_commit: 27b7ae9
git_last_commit_date: 2021-10-26 12:09:55 -0500
nebbiolo1Linux (Ubuntu 20.04.4 LTS) / x86_64  OK    OK    OK  UNNEEDED, same version is already published
riesling1Windows Server 2019 Standard / x64  OK    OK    OK    OK  
palomino3Windows Server 2022 Datacenter / x64  OK    OK    OK    OK  NO, package depends on 'annotate' which is not available
merida1macOS 10.14.6 Mojave / x86_64  OK    OK    OK    OK  UNNEEDED, same version is already published
Package 14/33HostnameOS / ArchINSTALLBUILDCHECKBUILD BIN
GOstats 2.61.0  (landing page)
Bioconductor Package Maintainer
git_last_commit: cd3ee9b
git_last_commit_date: 2021-10-26 11:47:01 -0500
nebbiolo1Linux (Ubuntu 20.04.4 LTS) / x86_64  OK    OK    OK  UNNEEDED, same version is already published
riesling1Windows Server 2019 Standard / x64  OK    OK    OK    OK  
palomino3Windows Server 2022 Datacenter / x64  OK    OK    OK    OK  NO, package depends on 'Biobase' which is not available
merida1macOS 10.14.6 Mojave / x86_64  OK    OK    OK    OK  UNNEEDED, same version is already published
Package 15/33HostnameOS / ArchINSTALLBUILDCHECKBUILD BIN
GSEABase 1.57.0  (landing page)
Bioconductor Package Maintainer
git_last_commit: c9a3c77
git_last_commit_date: 2021-10-26 11:51:15 -0500
nebbiolo1Linux (Ubuntu 20.04.4 LTS) / x86_64  OK    OK    OK  UNNEEDED, same version is already published
riesling1Windows Server 2019 Standard / x64  OK    OK    OK    OK  
palomino3Windows Server 2022 Datacenter / x64  OK    OK    OK    OK  NO, package depends on 'BiocGenerics' which is not available
merida1macOS 10.14.6 Mojave / x86_64  OK    OK    OK    OK  UNNEEDED, same version is already published
Package 16/33HostnameOS / ArchINSTALLBUILDCHECKBUILD BIN
idiogram 1.71.0  (landing page)
Karl J. Dykema
git_last_commit: 530361d
git_last_commit_date: 2021-10-26 11:47:59 -0500
nebbiolo1Linux (Ubuntu 20.04.4 LTS) / x86_64  OK    OK    OK  UNNEEDED, same version is already published
riesling1Windows Server 2019 Standard / x64  OK    OK    OK    OK  
palomino3Windows Server 2022 Datacenter / x64  OK    OK    OK    OK  NO, package depends on 'Biobase' which is not available
merida1macOS 10.14.6 Mojave / x86_64  OK    OK    OK    OK  UNNEEDED, same version is already published
Package 17/33HostnameOS / ArchINSTALLBUILDCHECKBUILD BIN
lumi 2.47.0  (landing page)
Lei Huang
git_last_commit: 2336503
git_last_commit_date: 2021-10-26 11:50:43 -0500
nebbiolo1Linux (Ubuntu 20.04.4 LTS) / x86_64  OK    OK    WARNINGS  UNNEEDED, same version is already published
riesling1Windows Server 2019 Standard / x64  OK    OK    WARNINGS    OK  
palomino3Windows Server 2022 Datacenter / x64  OK    OK    WARNINGS    OK  NO, package depends on 'Biobase' which is not available
merida1macOS 10.14.6 Mojave / x86_64  OK    OK    WARNINGS    OK  UNNEEDED, same version is already published
Package 18/33HostnameOS / ArchINSTALLBUILDCHECKBUILD BIN
macat 1.69.0  (landing page)
Joern Toedling
git_last_commit: 6ad2b86
git_last_commit_date: 2021-10-26 11:47:29 -0500
nebbiolo1Linux (Ubuntu 20.04.4 LTS) / x86_64  OK    OK    OK  UNNEEDED, same version is already published
riesling1Windows Server 2019 Standard / x64  OK    OK    OK    OK  
palomino3Windows Server 2022 Datacenter / x64  OK    OK    OK    OK  NO, package depends on 'Biobase' which is not available
merida1macOS 10.14.6 Mojave / x86_64  OK    OK    OK    OK  UNNEEDED, same version is already published
Package 19/33HostnameOS / ArchINSTALLBUILDCHECKBUILD BIN
methylumi 2.41.1  (landing page)
Sean Davis
git_last_commit: 80d9b99
git_last_commit_date: 2021-10-27 03:30:10 -0500
nebbiolo1Linux (Ubuntu 20.04.4 LTS) / x86_64  OK    OK    OK  UNNEEDED, same version is already published
riesling1Windows Server 2019 Standard / x64  OK    OK    OK    OK  
palomino3Windows Server 2022 Datacenter / x64  OK    OK    OK    OK  NO, package depends on 'Biobase' which is not available
merida1macOS 10.14.6 Mojave / x86_64  OK    OK    OK    OK  UNNEEDED, same version is already published
Package 20/33HostnameOS / ArchINSTALLBUILDCHECKBUILD BIN
MGFM 1.29.0  (landing page)
Khadija El Amrani
git_last_commit: 4075826
git_last_commit_date: 2021-10-26 12:16:03 -0500
nebbiolo1Linux (Ubuntu 20.04.4 LTS) / x86_64  OK    OK    OK  UNNEEDED, same version is already published
riesling1Windows Server 2019 Standard / x64  OK    OK    OK    OK  
palomino3Windows Server 2022 Datacenter / x64  OK    OK    OK    OK  NO, package depends on 'AnnotationDbi' which is not available
merida1macOS 10.14.6 Mojave / x86_64  OK    OK    OK    OK  UNNEEDED, same version is already published
Package 21/33HostnameOS / ArchINSTALLBUILDCHECKBUILD BIN
MGFR 1.21.0  (landing page)
Khadija El Amrani
git_last_commit: 3753e26
git_last_commit_date: 2021-10-26 12:28:52 -0500
nebbiolo1Linux (Ubuntu 20.04.4 LTS) / x86_64  OK    OK    OK  UNNEEDED, same version is already published
riesling1Windows Server 2019 Standard / x64  OK    OK    OK    OK  
palomino3Windows Server 2022 Datacenter / x64  OK    OK    OK    OK  NO, package depends on 'biomaRt' which is not available
merida1macOS 10.14.6 Mojave / x86_64  OK    OK    OK    OK  UNNEEDED, same version is already published
Package 22/33HostnameOS / ArchINSTALLBUILDCHECKBUILD BIN
MineICA 1.35.0  (landing page)
Anne Biton
git_last_commit: 7293f30
git_last_commit_date: 2021-10-26 12:06:44 -0500
nebbiolo1Linux (Ubuntu 20.04.4 LTS) / x86_64  OK    OK    WARNINGS  UNNEEDED, same version is already published
riesling1Windows Server 2019 Standard / x64  OK    OK    WARNINGS    OK  
palomino3Windows Server 2022 Datacenter / x64  OK    OK    WARNINGS    OK  NO, package depends on 'BiocGenerics' which is not available
merida1macOS 10.14.6 Mojave / x86_64  OK    ERROR  skippedskipped
Package 23/33HostnameOS / ArchINSTALLBUILDCHECKBUILD BIN
MLInterfaces 1.75.0  (landing page)
V. Carey
git_last_commit: a43f34d
git_last_commit_date: 2021-10-26 11:47:12 -0500
nebbiolo1Linux (Ubuntu 20.04.4 LTS) / x86_64  OK    OK    OK  UNNEEDED, same version is already published
riesling1Windows Server 2019 Standard / x64  OK    OK    OK    OK  
palomino3Windows Server 2022 Datacenter / x64  OK    OK    OK    OK  NO, package depends on 'BiocGenerics' which is not available
merida1macOS 10.14.6 Mojave / x86_64  OK    OK    OK    OK  UNNEEDED, same version is already published
Package 24/33HostnameOS / ArchINSTALLBUILDCHECKBUILD BIN
phenoTest 1.43.0  (landing page)
Evarist Planet
git_last_commit: 14b12b9
git_last_commit_date: 2021-10-26 11:57:57 -0500
nebbiolo1Linux (Ubuntu 20.04.4 LTS) / x86_64  OK    OK    WARNINGS  UNNEEDED, same version is already published
riesling1Windows Server 2019 Standard / x64  OK    OK    WARNINGS    OK  
palomino3Windows Server 2022 Datacenter / x64  OK    OK    WARNINGS    OK  NO, package depends on 'Biobase' which is not available
merida1macOS 10.14.6 Mojave / x86_64  OK    OK    WARNINGS    OK  UNNEEDED, same version is already published
Package 25/33HostnameOS / ArchINSTALLBUILDCHECKBUILD BIN
PREDA 1.41.0  (landing page)
Francesco Ferrari
git_last_commit: 6501e83
git_last_commit_date: 2021-12-16 16:12:35 -0500
nebbiolo1Linux (Ubuntu 20.04.4 LTS) / x86_64  OK    OK    WARNINGS  UNNEEDED, same version is already published
riesling1Windows Server 2019 Standard / x64  OK    OK    WARNINGS    OK  
palomino3Windows Server 2022 Datacenter / x64  OK    OK    WARNINGS    OK  NO, package depends on 'Biobase' which is not available
merida1macOS 10.14.6 Mojave / x86_64  OK    OK    WARNINGS    OK  UNNEEDED, same version is already published
Package 26/33HostnameOS / ArchINSTALLBUILDCHECKBUILD BIN
qpgraph 2.29.0  (landing page)
Robert Castelo
git_last_commit: faf7788
git_last_commit_date: 2021-10-26 11:53:27 -0500
nebbiolo1Linux (Ubuntu 20.04.4 LTS) / x86_64  OK    OK    WARNINGS  UNNEEDED, same version is already published
riesling1Windows Server 2019 Standard / x64  OK    OK    WARNINGS    OK  
palomino3Windows Server 2022 Datacenter / x64  OK    OK    WARNINGS    OK  NO, package depends on 'annotate' which is not available
merida1macOS 10.14.6 Mojave / x86_64  OK    OK    WARNINGS    OK  UNNEEDED, same version is already published
Package 27/33HostnameOS / ArchINSTALLBUILDCHECKBUILD BIN
ReportingTools 2.35.0  (landing page)
Jason A. Hackney , Gabriel Becker
git_last_commit: d3a5ca7
git_last_commit_date: 2021-10-26 12:04:45 -0500
nebbiolo1Linux (Ubuntu 20.04.4 LTS) / x86_64  OK    OK    OK  UNNEEDED, same version is already published
riesling1Windows Server 2019 Standard / x64  OK    OK    OK    OK  
palomino3Windows Server 2022 Datacenter / x64  OK    OK    OK    OK  NO, package depends on 'Biobase' which is not available
merida1macOS 10.14.6 Mojave / x86_64  OK    OK    OK    OK  UNNEEDED, same version is already published
Package 28/33HostnameOS / ArchINSTALLBUILDCHECKBUILD BIN
RpsiXML 2.37.1  (landing page)
Jitao David Zhang
git_last_commit: 9cb6fba
git_last_commit_date: 2022-01-10 10:29:24 -0500
nebbiolo1Linux (Ubuntu 20.04.4 LTS) / x86_64  OK    OK    WARNINGS  UNNEEDED, same version is already published
riesling1Windows Server 2019 Standard / x64  OK    OK    WARNINGS    OK  
palomino3Windows Server 2022 Datacenter / x64  OK    OK    WARNINGS    OK  NO, package depends on 'annotate' which is not available
merida1macOS 10.14.6 Mojave / x86_64  OK    OK    WARNINGS    OK  UNNEEDED, same version is already published
Package 29/33HostnameOS / ArchINSTALLBUILDCHECKBUILD BIN
sampleClassifier 1.19.0  (landing page)
Khadija El Amrani
git_last_commit: fe4c042
git_last_commit_date: 2021-10-26 13:06:21 -0500
nebbiolo1Linux (Ubuntu 20.04.4 LTS) / x86_64  OK    OK    OK  UNNEEDED, same version is already published
riesling1Windows Server 2019 Standard / x64  OK    OK    OK    OK  
palomino3Windows Server 2022 Datacenter / x64  OK    OK    OK    OK  NO, package depends on 'MGFM' which is not available
merida1macOS 10.14.6 Mojave / x86_64  OK    OK    OK    OK  UNNEEDED, same version is already published
Package 30/33HostnameOS / ArchINSTALLBUILDCHECKBUILD BIN
ScISI 1.67.1  (landing page)
Tony Chiang
git_last_commit: 5c1326c
git_last_commit_date: 2022-01-05 14:57:14 -0500
nebbiolo1Linux (Ubuntu 20.04.4 LTS) / x86_64  OK    ERROR  skipped
riesling1Windows Server 2019 Standard / x64  OK    ERROR  skippedskipped
palomino3Windows Server 2022 Datacenter / x64  OK    ERROR  skippedskipped
merida1macOS 10.14.6 Mojave / x86_64  OK    ERROR  skippedskipped
Package 31/33HostnameOS / ArchINSTALLBUILDCHECKBUILD BIN
SemDist 1.29.0  (landing page)
Ian Gonzalez
git_last_commit: 8695254
git_last_commit_date: 2021-10-26 12:15:20 -0500
nebbiolo1Linux (Ubuntu 20.04.4 LTS) / x86_64  OK    OK    OK  UNNEEDED, same version is already published
riesling1Windows Server 2019 Standard / x64  OK    OK    OK    OK  
palomino3Windows Server 2022 Datacenter / x64  OK    OK    OK    OK  NO, package depends on 'AnnotationDbi' which is not available
merida1macOS 10.14.6 Mojave / x86_64  OK    OK    OK    OK  UNNEEDED, same version is already published
Package 32/33HostnameOS / ArchINSTALLBUILDCHECKBUILD BIN
tigre 1.49.0  (landing page)
Antti Honkela
git_last_commit: 6a692e0
git_last_commit_date: 2021-10-26 11:55:49 -0500
nebbiolo1Linux (Ubuntu 20.04.4 LTS) / x86_64  OK    OK    OK  UNNEEDED, same version is already published
riesling1Windows Server 2019 Standard / x64  OK    OK    OK    OK  
palomino3Windows Server 2022 Datacenter / x64  OK    OK    OK    OK  NO, package depends on 'BiocGenerics' which is not available
merida1macOS 10.14.6 Mojave / x86_64  OK    OK    OK    OK  UNNEEDED, same version is already published
Package 33/33HostnameOS / ArchINSTALLBUILDCHECKBUILD BIN
UMI4Cats 1.5.0  (landing page)
Mireia Ramos-Rodriguez
git_last_commit: 4eaf04d
git_last_commit_date: 2021-10-26 13:01:42 -0500
nebbiolo1Linux (Ubuntu 20.04.4 LTS) / x86_64  OK    OK    OK  UNNEEDED, same version is already published
riesling1Windows Server 2019 Standard / x64  OK    OK    OK    OK  
palomino3Windows Server 2022 Datacenter / x64  OK    OK    OK    OK  NO, package depends on 'SummarizedExperiment' which is not available
merida1macOS 10.14.6 Mojave / x86_64  OK    OK    OK    OK  UNNEEDED, same version is already published