Back to Multiple platform build/check report for BioC 3.14
ABCDEF[G]HIJKLMNOPQRSTUVWXYZ

This page was generated on 2021-10-23 14:05:59 -0400 (Sat, 23 Oct 2021).

INSTALL results for GDCRNATools on nebbiolo2

To the developers/maintainers of the GDCRNATools package:
- Please allow up to 24 hours (and sometimes 48 hours) for your latest push to git@git.bioconductor.org:packages/GDCRNATools.git to
reflect on this report. See How and When does the builder pull? When will my changes propagate? here for more information.
- Make sure to use the following settings in order to reproduce any error or warning you see on this page.

raw results

Package 709/2083HostnameOS / ArchINSTALLBUILDCHECKBUILD BIN
GDCRNATools 1.13.1  (landing page)
Ruidong Li
Snapshot Date: 2021-10-22 14:50:11 -0400 (Fri, 22 Oct 2021)
git_url: https://git.bioconductor.org/packages/GDCRNATools
git_branch: master
git_last_commit: a757328
git_last_commit_date: 2021-08-03 03:15:18 -0400 (Tue, 03 Aug 2021)
nebbiolo2Linux (Ubuntu 20.04.2 LTS) / x86_64  OK    OK    OK  UNNEEDED, same version is already published
riesling1Windows Server 2019 Standard / x64  OK    OK    OK    OK  UNNEEDED, same version is already published
merida1macOS 10.14.6 Mojave / x86_64  OK    OK    OK    OK  UNNEEDED, same version is already published

Summary

Package: GDCRNATools
Version: 1.13.1
Command: /home/biocbuild/bbs-3.14-bioc/R/bin/R CMD INSTALL GDCRNATools
StartedAt: 2021-10-22 16:34:51 -0400 (Fri, 22 Oct 2021)
EndedAt: 2021-10-22 16:35:43 -0400 (Fri, 22 Oct 2021)
EllapsedTime: 52.5 seconds
RetCode: 0
Status:   OK  

Command output

##############################################################################
##############################################################################
###
### Running command:
###
###   /home/biocbuild/bbs-3.14-bioc/R/bin/R CMD INSTALL GDCRNATools
###
##############################################################################
##############################################################################


* installing to library ‘/home/biocbuild/bbs-3.14-bioc/R/library’
* installing *source* package ‘GDCRNATools’ ...
** using staged installation
** R
** data
** inst
** byte-compile and prepare package for lazy loading
** help
*** installing help indices
** building package indices
** installing vignettes
** testing if installed package can be loaded from temporary location
** testing if installed package can be loaded from final location
** testing if installed package keeps a record of temporary installation path
* DONE (GDCRNATools)