Back to Multiple platform build/check report for BioC 3.14
ABCDEFGHIJKL[M]NOPQRSTUVWXYZ

This page was generated on 2021-10-14 12:05:11 -0400 (Thu, 14 Oct 2021).

INSTALL results for metaseqR2 on nebbiolo2

To the developers/maintainers of the metaseqR2 package:
- Please allow up to 24 hours (and sometimes 48 hours) for your latest push to git@git.bioconductor.org:packages/metaseqR2.git to
reflect on this report. See How and When does the builder pull? When will my changes propagate? here for more information.
- Make sure to use the following settings in order to reproduce any error or warning you see on this page.

raw results

Package 1092/2056HostnameOS / ArchINSTALLBUILDCHECKBUILD BIN
metaseqR2 1.5.16  (landing page)
Panagiotis Moulos
Snapshot Date: 2021-10-13 14:50:09 -0400 (Wed, 13 Oct 2021)
git_url: https://git.bioconductor.org/packages/metaseqR2
git_branch: master
git_last_commit: d0bd751
git_last_commit_date: 2021-10-13 12:31:23 -0400 (Wed, 13 Oct 2021)
nebbiolo2Linux (Ubuntu 20.04.2 LTS) / x86_64  OK    OK    ERROR  
riesling1Windows Server 2019 Standard / x64  OK    ERROR  skippedskipped
merida1macOS 10.14.6 Mojave / x86_64  OK    OK    ERROR    OK  

Summary

Package: metaseqR2
Version: 1.5.16
Command: /home/biocbuild/bbs-3.14-bioc/R/bin/R CMD INSTALL metaseqR2
StartedAt: 2021-10-13 16:39:37 -0400 (Wed, 13 Oct 2021)
EndedAt: 2021-10-13 16:40:41 -0400 (Wed, 13 Oct 2021)
EllapsedTime: 64.4 seconds
RetCode: 0
Status:   OK  

Command output

##############################################################################
##############################################################################
###
### Running command:
###
###   /home/biocbuild/bbs-3.14-bioc/R/bin/R CMD INSTALL metaseqR2
###
##############################################################################
##############################################################################


* installing to library ‘/home/biocbuild/bbs-3.14-bioc/R/library’
* installing *source* package ‘metaseqR2’ ...
** using staged installation
** libs
gcc -I"/home/biocbuild/bbs-3.14-bioc/R/include" -DNDEBUG   -I/usr/local/include   -fpic  -g -O2  -Wall -c pval.c -o pval.o
pval.c: In function ‘add_from_both_sides’:
pval.c:26:11: warning: unused variable ‘esttotalperlength’ [-Wunused-variable]
   26 |    double esttotalperlength = total/2;
      |           ^~~~~~~~~~~~~~~~~
gcc -shared -L/home/biocbuild/bbs-3.14-bioc/R/lib -L/usr/local/lib -o metaseqR2.so pval.o -L/home/biocbuild/bbs-3.14-bioc/R/lib -lR
installing to /home/biocbuild/bbs-3.14-bioc/R/library/00LOCK-metaseqR2/00new/metaseqR2/libs
** R
** data
** inst
** byte-compile and prepare package for lazy loading
** help
*** installing help indices
** building package indices
** installing vignettes
** testing if installed package can be loaded from temporary location
** checking absolute paths in shared objects and dynamic libraries
** testing if installed package can be loaded from final location
** testing if installed package keeps a record of temporary installation path
* DONE (metaseqR2)