Back to Multiple platform build/check report for BioC 3.20:   simplified   long
AB[C]DEFGHIJKLMNOPQRSTUVWXYZ

This page was generated on 2024-07-18 11:42 -0400 (Thu, 18 Jul 2024).

HostnameOSArch (*)R versionInstalled pkgs
nebbiolo2Linux (Ubuntu 22.04.3 LTS)x86_644.4.1 (2024-06-14) -- "Race for Your Life" 4683
palomino8Windows Server 2022 Datacenterx644.4.1 (2024-06-14 ucrt) -- "Race for Your Life" 4379
lconwaymacOS 12.7.1 Montereyx86_644.4.1 (2024-06-14) -- "Race for Your Life" 4450
kjohnson3macOS 13.6.5 Venturaarm644.4.1 (2024-06-14) -- "Race for Your Life" 4399
Click on any hostname to see more info about the system (e.g. compilers)      (*) as reported by 'uname -p', except on Windows and Mac OS X

Package 419/2248HostnameOS / ArchINSTALLBUILDCHECKBUILD BIN
CONFESS 1.33.0  (landing page)
Diana LOW
Snapshot Date: 2024-07-17 14:00 -0400 (Wed, 17 Jul 2024)
git_url: https://git.bioconductor.org/packages/CONFESS
git_branch: devel
git_last_commit: a992203
git_last_commit_date: 2024-04-30 10:50:05 -0400 (Tue, 30 Apr 2024)
nebbiolo2Linux (Ubuntu 22.04.3 LTS) / x86_64  OK    OK    WARNINGS  UNNEEDED, same version is already published
palomino8Windows Server 2022 Datacenter / x64  OK    OK    WARNINGS    OK  UNNEEDED, same version is already published
lconwaymacOS 12.7.1 Monterey / x86_64  OK    OK    WARNINGS    OK  UNNEEDED, same version is already published
kjohnson3macOS 13.6.5 Ventura / arm64  OK    OK    WARNINGS    OK  UNNEEDED, same version is already published


BUILD BIN results for CONFESS on kjohnson3

To the developers/maintainers of the CONFESS package:
- Allow up to 24 hours (and sometimes 48 hours) for your latest push to git@git.bioconductor.org:packages/CONFESS.git to reflect on this report. See Troubleshooting Build Report for more information.
- Use the following Renviron settings to reproduce errors and warnings.
- If 'R CMD check' started to fail recently on the Linux builder(s) over a missing dependency, add the missing dependency to 'Suggests:' in your DESCRIPTION file. See Renviron.bioc for more information.

raw results


Summary

Package: CONFESS
Version: 1.33.0
Command: rm -rf CONFESS.buildbin-libdir && mkdir CONFESS.buildbin-libdir && /Users/biocbuild/BBS/utils/build-universal.sh CONFESS_1.33.0.tar.gz /Library/Frameworks/R.framework/Resources/bin/R CONFESS.buildbin-libdir
StartedAt: 2024-07-18 02:08:12 -0400 (Thu, 18 Jul 2024)
EndedAt: 2024-07-18 02:08:35 -0400 (Thu, 18 Jul 2024)
EllapsedTime: 23.4 seconds
RetCode: 0
Status:   OK  
PackageFile: CONFESS_1.33.0.tgz
PackageFileSize: 3.13 MiB

Command output

##############################################################################
##############################################################################
###
### Running command:
###
###   rm -rf CONFESS.buildbin-libdir && mkdir CONFESS.buildbin-libdir && /Users/biocbuild/BBS/utils/build-universal.sh CONFESS_1.33.0.tar.gz /Library/Frameworks/R.framework/Resources/bin/R CONFESS.buildbin-libdir
###
##############################################################################
##############################################################################


>>>>>>> 
>>>>>>> INSTALLATION WITH 'R CMD INSTALL --preclean --no-multiarch --library=CONFESS.buildbin-libdir CONFESS_1.33.0.tar.gz'
>>>>>>> 

* installing *source* package ‘CONFESS’ ...
** using staged installation
** R
** data
*** moving datasets to lazyload DB
** inst
** byte-compile and prepare package for lazy loading
Warning: replacing previous import ‘stats::BIC’ by ‘flowMerge::BIC’ when loading ‘CONFESS’
** help
*** installing help indices
** building package indices
** installing vignettes
** testing if installed package can be loaded from temporary location
Warning: replacing previous import ‘stats::BIC’ by ‘flowMerge::BIC’ when loading ‘CONFESS’
** testing if installed package can be loaded from final location
Warning: replacing previous import ‘stats::BIC’ by ‘flowMerge::BIC’ when loading ‘CONFESS’
** testing if installed package keeps a record of temporary installation path
* DONE (CONFESS)