Back to Build/check report for BioC 3.13
ABCDEFGHIJKL[M]NOPQRSTUVWXYZ

Build/check report for BioC 3.13

Results for MBttest

This page was generated on 2020-10-30 10:53:26 -0400 (Fri, 30 Oct 2020).

Package 989/1906HostnameOS / ArchINSTALLBUILDCHECKBUILD BIN
MBttest 1.19.0
Yuan-De Tan
Snapshot Date: 2020-10-29 14:40:27 -0400 (Thu, 29 Oct 2020)
URL: https://git.bioconductor.org/packages/MBttest
Branch: master
Last Commit: 5c9eb07
Last Changed Date: 2020-10-27 11:35:45 -0400 (Tue, 27 Oct 2020)
malbec2 Linux (Ubuntu 18.04.4 LTS) / x86_64  OK  OK  OK UNNEEDED, same version exists in internal repository