Back to Build/check report for BioC 3.16
ABCDEFGHIJKLMNO[P]QRSTUVWXYZ

This page was generated on 2022-06-27 11:05:27 -0400 (Mon, 27 Jun 2022).

HostnameOSArch (*)R versionInstalled pkgs
nebbiolo2Linux (Ubuntu 20.04.4 LTS)x86_644.2.0 Patched (2022-06-02 r82447) -- "Vigorous Calisthenics" 4331
Click on any hostname to see more info about the system (e.g. compilers)      (*) as reported by 'uname -p', except on Windows and Mac OS X

BUILD results for puma on nebbiolo2


To the developers/maintainers of the puma package:
- Please allow up to 24 hours (and sometimes 48 hours) for your latest push to git@git.bioconductor.org:packages/puma.git to
reflect on this report. See How and When does the builder pull? When will my changes propagate? for more information.
- Make sure to use the following settings in order to reproduce any error or warning you see on this page.

raw results

Package 1506/2118HostnameOS / ArchINSTALLBUILDCHECKBUILD BIN
puma 3.39.0  (landing page)
Xuejun Liu
Snapshot Date: 2022-06-26 14:00:03 -0400 (Sun, 26 Jun 2022)
git_url: https://git.bioconductor.org/packages/puma
git_branch: master
git_last_commit: 42f60dd
git_last_commit_date: 2022-04-26 10:59:55 -0400 (Tue, 26 Apr 2022)
nebbiolo2Linux (Ubuntu 20.04.4 LTS) / x86_64  OK    OK    OK  UNNEEDED, same version is already published

Summary

Package: puma
Version: 3.39.0
Command: /home/biocbuild/bbs-3.16-bioc/R/bin/R CMD build --keep-empty-dirs --no-resave-data puma
StartedAt: 2022-06-26 17:23:48 -0400 (Sun, 26 Jun 2022)
EndedAt: 2022-06-26 17:26:01 -0400 (Sun, 26 Jun 2022)
EllapsedTime: 133.2 seconds
RetCode: 0
Status:   OK  
PackageFile: puma_3.39.0.tar.gz
PackageFileSize: 3.249 MiB

Command output

##############################################################################
##############################################################################
###
### Running command:
###
###   /home/biocbuild/bbs-3.16-bioc/R/bin/R CMD build --keep-empty-dirs --no-resave-data puma
###
##############################################################################
##############################################################################


* checking for file ‘puma/DESCRIPTION’ ... OK
* preparing ‘puma’:
* checking DESCRIPTION meta-information ... OK
* cleaning src
* installing the package to build vignettes
* creating vignettes ... OK
Warning: ‘inst/doc’ files
    ‘puma.Rnw’, ‘puma.pdf’
  ignored as vignettes have been rebuilt.
  Run R CMD build with --no-build-vignettes to prevent rebuilding.
* cleaning src
* checking for LF line-endings in source and make files and shell scripts
* checking for empty or unneeded directories
* looking to see if a ‘data/datalist’ file should be added
* building ‘puma_3.39.0.tar.gz’