Back to Build/check report for BioC 3.16
ABCDEFGHIJKLMNOPQR[S]TUVWXYZ

This page was generated on 2022-06-27 11:05:10 -0400 (Mon, 27 Jun 2022).

HostnameOSArch (*)R versionInstalled pkgs
nebbiolo2Linux (Ubuntu 20.04.4 LTS)x86_644.2.0 Patched (2022-06-02 r82447) -- "Vigorous Calisthenics" 4331
Click on any hostname to see more info about the system (e.g. compilers)      (*) as reported by 'uname -p', except on Windows and Mac OS X

All results for package systemPipeR


To the developers/maintainers of the systemPipeR package:
- Please allow up to 24 hours (and sometimes 48 hours) for your latest push to git@git.bioconductor.org:packages/systemPipeR.git to
reflect on this report. See How and When does the builder pull? When will my changes propagate? for more information.
- Make sure to use the following settings in order to reproduce any error or warning you see on this page.

raw results

Package 1954/2118HostnameOS / ArchINSTALLBUILDCHECKBUILD BIN
systemPipeR 2.3.2  (landing page)
Thomas Girke
Snapshot Date: 2022-06-26 14:00:03 -0400 (Sun, 26 Jun 2022)
git_url: https://git.bioconductor.org/packages/systemPipeR
git_branch: master
git_last_commit: e802523
git_last_commit_date: 2022-04-29 19:42:47 -0400 (Fri, 29 Apr 2022)
nebbiolo2Linux (Ubuntu 20.04.4 LTS) / x86_64  OK    OK    OK  UNNEEDED, same version is already published

Results for Bioconductor software packages that depend directly on package systemPipeR

QUICK STATSOS / ArchINSTALLBUILDCHECKBUILD BIN
nebbiolo2Linux (Ubuntu 20.04.4 LTS) / x86_64
002
002
0101
Package 1/2HostnameOS / ArchINSTALLBUILDCHECKBUILD BIN
DiffBind 3.7.1  (landing page)
Rory Stark
git_last_commit: 6fd31d9
git_last_commit_date: 2022-05-13 09:08:58 -0400
nebbiolo2Linux (Ubuntu 20.04.4 LTS) / x86_64  OK    OK    OK  UNNEEDED, same version is already published
Package 2/2HostnameOS / ArchINSTALLBUILDCHECKBUILD BIN
RNASeqR 1.15.1  (landing page)
Kuan-Hao Chao
git_last_commit: c13124c
git_last_commit_date: 2022-05-04 12:42:15 -0400
nebbiolo2Linux (Ubuntu 20.04.4 LTS) / x86_64  OK    OK    ERROR