Back to Multiple platform build/check report for BioC 3.19: simplified long |
|
This page was generated on 2024-03-28 11:39:38 -0400 (Thu, 28 Mar 2024).
Hostname | OS | Arch (*) | R version | Installed pkgs |
---|---|---|---|---|
nebbiolo1 | Linux (Ubuntu 22.04.3 LTS) | x86_64 | R Under development (unstable) (2024-03-18 r86148) -- "Unsuffered Consequences" | 4708 |
palomino3 | Windows Server 2022 Datacenter | x64 | R Under development (unstable) (2024-03-16 r86144 ucrt) -- "Unsuffered Consequences" | 4446 |
lconway | macOS 12.7.1 Monterey | x86_64 | R Under development (unstable) (2024-03-18 r86148) -- "Unsuffered Consequences" | 4471 |
kunpeng2 | Linux (openEuler 22.03 LTS-SP1) | aarch64 | R Under development (unstable) (2024-03-19 r86153) -- "Unsuffered Consequences" | 4426 |
Click on any hostname to see more info about the system (e.g. compilers) (*) as reported by 'uname -p', except on Windows and Mac OS X |
Package 1325/2270 | Hostname | OS / Arch | INSTALL | BUILD | CHECK | BUILD BIN | ||||||||
MsBackendRawFileReader 1.9.1 (landing page) Christian Panse
| nebbiolo1 | Linux (Ubuntu 22.04.3 LTS) / x86_64 | OK | OK | OK | |||||||||
palomino3 | Windows Server 2022 Datacenter / x64 | OK | OK | OK | OK | |||||||||
lconway | macOS 12.7.1 Monterey / x86_64 | OK | OK | OK | OK | |||||||||
kunpeng2 | Linux (openEuler 22.03 LTS-SP1) / aarch64 | OK | OK | OK | ||||||||||
To the developers/maintainers of the MsBackendRawFileReader package: - Allow up to 24 hours (and sometimes 48 hours) for your latest push to git@git.bioconductor.org:packages/MsBackendRawFileReader.git to reflect on this report. See Troubleshooting Build Report for more information. - Use the following Renviron settings to reproduce errors and warnings. - If 'R CMD check' started to fail recently on the Linux builder(s) over a missing dependency, add the missing dependency to 'Suggests:' in your DESCRIPTION file. See Renviron.bioc for more information. |
Package: MsBackendRawFileReader |
Version: 1.9.1 |
Command: /Library/Frameworks/R.framework/Resources/bin/R CMD check --install=check:MsBackendRawFileReader.install-out.txt --library=/Library/Frameworks/R.framework/Resources/library --no-vignettes --timings MsBackendRawFileReader_1.9.1.tar.gz |
StartedAt: 2024-03-27 22:36:11 -0400 (Wed, 27 Mar 2024) |
EndedAt: 2024-03-27 22:40:36 -0400 (Wed, 27 Mar 2024) |
EllapsedTime: 265.2 seconds |
RetCode: 0 |
Status: OK |
CheckDir: MsBackendRawFileReader.Rcheck |
Warnings: 0 |
############################################################################## ############################################################################## ### ### Running command: ### ### /Library/Frameworks/R.framework/Resources/bin/R CMD check --install=check:MsBackendRawFileReader.install-out.txt --library=/Library/Frameworks/R.framework/Resources/library --no-vignettes --timings MsBackendRawFileReader_1.9.1.tar.gz ### ############################################################################## ############################################################################## * using log directory ‘/Users/biocbuild/bbs-3.19-bioc/meat/MsBackendRawFileReader.Rcheck’ * using R Under development (unstable) (2024-03-18 r86148) * using platform: x86_64-apple-darwin20 * R was compiled by Apple clang version 14.0.0 (clang-1400.0.29.202) GNU Fortran (GCC) 12.2.0 * running under: macOS Monterey 12.7.1 * using session charset: UTF-8 * using option ‘--no-vignettes’ * checking for file ‘MsBackendRawFileReader/DESCRIPTION’ ... OK * checking extension type ... Package * this is package ‘MsBackendRawFileReader’ version ‘1.9.1’ * package encoding: UTF-8 * checking package namespace information ... OK * checking package dependencies ... OK * checking if this is a source package ... OK * checking if there is a namespace ... OK * checking for hidden files and directories ... OK * checking for portable file names ... OK * checking for sufficient/correct file permissions ... OK * checking whether package ‘MsBackendRawFileReader’ can be installed ... OK * checking installed package size ... OK * checking package directory ... OK * checking ‘build’ directory ... OK * checking DESCRIPTION meta-information ... OK * checking top-level files ... OK * checking for left-over files ... OK * checking index information ... OK * checking package subdirectories ... OK * checking code files for non-ASCII characters ... OK * checking R files for syntax errors ... OK * checking whether the package can be loaded ... OK * checking whether the package can be loaded with stated dependencies ... OK * checking whether the package can be unloaded cleanly ... OK * checking whether the namespace can be loaded with stated dependencies ... OK * checking whether the namespace can be unloaded cleanly ... OK * checking whether startup messages can be suppressed ... OK * checking dependencies in R code ... OK * checking S3 generic/method consistency ... OK * checking replacement functions ... OK * checking foreign function calls ... OK * checking R code for possible problems ... NOTE filterScan,MsBackendRawFileReader : <anonymous>: no visible global function definition for ‘scanIndex’ peaksData,MsBackendRawFileReader: no visible global function definition for ‘scanIndex’ Undefined global functions or variables: scanIndex * checking Rd files ... OK * checking Rd metadata ... OK * checking Rd cross-references ... OK * checking for missing documentation entries ... OK * checking for code/documentation mismatches ... OK * checking Rd \usage sections ... OK * checking Rd contents ... OK * checking for unstated dependencies in examples ... OK * checking files in ‘vignettes’ ... OK * checking examples ... OK Examples with CPU (user + system) or elapsed time > 5s user system elapsed ioBenchmark 50.808 12.255 25.551 MsBackendRawFileReader 6.798 2.971 10.538 MsBackendRawFileReader-class 4.449 1.539 6.659 * checking for unstated dependencies in ‘tests’ ... OK * checking tests ... Running ‘testthat.R’ OK * checking for unstated dependencies in vignettes ... OK * checking package vignettes ... OK * checking running R code from vignettes ... SKIPPED * checking re-building of vignette outputs ... SKIPPED * checking PDF version of manual ... OK * DONE Status: 1 NOTE See ‘/Users/biocbuild/bbs-3.19-bioc/meat/MsBackendRawFileReader.Rcheck/00check.log’ for details.
MsBackendRawFileReader.Rcheck/00install.out
############################################################################## ############################################################################## ### ### Running command: ### ### /Library/Frameworks/R.framework/Resources/bin/R CMD INSTALL MsBackendRawFileReader ### ############################################################################## ############################################################################## * installing to library ‘/Library/Frameworks/R.framework/Versions/4.4-x86_64/Resources/library’ * installing *source* package ‘MsBackendRawFileReader’ ... ** using staged installation ** R ** inst ** byte-compile and prepare package for lazy loading ** help *** installing help indices ** building package indices ** installing vignettes ** testing if installed package can be loaded from temporary location ** testing if installed package can be loaded from final location ** testing if installed package keeps a record of temporary installation path * DONE (MsBackendRawFileReader)
MsBackendRawFileReader.Rcheck/tests/testthat.Rout
R Under development (unstable) (2024-03-18 r86148) -- "Unsuffered Consequences" Copyright (C) 2024 The R Foundation for Statistical Computing Platform: x86_64-apple-darwin20 R is free software and comes with ABSOLUTELY NO WARRANTY. You are welcome to redistribute it under certain conditions. Type 'license()' or 'licence()' for distribution details. R is a collaborative project with many contributors. Type 'contributors()' for more information and 'citation()' on how to cite R or R packages in publications. Type 'demo()' for some demos, 'help()' for on-line help, or 'help.start()' for an HTML browser interface to help. Type 'q()' to quit R. > library("testthat") > library("MsBackendRawFileReader") Loading required package: Spectra Loading required package: S4Vectors Loading required package: stats4 Loading required package: BiocGenerics Attaching package: 'BiocGenerics' The following objects are masked from 'package:stats': IQR, mad, sd, var, xtabs The following objects are masked from 'package:base': Filter, Find, Map, Position, Reduce, anyDuplicated, aperm, append, as.data.frame, basename, cbind, colnames, dirname, do.call, duplicated, eval, evalq, get, grep, grepl, intersect, is.unsorted, lapply, mapply, match, mget, order, paste, pmax, pmax.int, pmin, pmin.int, rank, rbind, rownames, sapply, setdiff, table, tapply, union, unique, unsplit, which.max, which.min Attaching package: 'S4Vectors' The following object is masked from 'package:utils': findMatches The following objects are masked from 'package:base': I, expand.grid, unname Loading required package: BiocParallel Loading required package: ProtGenerics Attaching package: 'ProtGenerics' The following object is masked from 'package:stats': smooth > library("Spectra") > > > sample_raw_file <- file.path(system.file(package = "rawrr"), + 'extdata', 'sample.raw') > > sample_mzXML_file <- file.path(path.package(package = 'MsBackendRawFileReader'), + 'extdata', 'sample.mzXML') > > > sample_raw <- backendInitialize(MsBackendRawFileReader::MsBackendRawFileReader(), files = sample_raw_file) > > > #sample_mzr <- backendInitialize(MsBackendMzR(), files = sample_mzXML_file) > > > mgf_file <- file.path(system.file(package = "MsBackendRawFileReader"), + 'extdata', '3159619b11ed_4590_9594.mgf') > > > rv <- lapply(1:2, function(x){ + file.copy(from = sample_raw_file, to = tempfile(fileext='.raw'))}) > > > register(SnowParam(workers = 1, type = "SOCK") , default = TRUE); > sample_raw_2 <- backendInitialize(MsBackendRawFileReader(), + files = file.path(tempdir(), + list.files(path = tempdir(), pattern = 'raw$'))) > > > test_check("MsBackendRawFileReader") [ FAIL 0 | WARN 1 | SKIP 2 | PASS 21 ] ══ Skipped tests (2) ═══════════════════════════════════════════════════════════ • isFALSE(file.exists(sample_mzXML_file)) is TRUE (1): 'test_MsBackendMzR_MsBackendRawFileReader.R:1:1' • isFALSE(require(MsBackendRawMgf)) is TRUE (1): 'test_top_n_mgf.R:1:1' [ FAIL 0 | WARN 1 | SKIP 2 | PASS 21 ] > > > be <- Spectra::backendInitialize(MsBackendRawFileReader::MsBackendRawFileReader(), + files = c(sample_raw_file)) > > ## Run the MsBackend spectra variable test suite > test_suite <- system.file("test_backends", "test_MsBackend", + package = "Spectra") > > #res <- test_file(paste0(test_suite, "/test_spectra_variables.R"), > # reporter = check_reporter(), stop_on_failure = TRUE) > > > ## Run the whole suite. > res <- test_dir(test_suite, stop_on_failure = TRUE) ✔ | F W S OK | Context ⠏ | 0 | peaks_variables ⠙ | 2 | peaks_variables ⠸ | 4 | peaks_variables ✔ | 4 | peaks_variables [6.0s] ⠏ | 0 | spectra_subsetting ⠋ | 1 | spectra_subsetting ⠹ | 13 | spectra_subsetting ⠼ | 25 | spectra_subsetting ⠸ | 34 | spectra_subsetting ⠸ | 44 | spectra_subsetting ⠼ | 55 | spectra_subsetting ⠼ | 65 | spectra_subsetting ⠼ | 75 | spectra_subsetting ⠼ | 85 | spectra_subsetting ⠦ | 97 | spectra_subsetting ⠦ | 107 | spectra_subsetting ⠧ | 118 | spectra_subsetting ⠇ | 129 | spectra_subsetting ⠇ | 139 | spectra_subsetting ⠇ | 149 | spectra_subsetting ⠏ | 160 | spectra_subsetting ⠙ | 172 | spectra_subsetting ⠋ | 181 | spectra_subsetting ⠹ | 193 | spectra_subsetting ⠸ | 204 | spectra_subsetting ⠙ | 212 | spectra_subsetting ⠹ | 223 | spectra_subsetting ⠸ | 234 | spectra_subsetting ⠸ | 244 | spectra_subsetting ⠹ | 253 | spectra_subsetting ⠹ | 263 | spectra_subsetting ⠸ | 274 | spectra_subsetting ⠹ | 283 | spectra_subsetting ⠙ | 292 | spectra_subsetting ⠹ | 303 | spectra_subsetting ⠹ | 313 | spectra_subsetting ⠙ | 322 | spectra_subsetting ⠸ | 334 | spectra_subsetting ⠴ | 346 | spectra_subsetting ⠼ | 355 | spectra_subsetting ⠸ | 364 | spectra_subsetting ⠴ | 376 | spectra_subsetting ⠴ | 386 | spectra_subsetting ⠴ | 396 | spectra_subsetting ⠴ | 406 | spectra_subsetting ⠧ | 418 | spectra_subsetting ⠦ | 427 | spectra_subsetting ⠴ | 436 | spectra_subsetting ⠧ | 448 | spectra_subsetting ⠇ | 459 | spectra_subsetting ⠦ | 467 | spectra_subsetting ⠧ | 478 | spectra_subsetting ⠏ | 490 | spectra_subsetting ⠇ | 499 | spectra_subsetting ⠧ | 508 | spectra_subsetting ⠏ | 520 | spectra_subsetting ⠋ | 531 | spectra_subsetting ⠇ | 539 | spectra_subsetting ⠏ | 550 | spectra_subsetting ⠙ | 562 | spectra_subsetting ⠙ | 572 | spectra_subsetting ⠹ | 583 | spectra_subsetting ⠼ | 595 | spectra_subsetting ⠦ | 607 | spectra_subsetting ⠦ | 617 | spectra_subsetting ⠧ | 628 | spectra_subsetting ⠏ | 640 | spectra_subsetting ⠇ | 649 | spectra_subsetting ⠋ | 661 | spectra_subsetting ⠹ | 673 | spectra_subsetting ⠙ | 682 | spectra_subsetting ⠙ | 692 | spectra_subsetting ⠹ | 703 | spectra_subsetting ⠹ | 713 | spectra_subsetting ⠋ | 721 | spectra_subsetting ⠹ | 733 | spectra_subsetting ⠼ | 745 | spectra_subsetting ⠸ | 754 | spectra_subsetting ⠼ | 765 | spectra_subsetting ⠼ | 775 | spectra_subsetting ⠦ | 787 | spectra_subsetting ⠴ | 796 | spectra_subsetting ⠧ | 808 | spectra_subsetting ⠇ | 819 | spectra_subsetting ⠦ | 827 | spectra_subsetting ⠧ | 838 | spectra_subsetting ⠏ | 850 | spectra_subsetting ⠏ | 860 | spectra_subsetting ⠋ | 871 | spectra_subsetting ⠹ | 883 | spectra_subsetting ⠸ | 894 | spectra_subsetting ⠙ | 902 | spectra_subsetting ⠹ | 913 | spectra_subsetting ⠼ | 925 | spectra_subsetting ⠸ | 934 | spectra_subsetting ⠹ | 943 | spectra_subsetting ⠼ | 955 | spectra_subsetting ⠼ | 965 | spectra_subsetting ⠸ | 974 | spectra_subsetting ⠼ | 985 | spectra_subsetting ⠦ | 997 | spectra_subsetting ⠴ | 1006 | spectra_subsetting ⠴ | 1016 | spectra_subsetting ⠦ | 1027 | spectra_subsetting ⠦ | 1037 | spectra_subsetting ⠼ | 1045 | spectra_subsetting ⠦ | 1057 | spectra_subsetting ⠇ | 1069 | spectra_subsetting ⠧ | 1078 | spectra_subsetting ⠇ | 1089 | spectra_subsetting ⠇ | 1099 | spectra_subsetting ⠏ | 1110 | spectra_subsetting ⠧ | 1118 | spectra_subsetting ⠇ | 1129 | spectra_subsetting ⠇ | 1139 | spectra_subsetting ⠧ | 1148 | spectra_subsetting ⠧ | 1158 | spectra_subsetting ⠧ | 1168 | spectra_subsetting ⠏ | 1180 | spectra_subsetting ⠇ | 1189 | spectra_subsetting ⠋ | 1201 | spectra_subsetting ⠹ | 1213 | spectra_subsetting ⠙ | 1222 | spectra_subsetting ⠸ | 1234 | spectra_subsetting ⠴ | 1246 | spectra_subsetting ⠼ | 1255 | spectra_subsetting ⠦ | 1267 | spectra_subsetting ⠇ | 1279 | spectra_subsetting ⠏ | 1290 | spectra_subsetting ⠧ | 1298 | spectra_subsetting ⠇ | 1309 | spectra_subsetting ⠋ | 1321 | spectra_subsetting ⠏ | 1330 | spectra_subsetting ⠙ | 1342 | spectra_subsetting ⠹ | 1353 | spectra_subsetting ⠹ | 1363 | spectra_subsetting ⠼ | 1375 | spectra_subsetting ⠦ | 1387 | spectra_subsetting ⠦ | 1397 | spectra_subsetting ⠼ | 1405 | spectra_subsetting ⠦ | 1417 | spectra_subsetting ⠇ | 1429 | spectra_subsetting ⠧ | 1438 | spectra_subsetting ⠏ | 1450 | spectra_subsetting ⠏ | 1460 | spectra_subsetting ⠧ | 1468 | spectra_subsetting ⠧ | 1478 | spectra_subsetting ⠇ | 1489 | spectra_subsetting ⠋ | 1501 | spectra_subsetting ⠏ | 1510 | spectra_subsetting ⠏ | 1520 | spectra_subsetting ⠋ | 1531 | spectra_subsetting ⠏ | 1540 | spectra_subsetting ⠏ | 1550 | spectra_subsetting ⠋ | 1561 | spectra_subsetting ⠹ | 1573 | spectra_subsetting ⠙ | 1582 | spectra_subsetting ⠸ | 1594 | spectra_subsetting ⠼ | 1605 | spectra_subsetting ⠙ | 1612 | spectra_subsetting ⠙ | 1622 | spectra_subsetting ⠹ | 1633 | spectra_subsetting ⠼ | 1645 | spectra_subsetting ⠼ | 1655 | spectra_subsetting ⠴ | 1666 | spectra_subsetting ⠧ | 1678 | spectra_subsetting ⠦ | 1687 | spectra_subsetting ⠧ | 1698 | spectra_subsetting ⠧ | 1708 | spectra_subsetting ⠧ | 1718 | spectra_subsetting ⠴ | 1726 | spectra_subsetting ⠦ | 1727 | spectra_subsetting ⠇ | 1729 | spectra_subsetting ⠋ | 1731 | spectra_subsetting ⠹ | 1733 | spectra_subsetting ⠼ | 1735 | spectra_subsetting ⠦ | 1737 | spectra_subsetting ⠇ | 1739 | spectra_subsetting ⠋ | 1741 | spectra_subsetting ⠹ | 1743 | spectra_subsetting ⠸ | 1744 | spectra_subsetting ⠴ | 1746 | spectra_subsetting ⠧ | 1748 | spectra_subsetting ⠏ | 1750 | spectra_subsetting ⠙ | 1752 | spectra_subsetting ⠸ | 1754 | spectra_subsetting ⠴ | 1756 | spectra_subsetting ⠧ | 1758 | spectra_subsetting ⠏ | 1760 | spectra_subsetting ⠙ | 1762 | spectra_subsetting ⠹ | 1763 | spectra_subsetting ⠼ | 1765 | spectra_subsetting ⠦ | 1767 | spectra_subsetting ⠇ | 1769 | spectra_subsetting ⠋ | 1771 | spectra_subsetting ⠹ | 1773 | spectra_subsetting ⠼ | 1775 | spectra_subsetting ⠦ | 1777 | spectra_subsetting ⠇ | 1779 | spectra_subsetting ⠋ | 1781 | spectra_subsetting ⠹ | 1783 | spectra_subsetting ⠼ | 1785 | spectra_subsetting ⠦ | 1787 | spectra_subsetting ⠇ | 1789 | spectra_subsetting ⠋ | 1791 | spectra_subsetting ⠹ | 1793 | spectra_subsetting ⠼ | 1795 | spectra_subsetting ⠦ | 1797 | spectra_subsetting ⠇ | 1799 | spectra_subsetting ⠋ | 1801 | spectra_subsetting ⠹ | 1803 | spectra_subsetting ⠼ | 1805 | spectra_subsetting ⠦ | 1807 | spectra_subsetting ⠇ | 1809 | spectra_subsetting ⠋ | 1811 | spectra_subsetting ⠹ | 1813 | spectra_subsetting ⠼ | 1815 | spectra_subsetting ⠦ | 1817 | spectra_subsetting ⠇ | 1819 | spectra_subsetting ⠋ | 1821 | spectra_subsetting ⠹ | 1823 | spectra_subsetting ⠼ | 1825 | spectra_subsetting ⠦ | 1827 | spectra_subsetting ⠇ | 1829 | spectra_subsetting ⠋ | 1831 | spectra_subsetting ⠹ | 1833 | spectra_subsetting ⠼ | 1835 | spectra_subsetting ⠦ | 1837 | spectra_subsetting ⠇ | 1839 | spectra_subsetting ⠋ | 1841 | spectra_subsetting ⠹ | 1843 | spectra_subsetting ⠼ | 1845 | spectra_subsetting ⠦ | 1847 | spectra_subsetting ⠇ | 1849 | spectra_subsetting ⠋ | 1851 | spectra_subsetting ⠹ | 1853 | spectra_subsetting ⠸ | 1854 | spectra_subsetting ⠴ | 1856 | spectra_subsetting ⠦ | 1857 | spectra_subsetting ⠇ | 1859 | spectra_subsetting ⠋ | 1861 | spectra_subsetting ⠹ | 1863 | spectra_subsetting ⠼ | 1865 | spectra_subsetting ⠦ | 1867 | spectra_subsetting ⠇ | 1869 | spectra_subsetting ⠋ | 1871 | spectra_subsetting ⠹ | 1873 | spectra_subsetting ⠼ | 1875 | spectra_subsetting ⠦ | 1877 | spectra_subsetting ⠇ | 1879 | spectra_subsetting ⠋ | 1881 | spectra_subsetting ⠹ | 1883 | spectra_subsetting ⠼ | 1885 | spectra_subsetting ⠦ | 1887 | spectra_subsetting ⠇ | 1889 | spectra_subsetting ⠋ | 1891 | spectra_subsetting ⠹ | 1893 | spectra_subsetting ⠼ | 1895 | spectra_subsetting ⠦ | 1897 | spectra_subsetting ⠇ | 1899 | spectra_subsetting ⠋ | 1901 | spectra_subsetting ⠹ | 1903 | spectra_subsetting ⠼ | 1905 | spectra_subsetting ⠦ | 1907 | spectra_subsetting ⠇ | 1909 | spectra_subsetting ⠋ | 1911 | spectra_subsetting ⠹ | 1913 | spectra_subsetting ⠼ | 1915 | spectra_subsetting ⠦ | 1917 | spectra_subsetting ⠇ | 1919 | spectra_subsetting ⠋ | 1921 | spectra_subsetting ⠹ | 1923 | spectra_subsetting ⠼ | 1925 | spectra_subsetting ⠦ | 1927 | spectra_subsetting ⠇ | 1929 | spectra_subsetting ⠋ | 1931 | spectra_subsetting ⠹ | 1933 | spectra_subsetting ⠼ | 1935 | spectra_subsetting ⠦ | 1937 | spectra_subsetting ⠇ | 1939 | spectra_subsetting ⠋ | 1941 | spectra_subsetting ⠹ | 1943 | spectra_subsetting ⠼ | 1945 | spectra_subsetting ⠦ | 1947 | spectra_subsetting ⠇ | 1949 | spectra_subsetting ⠋ | 1951 | spectra_subsetting ⠹ | 1953 | spectra_subsetting ⠼ | 1955 | spectra_subsetting ⠦ | 1957 | spectra_subsetting ⠇ | 1959 | spectra_subsetting ⠋ | 1961 | spectra_subsetting ⠹ | 1963 | spectra_subsetting ⠼ | 1965 | spectra_subsetting ⠦ | 1967 | spectra_subsetting ⠇ | 1969 | spectra_subsetting ⠋ | 1971 | spectra_subsetting ⠹ | 1973 | spectra_subsetting ⠼ | 1975 | spectra_subsetting ⠦ | 1977 | spectra_subsetting ⠇ | 1979 | spectra_subsetting ⠋ | 1981 | spectra_subsetting ⠹ | 1983 | spectra_subsetting ⠼ | 1985 | spectra_subsetting ⠦ | 1987 | spectra_subsetting ⠇ | 1989 | spectra_subsetting ⠋ | 1991 | spectra_subsetting ⠹ | 1993 | spectra_subsetting ⠼ | 1995 | spectra_subsetting ⠦ | 1997 | spectra_subsetting ⠇ | 1999 | spectra_subsetting ⠋ | 2001 | spectra_subsetting ⠹ | 2003 | spectra_subsetting ⠼ | 2005 | spectra_subsetting ⠦ | 2007 | spectra_subsetting ⠇ | 2009 | spectra_subsetting ⠋ | 2011 | spectra_subsetting ⠹ | 2013 | spectra_subsetting ⠼ | 2015 | spectra_subsetting ⠦ | 2017 | spectra_subsetting ⠇ | 2019 | spectra_subsetting ⠋ | 2021 | spectra_subsetting ⠹ | 2023 | spectra_subsetting ⠼ | 2025 | spectra_subsetting ⠦ | 2027 | spectra_subsetting ⠇ | 2029 | spectra_subsetting ⠋ | 2031 | spectra_subsetting ⠹ | 2033 | spectra_subsetting ⠼ | 2035 | spectra_subsetting ⠦ | 2037 | spectra_subsetting ⠇ | 2039 | spectra_subsetting ⠋ | 2041 | spectra_subsetting ⠹ | 2043 | spectra_subsetting ⠼ | 2045 | spectra_subsetting ⠦ | 2047 | spectra_subsetting ⠇ | 2049 | spectra_subsetting ⠋ | 2051 | spectra_subsetting ⠹ | 2053 | spectra_subsetting ⠼ | 2055 | spectra_subsetting ⠦ | 2057 | spectra_subsetting ⠇ | 2059 | spectra_subsetting ⠋ | 2061 | spectra_subsetting ⠹ | 2063 | spectra_subsetting ⠼ | 2065 | spectra_subsetting ⠦ | 2067 | spectra_subsetting ⠇ | 2069 | spectra_subsetting ⠋ | 2071 | spectra_subsetting ⠹ | 2073 | spectra_subsetting ⠼ | 2075 | spectra_subsetting ⠦ | 2077 | spectra_subsetting ⠇ | 2079 | spectra_subsetting ⠋ | 2081 | spectra_subsetting ⠹ | 2083 | spectra_subsetting ⠼ | 2085 | spectra_subsetting ⠦ | 2087 | spectra_subsetting ⠇ | 2089 | spectra_subsetting ⠋ | 2091 | spectra_subsetting ⠹ | 2093 | spectra_subsetting ⠼ | 2095 | spectra_subsetting ⠦ | 2097 | spectra_subsetting ⠇ | 2099 | spectra_subsetting ⠋ | 2101 | spectra_subsetting ⠹ | 2103 | spectra_subsetting ⠼ | 2105 | spectra_subsetting ⠦ | 2107 | spectra_subsetting ⠇ | 2109 | spectra_subsetting ⠋ | 2111 | spectra_subsetting ⠹ | 2113 | spectra_subsetting ⠼ | 2115 | spectra_subsetting ⠦ | 2117 | spectra_subsetting ⠇ | 2119 | spectra_subsetting ⠋ | 2121 | spectra_subsetting ⠹ | 2123 | spectra_subsetting ⠼ | 2125 | spectra_subsetting ⠦ | 2127 | spectra_subsetting ⠇ | 2129 | spectra_subsetting ⠋ | 2131 | spectra_subsetting ⠹ | 2133 | spectra_subsetting ⠼ | 2135 | spectra_subsetting ⠦ | 2137 | spectra_subsetting ⠇ | 2139 | spectra_subsetting ⠋ | 2141 | spectra_subsetting ⠹ | 2143 | spectra_subsetting ⠼ | 2145 | spectra_subsetting ⠦ | 2147 | spectra_subsetting ⠇ | 2149 | spectra_subsetting ⠋ | 2151 | spectra_subsetting ⠹ | 2153 | spectra_subsetting ⠼ | 2155 | spectra_subsetting ⠦ | 2157 | spectra_subsetting ⠇ | 2159 | spectra_subsetting ⠋ | 2161 | spectra_subsetting ⠹ | 2163 | spectra_subsetting ⠼ | 2165 | spectra_subsetting ⠦ | 2167 | spectra_subsetting ⠇ | 2169 | spectra_subsetting ⠋ | 2171 | spectra_subsetting ⠹ | 2173 | spectra_subsetting ⠼ | 2175 | spectra_subsetting ⠦ | 2177 | spectra_subsetting ⠇ | 2179 | spectra_subsetting ⠋ | 2181 | spectra_subsetting ⠹ | 2183 | spectra_subsetting ⠼ | 2185 | spectra_subsetting ⠦ | 2187 | spectra_subsetting ⠇ | 2189 | spectra_subsetting ⠋ | 2191 | spectra_subsetting ⠹ | 2193 | spectra_subsetting ⠼ | 2195 | spectra_subsetting ⠦ | 2197 | spectra_subsetting ⠇ | 2199 | spectra_subsetting ⠋ | 2201 | spectra_subsetting ⠹ | 2203 | spectra_subsetting ⠼ | 2205 | spectra_subsetting ⠦ | 2207 | spectra_subsetting ⠇ | 2209 | spectra_subsetting ⠋ | 2211 | spectra_subsetting ⠹ | 2213 | spectra_subsetting ⠼ | 2215 | spectra_subsetting ⠦ | 2217 | spectra_subsetting ⠇ | 2219 | spectra_subsetting ⠋ | 2221 | spectra_subsetting ⠹ | 2223 | spectra_subsetting ⠼ | 2225 | spectra_subsetting ⠦ | 2227 | spectra_subsetting ⠇ | 2229 | spectra_subsetting ⠋ | 2231 | spectra_subsetting ⠹ | 2233 | spectra_subsetting ⠼ | 2235 | spectra_subsetting ⠦ | 2237 | spectra_subsetting ⠇ | 2239 | spectra_subsetting ⠋ | 2241 | spectra_subsetting ⠹ | 2243 | spectra_subsetting ⠼ | 2245 | spectra_subsetting ⠦ | 2247 | spectra_subsetting ⠇ | 2249 | spectra_subsetting ⠋ | 2251 | spectra_subsetting ⠹ | 2253 | spectra_subsetting ⠼ | 2255 | spectra_subsetting ⠦ | 2257 | spectra_subsetting ⠇ | 2259 | spectra_subsetting ⠋ | 2261 | spectra_subsetting ⠹ | 2263 | spectra_subsetting ⠼ | 2265 | spectra_subsetting ⠦ | 2267 | spectra_subsetting ⠇ | 2269 | spectra_subsetting ⠋ | 2271 | spectra_subsetting ⠹ | 2273 | spectra_subsetting ⠼ | 2275 | spectra_subsetting ⠦ | 2277 | spectra_subsetting ⠇ | 2279 | spectra_subsetting ⠋ | 2281 | spectra_subsetting ⠹ | 2283 | spectra_subsetting ⠼ | 2285 | spectra_subsetting ⠦ | 2287 | spectra_subsetting ⠇ | 2289 | spectra_subsetting ⠋ | 2291 | spectra_subsetting ⠹ | 2293 | spectra_subsetting ⠼ | 2295 | spectra_subsetting ⠦ | 2297 | spectra_subsetting ⠇ | 2299 | spectra_subsetting ⠹ | 2303 | spectra_subsetting ⠧ | 2308 | spectra_subsetting ⠹ | 2313 | spectra_subsetting ⠦ | 2317 | spectra_subsetting ✔ | 2317 | spectra_subsetting [61.0s] ⠏ | 0 | spectra_variables ⠙ | 12 | spectra_variables ⠸ | 14 | spectra_variables ⠴ | 16 | spectra_variables ⠸ | 34 | spectra_variables ⠹ | 43 | spectra_variables ⠸ | 54 | spectra_variables ✔ | 1 62 | spectra_variables [12.4s] ══ Results ═════════════════════════════════════════════════════════════════════ Duration: 79.3 s ── Skipped tests (1) ─────────────────────────────────────────────────────────── • empty test (1): 'test_spectra_variables.R:262:1' [ FAIL 0 | WARN 0 | SKIP 1 | PASS 2383 ] > > proc.time() user system elapsed 107.376 15.957 127.771
MsBackendRawFileReader.Rcheck/MsBackendRawFileReader-Ex.timings
name | user | system | elapsed | |
MsBackendRawFileReader-class | 4.449 | 1.539 | 6.659 | |
MsBackendRawFileReader | 6.798 | 2.971 | 10.538 | |
hidden_aliases | 3.250 | 1.435 | 4.968 | |
ioBenchmark | 50.808 | 12.255 | 25.551 | |